BEGIN:VCALENDAR
VERSION:2.0
PRODID:-//Les communes genevoises//Agenda//FR
NAME:Les communes genevoises
X-WR-CALNAME:Les communes genevoises
BEGIN:VTIMEZONE
TZID:Europe/Zurich
BEGIN:STANDARD
DTSTART:20251026T030000
TZOFFSETFROM:+0200
TZOFFSETTO:+0100
END:STANDARD
BEGIN:DAYLIGHT
DTSTART:20260329T010000
TZOFFSETFROM:+0100
TZOFFSETTO:+0200
END:DAYLIGHT
BEGIN:STANDARD
DTSTART:20261025T030000
TZOFFSETFROM:+0200
TZOFFSETTO:+0100
END:STANDARD
END:VTIMEZONE
BEGIN:VTIMEZONE
TZID:UTC
BEGIN:STANDARD
DTSTART:20250728T112200
TZOFFSETFROM:+0000
TZOFFSETTO:+0000
END:STANDARD
END:VTIMEZONE
BEGIN:VEVENT
UID:7e02f979-566f-4dcd-9d47-71c49919e8a5-0
DTSTAMP:20260424T112200Z
SUMMARY:LAPIN LAPIN
DESCRIPTION:LAPIN LAPIN au théâtre Alchimic. Cette comédie nous rappelle
  ce qui fait notre force et nous donne de l'élan\, ce qui n'as pas de pri
 x. Notre radeau et notre terre promise\, c'est notre humanité.
LOCATION:Avenue Industrielle 10\, 1227 Carouge GE\, 1227 Carouge GE\, Suiss
 e
URL:https://www.geneve-communes.ch/agenda/lapin-lapin
DTSTART;TZID=Europe/Zurich:20260423T200000
DTEND;TZID=Europe/Zurich:20260423T214500
GEO:46.189501;6.134429
X-APPLE-STRUCTURED-LOCATION;VALUE=URI;X-ADDRESS=Avenue Industrielle 10\, 12
 27 Carouge GE\, 1227 Carouge GE\, Suisse;X-APPLE-RADIUS=72;X-TITLE=Théât
 re Alchimic:geo:46.189501,6.134429
END:VEVENT
BEGIN:VEVENT
UID:7e02f979-566f-4dcd-9d47-71c49919e8a5-1
DTSTAMP:20260424T112200Z
SUMMARY:LAPIN LAPIN
DESCRIPTION:LAPIN LAPIN au théâtre Alchimic. Cette comédie nous rappelle
  ce qui fait notre force et nous donne de l'élan\, ce qui n'as pas de pri
 x. Notre radeau et notre terre promise\, c'est notre humanité.
LOCATION:Avenue Industrielle 10\, 1227 Carouge GE\, 1227 Carouge GE\, Suiss
 e
URL:https://www.geneve-communes.ch/agenda/lapin-lapin
DTSTART;TZID=Europe/Zurich:20260424T190000
DTEND;TZID=Europe/Zurich:20260424T204500
GEO:46.189501;6.134429
X-APPLE-STRUCTURED-LOCATION;VALUE=URI;X-ADDRESS=Avenue Industrielle 10\, 12
 27 Carouge GE\, 1227 Carouge GE\, Suisse;X-APPLE-RADIUS=72;X-TITLE=Théât
 re Alchimic:geo:46.189501,6.134429
END:VEVENT
BEGIN:VEVENT
UID:7e02f979-566f-4dcd-9d47-71c49919e8a5-2
DTSTAMP:20260424T112200Z
SUMMARY:LAPIN LAPIN
DESCRIPTION:LAPIN LAPIN au théâtre Alchimic. Cette comédie nous rappelle
  ce qui fait notre force et nous donne de l'élan\, ce qui n'as pas de pri
 x. Notre radeau et notre terre promise\, c'est notre humanité.
LOCATION:Avenue Industrielle 10\, 1227 Carouge GE\, 1227 Carouge GE\, Suiss
 e
URL:https://www.geneve-communes.ch/agenda/lapin-lapin
DTSTART;TZID=Europe/Zurich:20260425T190000
DTEND;TZID=Europe/Zurich:20260425T204500
GEO:46.189501;6.134429
X-APPLE-STRUCTURED-LOCATION;VALUE=URI;X-ADDRESS=Avenue Industrielle 10\, 12
 27 Carouge GE\, 1227 Carouge GE\, Suisse;X-APPLE-RADIUS=72;X-TITLE=Théât
 re Alchimic:geo:46.189501,6.134429
END:VEVENT
BEGIN:VEVENT
UID:7e02f979-566f-4dcd-9d47-71c49919e8a5-3
DTSTAMP:20260424T112200Z
SUMMARY:LAPIN LAPIN
DESCRIPTION:LAPIN LAPIN au théâtre Alchimic. Cette comédie nous rappelle
  ce qui fait notre force et nous donne de l'élan\, ce qui n'as pas de pri
 x. Notre radeau et notre terre promise\, c'est notre humanité.
LOCATION:Avenue Industrielle 10\, 1227 Carouge GE\, 1227 Carouge GE\, Suiss
 e
URL:https://www.geneve-communes.ch/agenda/lapin-lapin
DTSTART;TZID=Europe/Zurich:20260426T190000
DTEND;TZID=Europe/Zurich:20260426T204500
GEO:46.189501;6.134429
X-APPLE-STRUCTURED-LOCATION;VALUE=URI;X-ADDRESS=Avenue Industrielle 10\, 12
 27 Carouge GE\, 1227 Carouge GE\, Suisse;X-APPLE-RADIUS=72;X-TITLE=Théât
 re Alchimic:geo:46.189501,6.134429
END:VEVENT
BEGIN:VEVENT
UID:7e02f979-566f-4dcd-9d47-71c49919e8a5-4
DTSTAMP:20260424T112200Z
SUMMARY:LAPIN LAPIN
DESCRIPTION:LAPIN LAPIN au théâtre Alchimic. Cette comédie nous rappelle
  ce qui fait notre force et nous donne de l'élan\, ce qui n'as pas de pri
 x. Notre radeau et notre terre promise\, c'est notre humanité.
LOCATION:Avenue Industrielle 10\, 1227 Carouge GE\, 1227 Carouge GE\, Suiss
 e
URL:https://www.geneve-communes.ch/agenda/lapin-lapin
DTSTART;TZID=Europe/Zurich:20260428T190000
DTEND;TZID=Europe/Zurich:20260428T204500
GEO:46.189501;6.134429
X-APPLE-STRUCTURED-LOCATION;VALUE=URI;X-ADDRESS=Avenue Industrielle 10\, 12
 27 Carouge GE\, 1227 Carouge GE\, Suisse;X-APPLE-RADIUS=72;X-TITLE=Théât
 re Alchimic:geo:46.189501,6.134429
END:VEVENT
BEGIN:VEVENT
UID:7e02f979-566f-4dcd-9d47-71c49919e8a5-5
DTSTAMP:20260424T112200Z
SUMMARY:LAPIN LAPIN
DESCRIPTION:LAPIN LAPIN au théâtre Alchimic. Cette comédie nous rappelle
  ce qui fait notre force et nous donne de l'élan\, ce qui n'as pas de pri
 x. Notre radeau et notre terre promise\, c'est notre humanité.
LOCATION:Avenue Industrielle 10\, 1227 Carouge GE\, 1227 Carouge GE\, Suiss
 e
URL:https://www.geneve-communes.ch/agenda/lapin-lapin
DTSTART;TZID=Europe/Zurich:20260429T190000
DTEND;TZID=Europe/Zurich:20260429T204500
GEO:46.189501;6.134429
X-APPLE-STRUCTURED-LOCATION;VALUE=URI;X-ADDRESS=Avenue Industrielle 10\, 12
 27 Carouge GE\, 1227 Carouge GE\, Suisse;X-APPLE-RADIUS=72;X-TITLE=Théât
 re Alchimic:geo:46.189501,6.134429
END:VEVENT
BEGIN:VEVENT
UID:7e02f979-566f-4dcd-9d47-71c49919e8a5-6
DTSTAMP:20260424T112200Z
SUMMARY:LAPIN LAPIN
DESCRIPTION:LAPIN LAPIN au théâtre Alchimic. Cette comédie nous rappelle
  ce qui fait notre force et nous donne de l'élan\, ce qui n'as pas de pri
 x. Notre radeau et notre terre promise\, c'est notre humanité.
LOCATION:Avenue Industrielle 10\, 1227 Carouge GE\, 1227 Carouge GE\, Suiss
 e
URL:https://www.geneve-communes.ch/agenda/lapin-lapin
DTSTART;TZID=Europe/Zurich:20260430T200000
DTEND;TZID=Europe/Zurich:20260430T214500
GEO:46.189501;6.134429
X-APPLE-STRUCTURED-LOCATION;VALUE=URI;X-ADDRESS=Avenue Industrielle 10\, 12
 27 Carouge GE\, 1227 Carouge GE\, Suisse;X-APPLE-RADIUS=72;X-TITLE=Théât
 re Alchimic:geo:46.189501,6.134429
END:VEVENT
BEGIN:VEVENT
UID:7e02f979-566f-4dcd-9d47-71c49919e8a5-7
DTSTAMP:20260424T112200Z
SUMMARY:LAPIN LAPIN
DESCRIPTION:LAPIN LAPIN au théâtre Alchimic. Cette comédie nous rappelle
  ce qui fait notre force et nous donne de l'élan\, ce qui n'as pas de pri
 x. Notre radeau et notre terre promise\, c'est notre humanité.
LOCATION:Avenue Industrielle 10\, 1227 Carouge GE\, 1227 Carouge GE\, Suiss
 e
URL:https://www.geneve-communes.ch/agenda/lapin-lapin
DTSTART;TZID=Europe/Zurich:20260501T190000
DTEND;TZID=Europe/Zurich:20260501T204500
GEO:46.189501;6.134429
X-APPLE-STRUCTURED-LOCATION;VALUE=URI;X-ADDRESS=Avenue Industrielle 10\, 12
 27 Carouge GE\, 1227 Carouge GE\, Suisse;X-APPLE-RADIUS=72;X-TITLE=Théât
 re Alchimic:geo:46.189501,6.134429
END:VEVENT
BEGIN:VEVENT
UID:7e02f979-566f-4dcd-9d47-71c49919e8a5-8
DTSTAMP:20260424T112200Z
SUMMARY:LAPIN LAPIN
DESCRIPTION:LAPIN LAPIN au théâtre Alchimic. Cette comédie nous rappelle
  ce qui fait notre force et nous donne de l'élan\, ce qui n'as pas de pri
 x. Notre radeau et notre terre promise\, c'est notre humanité.
LOCATION:Avenue Industrielle 10\, 1227 Carouge GE\, 1227 Carouge GE\, Suiss
 e
URL:https://www.geneve-communes.ch/agenda/lapin-lapin
DTSTART;TZID=Europe/Zurich:20260502T190000
DTEND;TZID=Europe/Zurich:20260502T204500
GEO:46.189501;6.134429
X-APPLE-STRUCTURED-LOCATION;VALUE=URI;X-ADDRESS=Avenue Industrielle 10\, 12
 27 Carouge GE\, 1227 Carouge GE\, Suisse;X-APPLE-RADIUS=72;X-TITLE=Théât
 re Alchimic:geo:46.189501,6.134429
END:VEVENT
BEGIN:VEVENT
UID:7e02f979-566f-4dcd-9d47-71c49919e8a5-9
DTSTAMP:20260424T112200Z
SUMMARY:LAPIN LAPIN
DESCRIPTION:LAPIN LAPIN au théâtre Alchimic. Cette comédie nous rappelle
  ce qui fait notre force et nous donne de l'élan\, ce qui n'as pas de pri
 x. Notre radeau et notre terre promise\, c'est notre humanité.
LOCATION:Avenue Industrielle 10\, 1227 Carouge GE\, 1227 Carouge GE\, Suiss
 e
URL:https://www.geneve-communes.ch/agenda/lapin-lapin
DTSTART;TZID=Europe/Zurich:20260503T190000
DTEND;TZID=Europe/Zurich:20260503T204500
GEO:46.189501;6.134429
X-APPLE-STRUCTURED-LOCATION;VALUE=URI;X-ADDRESS=Avenue Industrielle 10\, 12
 27 Carouge GE\, 1227 Carouge GE\, Suisse;X-APPLE-RADIUS=72;X-TITLE=Théât
 re Alchimic:geo:46.189501,6.134429
END:VEVENT
BEGIN:VEVENT
UID:7e02f979-566f-4dcd-9d47-71c49919e8a5-10
DTSTAMP:20260424T112200Z
SUMMARY:LAPIN LAPIN
DESCRIPTION:LAPIN LAPIN au théâtre Alchimic. Cette comédie nous rappelle
  ce qui fait notre force et nous donne de l'élan\, ce qui n'as pas de pri
 x. Notre radeau et notre terre promise\, c'est notre humanité.
LOCATION:Avenue Industrielle 10\, 1227 Carouge GE\, 1227 Carouge GE\, Suiss
 e
URL:https://www.geneve-communes.ch/agenda/lapin-lapin
DTSTART;TZID=Europe/Zurich:20260505T190000
DTEND;TZID=Europe/Zurich:20260505T204500
GEO:46.189501;6.134429
X-APPLE-STRUCTURED-LOCATION;VALUE=URI;X-ADDRESS=Avenue Industrielle 10\, 12
 27 Carouge GE\, 1227 Carouge GE\, Suisse;X-APPLE-RADIUS=72;X-TITLE=Théât
 re Alchimic:geo:46.189501,6.134429
END:VEVENT
BEGIN:VEVENT
UID:7e02f979-566f-4dcd-9d47-71c49919e8a5-11
DTSTAMP:20260424T112200Z
SUMMARY:LAPIN LAPIN
DESCRIPTION:LAPIN LAPIN au théâtre Alchimic. Cette comédie nous rappelle
  ce qui fait notre force et nous donne de l'élan\, ce qui n'as pas de pri
 x. Notre radeau et notre terre promise\, c'est notre humanité.
LOCATION:Avenue Industrielle 10\, 1227 Carouge GE\, 1227 Carouge GE\, Suiss
 e
URL:https://www.geneve-communes.ch/agenda/lapin-lapin
DTSTART;TZID=Europe/Zurich:20260506T190000
DTEND;TZID=Europe/Zurich:20260506T204500
GEO:46.189501;6.134429
X-APPLE-STRUCTURED-LOCATION;VALUE=URI;X-ADDRESS=Avenue Industrielle 10\, 12
 27 Carouge GE\, 1227 Carouge GE\, Suisse;X-APPLE-RADIUS=72;X-TITLE=Théât
 re Alchimic:geo:46.189501,6.134429
END:VEVENT
BEGIN:VEVENT
UID:7e02f979-566f-4dcd-9d47-71c49919e8a5-12
DTSTAMP:20260424T112200Z
SUMMARY:LAPIN LAPIN
DESCRIPTION:LAPIN LAPIN au théâtre Alchimic. Cette comédie nous rappelle
  ce qui fait notre force et nous donne de l'élan\, ce qui n'as pas de pri
 x. Notre radeau et notre terre promise\, c'est notre humanité.
LOCATION:Avenue Industrielle 10\, 1227 Carouge GE\, 1227 Carouge GE\, Suiss
 e
URL:https://www.geneve-communes.ch/agenda/lapin-lapin
DTSTART;TZID=Europe/Zurich:20260507T200000
DTEND;TZID=Europe/Zurich:20260507T214500
GEO:46.189501;6.134429
X-APPLE-STRUCTURED-LOCATION;VALUE=URI;X-ADDRESS=Avenue Industrielle 10\, 12
 27 Carouge GE\, 1227 Carouge GE\, Suisse;X-APPLE-RADIUS=72;X-TITLE=Théât
 re Alchimic:geo:46.189501,6.134429
END:VEVENT
BEGIN:VEVENT
UID:7e02f979-566f-4dcd-9d47-71c49919e8a5-13
DTSTAMP:20260424T112200Z
SUMMARY:LAPIN LAPIN
DESCRIPTION:LAPIN LAPIN au théâtre Alchimic. Cette comédie nous rappelle
  ce qui fait notre force et nous donne de l'élan\, ce qui n'as pas de pri
 x. Notre radeau et notre terre promise\, c'est notre humanité.
LOCATION:Avenue Industrielle 10\, 1227 Carouge GE\, 1227 Carouge GE\, Suiss
 e
URL:https://www.geneve-communes.ch/agenda/lapin-lapin
DTSTART;TZID=Europe/Zurich:20260508T190000
DTEND;TZID=Europe/Zurich:20260508T204500
GEO:46.189501;6.134429
X-APPLE-STRUCTURED-LOCATION;VALUE=URI;X-ADDRESS=Avenue Industrielle 10\, 12
 27 Carouge GE\, 1227 Carouge GE\, Suisse;X-APPLE-RADIUS=72;X-TITLE=Théât
 re Alchimic:geo:46.189501,6.134429
END:VEVENT
BEGIN:VEVENT
UID:7e02f979-566f-4dcd-9d47-71c49919e8a5-14
DTSTAMP:20260424T112200Z
SUMMARY:LAPIN LAPIN
DESCRIPTION:LAPIN LAPIN au théâtre Alchimic. Cette comédie nous rappelle
  ce qui fait notre force et nous donne de l'élan\, ce qui n'as pas de pri
 x. Notre radeau et notre terre promise\, c'est notre humanité.
LOCATION:Avenue Industrielle 10\, 1227 Carouge GE\, 1227 Carouge GE\, Suiss
 e
URL:https://www.geneve-communes.ch/agenda/lapin-lapin
DTSTART;TZID=Europe/Zurich:20260509T190000
DTEND;TZID=Europe/Zurich:20260509T204500
GEO:46.189501;6.134429
X-APPLE-STRUCTURED-LOCATION;VALUE=URI;X-ADDRESS=Avenue Industrielle 10\, 12
 27 Carouge GE\, 1227 Carouge GE\, Suisse;X-APPLE-RADIUS=72;X-TITLE=Théât
 re Alchimic:geo:46.189501,6.134429
END:VEVENT
BEGIN:VEVENT
UID:7e02f979-566f-4dcd-9d47-71c49919e8a5-15
DTSTAMP:20260424T112200Z
SUMMARY:LAPIN LAPIN
DESCRIPTION:LAPIN LAPIN au théâtre Alchimic. Cette comédie nous rappelle
  ce qui fait notre force et nous donne de l'élan\, ce qui n'as pas de pri
 x. Notre radeau et notre terre promise\, c'est notre humanité.
LOCATION:Avenue Industrielle 10\, 1227 Carouge GE\, 1227 Carouge GE\, Suiss
 e
URL:https://www.geneve-communes.ch/agenda/lapin-lapin
DTSTART;TZID=Europe/Zurich:20260510T190000
DTEND;TZID=Europe/Zurich:20260510T204500
GEO:46.189501;6.134429
X-APPLE-STRUCTURED-LOCATION;VALUE=URI;X-ADDRESS=Avenue Industrielle 10\, 12
 27 Carouge GE\, 1227 Carouge GE\, Suisse;X-APPLE-RADIUS=72;X-TITLE=Théât
 re Alchimic:geo:46.189501,6.134429
END:VEVENT
BEGIN:VEVENT
UID:7e02f979-566f-4dcd-9d47-71c49919e8a5-16
DTSTAMP:20260424T112200Z
SUMMARY:LAPIN LAPIN
DESCRIPTION:LAPIN LAPIN au théâtre Alchimic. Cette comédie nous rappelle
  ce qui fait notre force et nous donne de l'élan\, ce qui n'as pas de pri
 x. Notre radeau et notre terre promise\, c'est notre humanité.
LOCATION:Avenue Industrielle 10\, 1227 Carouge GE\, 1227 Carouge GE\, Suiss
 e
URL:https://www.geneve-communes.ch/agenda/lapin-lapin
DTSTART;TZID=Europe/Zurich:20260512T190000
DTEND;TZID=Europe/Zurich:20260512T204500
GEO:46.189501;6.134429
X-APPLE-STRUCTURED-LOCATION;VALUE=URI;X-ADDRESS=Avenue Industrielle 10\, 12
 27 Carouge GE\, 1227 Carouge GE\, Suisse;X-APPLE-RADIUS=72;X-TITLE=Théât
 re Alchimic:geo:46.189501,6.134429
END:VEVENT
BEGIN:VEVENT
UID:7e02f979-566f-4dcd-9d47-71c49919e8a5-17
DTSTAMP:20260424T112200Z
SUMMARY:LAPIN LAPIN
DESCRIPTION:LAPIN LAPIN au théâtre Alchimic. Cette comédie nous rappelle
  ce qui fait notre force et nous donne de l'élan\, ce qui n'as pas de pri
 x. Notre radeau et notre terre promise\, c'est notre humanité.
LOCATION:Avenue Industrielle 10\, 1227 Carouge GE\, 1227 Carouge GE\, Suiss
 e
URL:https://www.geneve-communes.ch/agenda/lapin-lapin
DTSTART;TZID=Europe/Zurich:20260513T190000
DTEND;TZID=Europe/Zurich:20260513T204500
GEO:46.189501;6.134429
X-APPLE-STRUCTURED-LOCATION;VALUE=URI;X-ADDRESS=Avenue Industrielle 10\, 12
 27 Carouge GE\, 1227 Carouge GE\, Suisse;X-APPLE-RADIUS=72;X-TITLE=Théât
 re Alchimic:geo:46.189501,6.134429
END:VEVENT
END:VCALENDAR