BEGIN:VCALENDAR
VERSION:2.0
PRODID:-//Les communes genevoises//Agenda//FR
NAME:Les communes genevoises
X-WR-CALNAME:Les communes genevoises
BEGIN:VTIMEZONE
TZID:Europe/Zurich
BEGIN:STANDARD
DTSTART:20251026T030000
TZOFFSETFROM:+0200
TZOFFSETTO:+0100
END:STANDARD
BEGIN:DAYLIGHT
DTSTART:20260329T010000
TZOFFSETFROM:+0100
TZOFFSETTO:+0200
END:DAYLIGHT
BEGIN:STANDARD
DTSTART:20261025T030000
TZOFFSETFROM:+0200
TZOFFSETTO:+0100
END:STANDARD
END:VTIMEZONE
BEGIN:VTIMEZONE
TZID:UTC
BEGIN:STANDARD
DTSTART:20250728T103800
TZOFFSETFROM:+0000
TZOFFSETTO:+0000
END:STANDARD
END:VTIMEZONE
BEGIN:VEVENT
UID:41354d73-c1b6-4fbb-b01c-95fcc4ada370-0
DTSTAMP:20260424T103800Z
SUMMARY:IL ÉTAIT UNE AUTRE FOIS
DESCRIPTION:Comédie satirique en contes de fées détraqués par les Amazo
 nes à la Julienne du 5 au 10 mai 2026 à 20h dim.18h. Divertissement acid
 e et grivois où les proies deviennent des prédatrices et vice versa.
LOCATION:116 route de Saint-Julien\, 1228 Plan-les-Ouates\, Suisse
URL:https://www.geneve-communes.ch/agenda/il-etait-une-autre-fois
DTSTART;TZID=Europe/Zurich:20260505T200000
DTEND;TZID=Europe/Zurich:20260505T211500
GEO:46.169829;6.11977
X-APPLE-STRUCTURED-LOCATION;VALUE=URI;X-ADDRESS=116 route de Saint-Julien\,
  1228 Plan-les-Ouates\, Suisse;X-APPLE-RADIUS=72;X-TITLE=La julienne:geo:4
 6.169829,6.11977
END:VEVENT
BEGIN:VEVENT
UID:41354d73-c1b6-4fbb-b01c-95fcc4ada370-1
DTSTAMP:20260424T103800Z
SUMMARY:IL ÉTAIT UNE AUTRE FOIS
DESCRIPTION:Comédie satirique en contes de fées détraqués par les Amazo
 nes à la Julienne du 5 au 10 mai 2026 à 20h dim.18h. Divertissement acid
 e et grivois où les proies deviennent des prédatrices et vice versa.
LOCATION:116 route de Saint-Julien\, 1228 Plan-les-Ouates\, Suisse
URL:https://www.geneve-communes.ch/agenda/il-etait-une-autre-fois
DTSTART;TZID=Europe/Zurich:20260506T200000
DTEND;TZID=Europe/Zurich:20260506T211500
GEO:46.169829;6.11977
X-APPLE-STRUCTURED-LOCATION;VALUE=URI;X-ADDRESS=116 route de Saint-Julien\,
  1228 Plan-les-Ouates\, Suisse;X-APPLE-RADIUS=72;X-TITLE=La julienne:geo:4
 6.169829,6.11977
END:VEVENT
BEGIN:VEVENT
UID:41354d73-c1b6-4fbb-b01c-95fcc4ada370-2
DTSTAMP:20260424T103800Z
SUMMARY:IL ÉTAIT UNE AUTRE FOIS
DESCRIPTION:Comédie satirique en contes de fées détraqués par les Amazo
 nes à la Julienne du 5 au 10 mai 2026 à 20h dim.18h. Divertissement acid
 e et grivois où les proies deviennent des prédatrices et vice versa.
LOCATION:116 route de Saint-Julien\, 1228 Plan-les-Ouates\, Suisse
URL:https://www.geneve-communes.ch/agenda/il-etait-une-autre-fois
DTSTART;TZID=Europe/Zurich:20260507T200000
DTEND;TZID=Europe/Zurich:20260507T211500
GEO:46.169829;6.11977
X-APPLE-STRUCTURED-LOCATION;VALUE=URI;X-ADDRESS=116 route de Saint-Julien\,
  1228 Plan-les-Ouates\, Suisse;X-APPLE-RADIUS=72;X-TITLE=La julienne:geo:4
 6.169829,6.11977
END:VEVENT
BEGIN:VEVENT
UID:41354d73-c1b6-4fbb-b01c-95fcc4ada370-3
DTSTAMP:20260424T103800Z
SUMMARY:IL ÉTAIT UNE AUTRE FOIS
DESCRIPTION:Comédie satirique en contes de fées détraqués par les Amazo
 nes à la Julienne du 5 au 10 mai 2026 à 20h dim.18h. Divertissement acid
 e et grivois où les proies deviennent des prédatrices et vice versa.
LOCATION:116 route de Saint-Julien\, 1228 Plan-les-Ouates\, Suisse
URL:https://www.geneve-communes.ch/agenda/il-etait-une-autre-fois
DTSTART;TZID=Europe/Zurich:20260508T200000
DTEND;TZID=Europe/Zurich:20260508T211500
GEO:46.169829;6.11977
X-APPLE-STRUCTURED-LOCATION;VALUE=URI;X-ADDRESS=116 route de Saint-Julien\,
  1228 Plan-les-Ouates\, Suisse;X-APPLE-RADIUS=72;X-TITLE=La julienne:geo:4
 6.169829,6.11977
END:VEVENT
BEGIN:VEVENT
UID:41354d73-c1b6-4fbb-b01c-95fcc4ada370-4
DTSTAMP:20260424T103800Z
SUMMARY:IL ÉTAIT UNE AUTRE FOIS
DESCRIPTION:Comédie satirique en contes de fées détraqués par les Amazo
 nes à la Julienne du 5 au 10 mai 2026 à 20h dim.18h. Divertissement acid
 e et grivois où les proies deviennent des prédatrices et vice versa.
LOCATION:116 route de Saint-Julien\, 1228 Plan-les-Ouates\, Suisse
URL:https://www.geneve-communes.ch/agenda/il-etait-une-autre-fois
DTSTART;TZID=Europe/Zurich:20260509T200000
DTEND;TZID=Europe/Zurich:20260509T211500
GEO:46.169829;6.11977
X-APPLE-STRUCTURED-LOCATION;VALUE=URI;X-ADDRESS=116 route de Saint-Julien\,
  1228 Plan-les-Ouates\, Suisse;X-APPLE-RADIUS=72;X-TITLE=La julienne:geo:4
 6.169829,6.11977
END:VEVENT
BEGIN:VEVENT
UID:41354d73-c1b6-4fbb-b01c-95fcc4ada370-5
DTSTAMP:20260424T103800Z
SUMMARY:IL ÉTAIT UNE AUTRE FOIS
DESCRIPTION:Comédie satirique en contes de fées détraqués par les Amazo
 nes à la Julienne du 5 au 10 mai 2026 à 20h dim.18h. Divertissement acid
 e et grivois où les proies deviennent des prédatrices et vice versa.
LOCATION:116 route de Saint-Julien\, 1228 Plan-les-Ouates\, Suisse
URL:https://www.geneve-communes.ch/agenda/il-etait-une-autre-fois
DTSTART;TZID=Europe/Zurich:20260510T180000
DTEND;TZID=Europe/Zurich:20260510T191500
GEO:46.169829;6.11977
X-APPLE-STRUCTURED-LOCATION;VALUE=URI;X-ADDRESS=116 route de Saint-Julien\,
  1228 Plan-les-Ouates\, Suisse;X-APPLE-RADIUS=72;X-TITLE=La julienne:geo:4
 6.169829,6.11977
END:VEVENT
END:VCALENDAR