BEGIN:VCALENDAR
VERSION:2.0
PRODID:-//Les communes genevoises//Agenda//FR
NAME:Les communes genevoises
X-WR-CALNAME:Les communes genevoises
BEGIN:VTIMEZONE
TZID:Europe/Zurich
BEGIN:STANDARD
DTSTART:20251026T030000
TZOFFSETFROM:+0200
TZOFFSETTO:+0100
END:STANDARD
BEGIN:DAYLIGHT
DTSTART:20260329T010000
TZOFFSETFROM:+0100
TZOFFSETTO:+0200
END:DAYLIGHT
BEGIN:STANDARD
DTSTART:20261025T030000
TZOFFSETFROM:+0200
TZOFFSETTO:+0100
END:STANDARD
END:VTIMEZONE
BEGIN:VTIMEZONE
TZID:UTC
BEGIN:STANDARD
DTSTART:20250728T093200
TZOFFSETFROM:+0000
TZOFFSETTO:+0000
END:STANDARD
END:VTIMEZONE
BEGIN:VEVENT
UID:2dcb21f2-99ad-432f-989b-72f102375fbc-0
DTSTAMP:20260424T093200Z
SUMMARY:Jonction en mouvement
DESCRIPTION:Le samedi 25 avril de 13h à 18h\, quand graffeurs et kayakiste
 s se rencontrent à la Pointe de la Jonction.
LOCATION:Sentier Sentier des Saules 3\, 1205 Genève\, 1203 Genève\, Suiss
 e
URL:https://www.geneve-communes.ch/agenda/jonction-en-mouvement
DTSTART;TZID=Europe/Zurich:20260425T130000
DTEND;TZID=Europe/Zurich:20260425T180000
GEO:46.201429;6.122925
X-APPLE-STRUCTURED-LOCATION;VALUE=URI;X-ADDRESS=Sentier Sentier des Saules 
 3\, 1205 Genève\, 1203 Genève\, Suisse;X-APPLE-RADIUS=72;X-TITLE=Pointe 
 de la Jonction:geo:46.201429,6.122925
END:VEVENT
END:VCALENDAR