BEGIN:VCALENDAR
VERSION:2.0
PRODID:-//Les communes genevoises//Agenda//FR
NAME:Les communes genevoises
X-WR-CALNAME:Les communes genevoises
BEGIN:VTIMEZONE
TZID:Europe/Zurich
BEGIN:STANDARD
DTSTART:20251026T030000
TZOFFSETFROM:+0200
TZOFFSETTO:+0100
END:STANDARD
BEGIN:DAYLIGHT
DTSTART:20260329T010000
TZOFFSETFROM:+0100
TZOFFSETTO:+0200
END:DAYLIGHT
BEGIN:STANDARD
DTSTART:20261025T030000
TZOFFSETFROM:+0200
TZOFFSETTO:+0100
END:STANDARD
END:VTIMEZONE
BEGIN:VTIMEZONE
TZID:UTC
BEGIN:STANDARD
DTSTART:20250728T084600
TZOFFSETFROM:+0000
TZOFFSETTO:+0000
END:STANDARD
END:VTIMEZONE
BEGIN:VEVENT
UID:c9d76d52-1a36-4253-b09f-d24563ba9a12-0
DTSTAMP:20260424T084600Z
SUMMARY:Spectacle d'improvisation des Perchés du Lac : Impro-Phonie: les P
 erchés montent le Son !
DESCRIPTION:La troupe d'improvisation des Perchés du Lac présente son spe
 ctacle « Impro-Phonie: les Perchés montent le Son ! » mercredi 6 mai 
 à 20h30 au Floky la loutre.
LOCATION:Rue de Carouge 44\, 1205 Genève\, Suisse
URL:https://www.geneve-communes.ch/agenda/spectacle-dimprovisation-des-perc
 hes-du-lac-impro-phonie-les-perches-montent-le-son
DTSTART;TZID=Europe/Zurich:20260506T203000
DTEND;TZID=Europe/Zurich:20260506T220000
GEO:46.194552;6.143358
X-APPLE-STRUCTURED-LOCATION;VALUE=URI;X-ADDRESS=Rue de Carouge 44\, 1205 Ge
 nève\, Suisse;X-APPLE-RADIUS=72;X-TITLE=Floky la loutre:geo:46.194552,6.1
 43358
END:VEVENT
END:VCALENDAR