BEGIN:VCALENDAR
VERSION:2.0
PRODID:-//Les communes genevoises//Agenda//FR
NAME:Les communes genevoises
X-WR-CALNAME:Les communes genevoises
BEGIN:VTIMEZONE
TZID:Europe/Zurich
BEGIN:STANDARD
DTSTART:20251026T030000
TZOFFSETFROM:+0200
TZOFFSETTO:+0100
END:STANDARD
BEGIN:DAYLIGHT
DTSTART:20260329T010000
TZOFFSETFROM:+0100
TZOFFSETTO:+0200
END:DAYLIGHT
BEGIN:STANDARD
DTSTART:20261025T030000
TZOFFSETFROM:+0200
TZOFFSETTO:+0100
END:STANDARD
END:VTIMEZONE
BEGIN:VTIMEZONE
TZID:UTC
BEGIN:STANDARD
DTSTART:20250728T074000
TZOFFSETFROM:+0000
TZOFFSETTO:+0000
END:STANDARD
END:VTIMEZONE
BEGIN:VEVENT
UID:8343bb31-76bb-4047-9003-74671ab7fd4e-0
DTSTAMP:20260424T074000Z
SUMMARY:Atelier d'écriture - L'humour au service de la durabilité
DESCRIPTION:Un atelier d'écriture pour apprendre à parler de durabilité 
 sans (dé)moraliser.
LOCATION:Rue FENDT 1\, 1201 Genève\, 1201 Genève\, Suisse
URL:https://www.geneve-communes.ch/agenda/atelier-decriture-lhumour-au-serv
 ice-de-la-durabilite
DTSTART;TZID=Europe/Zurich:20260602T183000
DTEND;TZID=Europe/Zurich:20260602T203000
GEO:46.21056;6.141173
X-APPLE-STRUCTURED-LOCATION;VALUE=URI;X-ADDRESS=Rue FENDT 1\, 1201 Genève\
 , 1201 Genève\, Suisse;X-APPLE-RADIUS=72;X-TITLE=Impact Hub Geneva:geo:46
 .21056,6.141173
END:VEVENT
END:VCALENDAR