BEGIN:VCALENDAR
VERSION:2.0
PRODID:-//Les communes genevoises//Agenda//FR
NAME:Les communes genevoises
X-WR-CALNAME:Les communes genevoises
BEGIN:VTIMEZONE
TZID:Europe/Zurich
BEGIN:STANDARD
DTSTART:20251026T030000
TZOFFSETFROM:+0200
TZOFFSETTO:+0100
END:STANDARD
BEGIN:DAYLIGHT
DTSTART:20260329T010000
TZOFFSETFROM:+0100
TZOFFSETTO:+0200
END:DAYLIGHT
BEGIN:STANDARD
DTSTART:20261025T030000
TZOFFSETFROM:+0200
TZOFFSETTO:+0100
END:STANDARD
END:VTIMEZONE
BEGIN:VTIMEZONE
TZID:UTC
BEGIN:STANDARD
DTSTART:20250727T151200
TZOFFSETFROM:+0000
TZOFFSETTO:+0000
END:STANDARD
END:VTIMEZONE
BEGIN:VEVENT
UID:79ce774a-945e-4dd9-9467-dd27fd2d838a-0
DTSTAMP:20260423T151200Z
SUMMARY:Colloque et table ronde : Quelle éducation pour changer le monde ?
DESCRIPTION:Cette journée d'échanges organisée par Enfants du Monde et l
 ’Université de Genève le 4 juin 2026 à Uni Mail (et en ligne) analyse
 ra quelles pédagogies peuvent réduire les inégalités.
URL:https://www.geneve-communes.ch/agenda/colloque-et-table-ronde-quelle-ed
 ucation-pour-changer-le-monde
DTSTART;TZID=Europe/Zurich:20260604T141500
DTEND;TZID=Europe/Zurich:20260604T184500
GEO:46.194722;6.140357
END:VEVENT
END:VCALENDAR