BEGIN:VCALENDAR
VERSION:2.0
PRODID:-//Les communes genevoises//Agenda//FR
NAME:Les communes genevoises
X-WR-CALNAME:Les communes genevoises
BEGIN:VTIMEZONE
TZID:Europe/Zurich
BEGIN:STANDARD
DTSTART:20251026T030000
TZOFFSETFROM:+0200
TZOFFSETTO:+0100
END:STANDARD
BEGIN:DAYLIGHT
DTSTART:20260329T010000
TZOFFSETFROM:+0100
TZOFFSETTO:+0200
END:DAYLIGHT
BEGIN:STANDARD
DTSTART:20261025T030000
TZOFFSETFROM:+0200
TZOFFSETTO:+0100
END:STANDARD
END:VTIMEZONE
BEGIN:VTIMEZONE
TZID:UTC
BEGIN:STANDARD
DTSTART:20250727T131400
TZOFFSETFROM:+0000
TZOFFSETTO:+0000
END:STANDARD
END:VTIMEZONE
BEGIN:VEVENT
UID:4a4425b1-722b-4223-9f45-371b38ade5f8-0
DTSTAMP:20260423T131400Z
SUMMARY:Initiation à la Salsa portoricaine
DESCRIPTION:Profitez de la vue sur le Léman depuis la piste de la Canopée
  pour vous initier gratuitement à cette danse venant tout droit de Porto 
 Rico.
LOCATION:Genève\, 1207 Genève\, Suisse
URL:https://www.geneve-communes.ch/agenda/initiation-la-salsa-portoricaine-
 0
DTSTART;TZID=Europe/Zurich:20260711T190000
DTEND;TZID=Europe/Zurich:20260711T200000
GEO:46.208087;6.162954
X-APPLE-STRUCTURED-LOCATION;VALUE=URI;X-ADDRESS=Genève\, 1207 Genève\, Su
 isse;X-APPLE-RADIUS=72;X-TITLE=La Canopée:geo:46.208087,6.162954
END:VEVENT
END:VCALENDAR