BEGIN:VCALENDAR
VERSION:2.0
PRODID:-//Les communes genevoises//Agenda//FR
NAME:Les communes genevoises
X-WR-CALNAME:Les communes genevoises
BEGIN:VTIMEZONE
TZID:Europe/Zurich
BEGIN:STANDARD
DTSTART:20251026T030000
TZOFFSETFROM:+0200
TZOFFSETTO:+0100
END:STANDARD
BEGIN:DAYLIGHT
DTSTART:20260329T010000
TZOFFSETFROM:+0100
TZOFFSETTO:+0200
END:DAYLIGHT
BEGIN:STANDARD
DTSTART:20261025T030000
TZOFFSETFROM:+0200
TZOFFSETTO:+0100
END:STANDARD
END:VTIMEZONE
BEGIN:VTIMEZONE
TZID:UTC
BEGIN:STANDARD
DTSTART:20250727T131400
TZOFFSETFROM:+0000
TZOFFSETTO:+0000
END:STANDARD
END:VTIMEZONE
BEGIN:VEVENT
UID:b4390006-6d78-44a9-9d12-379d4e14b4b9-0
DTSTAMP:20260423T131400Z
SUMMARY:Soirée spéciale Salsa cubaine
DESCRIPTION:Profitez de la vue sur le Léman pour vous initier gratuitement
  à cette danse puis pour la pratiquer durant toute la soirée à la Canop
 ée.
LOCATION:Genève\, 1207 Genève\, Suisse
URL:https://www.geneve-communes.ch/agenda/soiree-speciale-salsa-cubaine
DTSTART;TZID=Europe/Zurich:20260704T190000
DTEND;TZID=Europe/Zurich:20260704T220000
GEO:46.208087;6.162954
X-APPLE-STRUCTURED-LOCATION;VALUE=URI;X-ADDRESS=Genève\, 1207 Genève\, Su
 isse;X-APPLE-RADIUS=72;X-TITLE=La Canopée:geo:46.208087,6.162954
END:VEVENT
BEGIN:VEVENT
UID:b4390006-6d78-44a9-9d12-379d4e14b4b9-1
DTSTAMP:20260423T131400Z
SUMMARY:Soirée spéciale Salsa cubaine
DESCRIPTION:Profitez de la vue sur le Léman pour vous initier gratuitement
  à cette danse puis pour la pratiquer durant toute la soirée à la Canop
 ée.
LOCATION:Genève\, 1207 Genève\, Suisse
URL:https://www.geneve-communes.ch/agenda/soiree-speciale-salsa-cubaine
DTSTART;TZID=Europe/Zurich:20260725T190000
DTEND;TZID=Europe/Zurich:20260725T220000
GEO:46.208087;6.162954
X-APPLE-STRUCTURED-LOCATION;VALUE=URI;X-ADDRESS=Genève\, 1207 Genève\, Su
 isse;X-APPLE-RADIUS=72;X-TITLE=La Canopée:geo:46.208087,6.162954
END:VEVENT
BEGIN:VEVENT
UID:b4390006-6d78-44a9-9d12-379d4e14b4b9-2
DTSTAMP:20260423T131400Z
SUMMARY:Soirée spéciale Salsa cubaine
DESCRIPTION:Profitez de la vue sur le Léman pour vous initier gratuitement
  à cette danse puis pour la pratiquer durant toute la soirée à la Canop
 ée.
LOCATION:Genève\, 1207 Genève\, Suisse
URL:https://www.geneve-communes.ch/agenda/soiree-speciale-salsa-cubaine
DTSTART;TZID=Europe/Zurich:20260815T190000
DTEND;TZID=Europe/Zurich:20260815T220000
GEO:46.208087;6.162954
X-APPLE-STRUCTURED-LOCATION;VALUE=URI;X-ADDRESS=Genève\, 1207 Genève\, Su
 isse;X-APPLE-RADIUS=72;X-TITLE=La Canopée:geo:46.208087,6.162954
END:VEVENT
END:VCALENDAR