BEGIN:VCALENDAR
VERSION:2.0
PRODID:-//Les communes genevoises//Agenda//FR
NAME:Les communes genevoises
X-WR-CALNAME:Les communes genevoises
BEGIN:VTIMEZONE
TZID:Europe/Zurich
BEGIN:STANDARD
DTSTART:20251026T030000
TZOFFSETFROM:+0200
TZOFFSETTO:+0100
END:STANDARD
BEGIN:DAYLIGHT
DTSTART:20260329T010000
TZOFFSETFROM:+0100
TZOFFSETTO:+0200
END:DAYLIGHT
BEGIN:STANDARD
DTSTART:20261025T030000
TZOFFSETFROM:+0200
TZOFFSETTO:+0100
END:STANDARD
END:VTIMEZONE
BEGIN:VTIMEZONE
TZID:UTC
BEGIN:STANDARD
DTSTART:20250727T131400
TZOFFSETFROM:+0000
TZOFFSETTO:+0000
END:STANDARD
END:VTIMEZONE
BEGIN:VEVENT
UID:bbda59a3-fc5a-4bbc-a326-501a81a5cdfb-0
DTSTAMP:20260423T131400Z
SUMMARY:Initiation aux danses de salon
DESCRIPTION:Profitez de la vue sur le Léman pour vous initier gratuitement
  à ces danses sur la scène de la Canopée.
LOCATION:Genève\, 1207 Genève\, Suisse
URL:https://www.geneve-communes.ch/agenda/initiation-aux-danses-de-salon
DTSTART;TZID=Europe/Zurich:20260704T180000
DTEND;TZID=Europe/Zurich:20260704T190000
GEO:46.208087;6.162954
X-APPLE-STRUCTURED-LOCATION;VALUE=URI;X-ADDRESS=Genève\, 1207 Genève\, Su
 isse;X-APPLE-RADIUS=72;X-TITLE=La Canopée:geo:46.208087,6.162954
END:VEVENT
BEGIN:VEVENT
UID:bbda59a3-fc5a-4bbc-a326-501a81a5cdfb-1
DTSTAMP:20260423T131400Z
SUMMARY:Initiation aux danses de salon
DESCRIPTION:Profitez de la vue sur le Léman pour vous initier gratuitement
  à ces danses sur la scène de la Canopée.
LOCATION:Genève\, 1207 Genève\, Suisse
URL:https://www.geneve-communes.ch/agenda/initiation-aux-danses-de-salon
DTSTART;TZID=Europe/Zurich:20260711T180000
DTEND;TZID=Europe/Zurich:20260711T190000
GEO:46.208087;6.162954
X-APPLE-STRUCTURED-LOCATION;VALUE=URI;X-ADDRESS=Genève\, 1207 Genève\, Su
 isse;X-APPLE-RADIUS=72;X-TITLE=La Canopée:geo:46.208087,6.162954
END:VEVENT
BEGIN:VEVENT
UID:bbda59a3-fc5a-4bbc-a326-501a81a5cdfb-2
DTSTAMP:20260423T131400Z
SUMMARY:Initiation aux danses de salon
DESCRIPTION:Profitez de la vue sur le Léman pour vous initier gratuitement
  à ces danses sur la scène de la Canopée.
LOCATION:Genève\, 1207 Genève\, Suisse
URL:https://www.geneve-communes.ch/agenda/initiation-aux-danses-de-salon
DTSTART;TZID=Europe/Zurich:20260718T180000
DTEND;TZID=Europe/Zurich:20260718T190000
GEO:46.208087;6.162954
X-APPLE-STRUCTURED-LOCATION;VALUE=URI;X-ADDRESS=Genève\, 1207 Genève\, Su
 isse;X-APPLE-RADIUS=72;X-TITLE=La Canopée:geo:46.208087,6.162954
END:VEVENT
BEGIN:VEVENT
UID:bbda59a3-fc5a-4bbc-a326-501a81a5cdfb-3
DTSTAMP:20260423T131400Z
SUMMARY:Initiation aux danses de salon
DESCRIPTION:Profitez de la vue sur le Léman pour vous initier gratuitement
  à ces danses sur la scène de la Canopée.
LOCATION:Genève\, 1207 Genève\, Suisse
URL:https://www.geneve-communes.ch/agenda/initiation-aux-danses-de-salon
DTSTART;TZID=Europe/Zurich:20260725T180000
DTEND;TZID=Europe/Zurich:20260725T190000
GEO:46.208087;6.162954
X-APPLE-STRUCTURED-LOCATION;VALUE=URI;X-ADDRESS=Genève\, 1207 Genève\, Su
 isse;X-APPLE-RADIUS=72;X-TITLE=La Canopée:geo:46.208087,6.162954
END:VEVENT
BEGIN:VEVENT
UID:bbda59a3-fc5a-4bbc-a326-501a81a5cdfb-4
DTSTAMP:20260423T131400Z
SUMMARY:Initiation aux danses de salon
DESCRIPTION:Profitez de la vue sur le Léman pour vous initier gratuitement
  à ces danses sur la scène de la Canopée.
LOCATION:Genève\, 1207 Genève\, Suisse
URL:https://www.geneve-communes.ch/agenda/initiation-aux-danses-de-salon
DTSTART;TZID=Europe/Zurich:20260801T180000
DTEND;TZID=Europe/Zurich:20260801T190000
GEO:46.208087;6.162954
X-APPLE-STRUCTURED-LOCATION;VALUE=URI;X-ADDRESS=Genève\, 1207 Genève\, Su
 isse;X-APPLE-RADIUS=72;X-TITLE=La Canopée:geo:46.208087,6.162954
END:VEVENT
BEGIN:VEVENT
UID:bbda59a3-fc5a-4bbc-a326-501a81a5cdfb-5
DTSTAMP:20260423T131400Z
SUMMARY:Initiation aux danses de salon
DESCRIPTION:Profitez de la vue sur le Léman pour vous initier gratuitement
  à ces danses sur la scène de la Canopée.
LOCATION:Genève\, 1207 Genève\, Suisse
URL:https://www.geneve-communes.ch/agenda/initiation-aux-danses-de-salon
DTSTART;TZID=Europe/Zurich:20260808T180000
DTEND;TZID=Europe/Zurich:20260808T190000
GEO:46.208087;6.162954
X-APPLE-STRUCTURED-LOCATION;VALUE=URI;X-ADDRESS=Genève\, 1207 Genève\, Su
 isse;X-APPLE-RADIUS=72;X-TITLE=La Canopée:geo:46.208087,6.162954
END:VEVENT
BEGIN:VEVENT
UID:bbda59a3-fc5a-4bbc-a326-501a81a5cdfb-6
DTSTAMP:20260423T131400Z
SUMMARY:Initiation aux danses de salon
DESCRIPTION:Profitez de la vue sur le Léman pour vous initier gratuitement
  à ces danses sur la scène de la Canopée.
LOCATION:Genève\, 1207 Genève\, Suisse
URL:https://www.geneve-communes.ch/agenda/initiation-aux-danses-de-salon
DTSTART;TZID=Europe/Zurich:20260815T180000
DTEND;TZID=Europe/Zurich:20260815T190000
GEO:46.208087;6.162954
X-APPLE-STRUCTURED-LOCATION;VALUE=URI;X-ADDRESS=Genève\, 1207 Genève\, Su
 isse;X-APPLE-RADIUS=72;X-TITLE=La Canopée:geo:46.208087,6.162954
END:VEVENT
END:VCALENDAR