BEGIN:VCALENDAR
VERSION:2.0
PRODID:-//Les communes genevoises//Agenda//FR
NAME:Les communes genevoises
X-WR-CALNAME:Les communes genevoises
BEGIN:VTIMEZONE
TZID:Europe/Zurich
BEGIN:STANDARD
DTSTART:20251026T030000
TZOFFSETFROM:+0200
TZOFFSETTO:+0100
END:STANDARD
BEGIN:DAYLIGHT
DTSTART:20260329T010000
TZOFFSETFROM:+0100
TZOFFSETTO:+0200
END:DAYLIGHT
BEGIN:STANDARD
DTSTART:20261025T030000
TZOFFSETFROM:+0200
TZOFFSETTO:+0100
END:STANDARD
END:VTIMEZONE
BEGIN:VTIMEZONE
TZID:UTC
BEGIN:STANDARD
DTSTART:20250727T122600
TZOFFSETFROM:+0000
TZOFFSETTO:+0000
END:STANDARD
END:VTIMEZONE
BEGIN:VEVENT
UID:348be7a6-1ed1-4d5b-acc1-72de27b0ef29-0
DTSTAMP:20260423T122600Z
SUMMARY:Initiation au Swing
DESCRIPTION:Profitez de la vue sur le Léman pour vous initier gratuitement
  à cette danse sur la scène de la Canopée.
LOCATION:Genève\, 1207 Genève\, Suisse
URL:https://www.geneve-communes.ch/agenda/initiation-au-swing
DTSTART;TZID=Europe/Zurich:20260710T210000
DTEND;TZID=Europe/Zurich:20260710T220000
GEO:46.208087;6.162954
X-APPLE-STRUCTURED-LOCATION;VALUE=URI;X-ADDRESS=Genève\, 1207 Genève\, Su
 isse;X-APPLE-RADIUS=72;X-TITLE=La Canopée:geo:46.208087,6.162954
END:VEVENT
BEGIN:VEVENT
UID:348be7a6-1ed1-4d5b-acc1-72de27b0ef29-1
DTSTAMP:20260423T122600Z
SUMMARY:Initiation au Swing
DESCRIPTION:Profitez de la vue sur le Léman pour vous initier gratuitement
  à cette danse sur la scène de la Canopée.
LOCATION:Genève\, 1207 Genève\, Suisse
URL:https://www.geneve-communes.ch/agenda/initiation-au-swing
DTSTART;TZID=Europe/Zurich:20260717T200000
DTEND;TZID=Europe/Zurich:20260717T210000
GEO:46.208087;6.162954
X-APPLE-STRUCTURED-LOCATION;VALUE=URI;X-ADDRESS=Genève\, 1207 Genève\, Su
 isse;X-APPLE-RADIUS=72;X-TITLE=La Canopée:geo:46.208087,6.162954
END:VEVENT
BEGIN:VEVENT
UID:348be7a6-1ed1-4d5b-acc1-72de27b0ef29-2
DTSTAMP:20260423T122600Z
SUMMARY:Initiation au Swing
DESCRIPTION:Profitez de la vue sur le Léman pour vous initier gratuitement
  à cette danse sur la scène de la Canopée.
LOCATION:Genève\, 1207 Genève\, Suisse
URL:https://www.geneve-communes.ch/agenda/initiation-au-swing
DTSTART;TZID=Europe/Zurich:20260731T200000
DTEND;TZID=Europe/Zurich:20260731T210000
GEO:46.208087;6.162954
X-APPLE-STRUCTURED-LOCATION;VALUE=URI;X-ADDRESS=Genève\, 1207 Genève\, Su
 isse;X-APPLE-RADIUS=72;X-TITLE=La Canopée:geo:46.208087,6.162954
END:VEVENT
BEGIN:VEVENT
UID:348be7a6-1ed1-4d5b-acc1-72de27b0ef29-3
DTSTAMP:20260423T122600Z
SUMMARY:Initiation au Swing
DESCRIPTION:Profitez de la vue sur le Léman pour vous initier gratuitement
  à cette danse sur la scène de la Canopée.
LOCATION:Genève\, 1207 Genève\, Suisse
URL:https://www.geneve-communes.ch/agenda/initiation-au-swing
DTSTART;TZID=Europe/Zurich:20260814T200000
DTEND;TZID=Europe/Zurich:20260814T210000
GEO:46.208087;6.162954
X-APPLE-STRUCTURED-LOCATION;VALUE=URI;X-ADDRESS=Genève\, 1207 Genève\, Su
 isse;X-APPLE-RADIUS=72;X-TITLE=La Canopée:geo:46.208087,6.162954
END:VEVENT
END:VCALENDAR