BEGIN:VCALENDAR
VERSION:2.0
PRODID:-//Les communes genevoises//Agenda//FR
NAME:Les communes genevoises
X-WR-CALNAME:Les communes genevoises
BEGIN:VTIMEZONE
TZID:Europe/Zurich
BEGIN:STANDARD
DTSTART:20251026T030000
TZOFFSETFROM:+0200
TZOFFSETTO:+0100
END:STANDARD
BEGIN:DAYLIGHT
DTSTART:20260329T010000
TZOFFSETFROM:+0100
TZOFFSETTO:+0200
END:DAYLIGHT
BEGIN:STANDARD
DTSTART:20261025T030000
TZOFFSETFROM:+0200
TZOFFSETTO:+0100
END:STANDARD
END:VTIMEZONE
BEGIN:VTIMEZONE
TZID:UTC
BEGIN:STANDARD
DTSTART:20250727T114000
TZOFFSETFROM:+0000
TZOFFSETTO:+0000
END:STANDARD
END:VTIMEZONE
BEGIN:VEVENT
UID:6aea06e3-51a8-4c2f-94f3-6b4a2ba2240b-0
DTSTAMP:20260423T114000Z
SUMMARY:«Un Français à New York» avec le Paul Lay Trio
DESCRIPTION:Un concert inédit ! Paul Lay: «Un Français à New York» et 
 George Gershwin: «Rhapsody in Blue»\, par le Lemanic Modern Ensemble ave
 c la participation exceptionnelle de Paul Lay et du Paul Lay Trio
LOCATION:Passage Marie-Claude-LEBURGUE 2\, 1205 Genève\, Suisse
URL:https://www.geneve-communes.ch/agenda/un-francais-new-york-avec-le-paul
 -lay-trio
DTSTART;TZID=Europe/Zurich:20260520T200000
DTEND;TZID=Europe/Zurich:20260520T220000
GEO:46.196804;6.136724
X-APPLE-STRUCTURED-LOCATION;VALUE=URI;X-ADDRESS=Passage Marie-Claude-LEBURG
 UE 2\, 1205 Genève\, Suisse;X-APPLE-RADIUS=72;X-TITLE=Auditorium Ansermet
  - Centre des Musiques Actuelles:geo:46.196804,6.136724
END:VEVENT
END:VCALENDAR