BEGIN:VCALENDAR
VERSION:2.0
PRODID:-//Les communes genevoises//Agenda//FR
NAME:Les communes genevoises
X-WR-CALNAME:Les communes genevoises
BEGIN:VTIMEZONE
TZID:Europe/Zurich
BEGIN:STANDARD
DTSTART:20251026T030000
TZOFFSETFROM:+0200
TZOFFSETTO:+0100
END:STANDARD
BEGIN:DAYLIGHT
DTSTART:20260329T010000
TZOFFSETFROM:+0100
TZOFFSETTO:+0200
END:DAYLIGHT
BEGIN:STANDARD
DTSTART:20261025T030000
TZOFFSETFROM:+0200
TZOFFSETTO:+0100
END:STANDARD
END:VTIMEZONE
BEGIN:VTIMEZONE
TZID:UTC
BEGIN:STANDARD
DTSTART:20250727T120401
TZOFFSETFROM:+0000
TZOFFSETTO:+0000
END:STANDARD
END:VTIMEZONE
BEGIN:VEVENT
UID:d7340d92-c6fa-4e1c-b4b7-65c5a13fba9c-0
DTSTAMP:20260423T120401Z
SUMMARY:Carac Festival
DESCRIPTION:Le festival culturel du campus des hautes écoles | 27 avril au
  24 mai | Uni Mail et alentours
URL:https://www.geneve-communes.ch/agenda/carac-festival
DTSTART;TZID=Europe/Zurich:20260427T190000
DTEND;TZID=Europe/Zurich:20260427T230000
GEO:46.194722;6.140357
END:VEVENT
BEGIN:VEVENT
UID:d7340d92-c6fa-4e1c-b4b7-65c5a13fba9c-1
DTSTAMP:20260423T120401Z
SUMMARY:Carac Festival
DESCRIPTION:Le festival culturel du campus des hautes écoles | 27 avril au
  24 mai | Uni Mail et alentours
URL:https://www.geneve-communes.ch/agenda/carac-festival
DTSTART;TZID=Europe/Zurich:20260428T120000
DTEND;TZID=Europe/Zurich:20260428T230000
GEO:46.194722;6.140357
END:VEVENT
BEGIN:VEVENT
UID:d7340d92-c6fa-4e1c-b4b7-65c5a13fba9c-2
DTSTAMP:20260423T120401Z
SUMMARY:Carac Festival
DESCRIPTION:Le festival culturel du campus des hautes écoles | 27 avril au
  24 mai | Uni Mail et alentours
URL:https://www.geneve-communes.ch/agenda/carac-festival
DTSTART;TZID=Europe/Zurich:20260429T120000
DTEND;TZID=Europe/Zurich:20260429T230000
GEO:46.194722;6.140357
END:VEVENT
BEGIN:VEVENT
UID:d7340d92-c6fa-4e1c-b4b7-65c5a13fba9c-3
DTSTAMP:20260423T120401Z
SUMMARY:Carac Festival
DESCRIPTION:Le festival culturel du campus des hautes écoles | 27 avril au
  24 mai | Uni Mail et alentours
URL:https://www.geneve-communes.ch/agenda/carac-festival
DTSTART;TZID=Europe/Zurich:20260430T120000
DTEND;TZID=Europe/Zurich:20260430T230000
GEO:46.194722;6.140357
END:VEVENT
BEGIN:VEVENT
UID:d7340d92-c6fa-4e1c-b4b7-65c5a13fba9c-4
DTSTAMP:20260423T120401Z
SUMMARY:Carac Festival
DESCRIPTION:Le festival culturel du campus des hautes écoles | 27 avril au
  24 mai | Uni Mail et alentours
URL:https://www.geneve-communes.ch/agenda/carac-festival
DTSTART;TZID=Europe/Zurich:20260501T120000
DTEND;TZID=Europe/Zurich:20260501T230000
GEO:46.194722;6.140357
END:VEVENT
BEGIN:VEVENT
UID:d7340d92-c6fa-4e1c-b4b7-65c5a13fba9c-5
DTSTAMP:20260423T120401Z
SUMMARY:Carac Festival
DESCRIPTION:Le festival culturel du campus des hautes écoles | 27 avril au
  24 mai | Uni Mail et alentours
URL:https://www.geneve-communes.ch/agenda/carac-festival
DTSTART;TZID=Europe/Zurich:20260502T120000
DTEND;TZID=Europe/Zurich:20260502T230000
GEO:46.194722;6.140357
END:VEVENT
BEGIN:VEVENT
UID:d7340d92-c6fa-4e1c-b4b7-65c5a13fba9c-6
DTSTAMP:20260423T120401Z
SUMMARY:Carac Festival
DESCRIPTION:Le festival culturel du campus des hautes écoles | 27 avril au
  24 mai | Uni Mail et alentours
URL:https://www.geneve-communes.ch/agenda/carac-festival
DTSTART;TZID=Europe/Zurich:20260503T120000
DTEND;TZID=Europe/Zurich:20260503T230000
GEO:46.194722;6.140357
END:VEVENT
BEGIN:VEVENT
UID:d7340d92-c6fa-4e1c-b4b7-65c5a13fba9c-7
DTSTAMP:20260423T120401Z
SUMMARY:Carac Festival
DESCRIPTION:Le festival culturel du campus des hautes écoles | 27 avril au
  24 mai | Uni Mail et alentours
URL:https://www.geneve-communes.ch/agenda/carac-festival
DTSTART;TZID=Europe/Zurich:20260504T120000
DTEND;TZID=Europe/Zurich:20260504T230000
GEO:46.194722;6.140357
END:VEVENT
BEGIN:VEVENT
UID:d7340d92-c6fa-4e1c-b4b7-65c5a13fba9c-8
DTSTAMP:20260423T120401Z
SUMMARY:Carac Festival
DESCRIPTION:Le festival culturel du campus des hautes écoles | 27 avril au
  24 mai | Uni Mail et alentours
URL:https://www.geneve-communes.ch/agenda/carac-festival
DTSTART;TZID=Europe/Zurich:20260505T120000
DTEND;TZID=Europe/Zurich:20260505T230000
GEO:46.194722;6.140357
END:VEVENT
BEGIN:VEVENT
UID:d7340d92-c6fa-4e1c-b4b7-65c5a13fba9c-9
DTSTAMP:20260423T120401Z
SUMMARY:Carac Festival
DESCRIPTION:Le festival culturel du campus des hautes écoles | 27 avril au
  24 mai | Uni Mail et alentours
URL:https://www.geneve-communes.ch/agenda/carac-festival
DTSTART;TZID=Europe/Zurich:20260506T120000
DTEND;TZID=Europe/Zurich:20260506T230000
GEO:46.194722;6.140357
END:VEVENT
BEGIN:VEVENT
UID:d7340d92-c6fa-4e1c-b4b7-65c5a13fba9c-10
DTSTAMP:20260423T120401Z
SUMMARY:Carac Festival
DESCRIPTION:Le festival culturel du campus des hautes écoles | 27 avril au
  24 mai | Uni Mail et alentours
URL:https://www.geneve-communes.ch/agenda/carac-festival
DTSTART;TZID=Europe/Zurich:20260507T120000
DTEND;TZID=Europe/Zurich:20260507T230000
GEO:46.194722;6.140357
END:VEVENT
BEGIN:VEVENT
UID:d7340d92-c6fa-4e1c-b4b7-65c5a13fba9c-11
DTSTAMP:20260423T120401Z
SUMMARY:Carac Festival
DESCRIPTION:Le festival culturel du campus des hautes écoles | 27 avril au
  24 mai | Uni Mail et alentours
URL:https://www.geneve-communes.ch/agenda/carac-festival
DTSTART;TZID=Europe/Zurich:20260508T120000
DTEND;TZID=Europe/Zurich:20260508T230000
GEO:46.194722;6.140357
END:VEVENT
BEGIN:VEVENT
UID:d7340d92-c6fa-4e1c-b4b7-65c5a13fba9c-12
DTSTAMP:20260423T120401Z
SUMMARY:Carac Festival
DESCRIPTION:Le festival culturel du campus des hautes écoles | 27 avril au
  24 mai | Uni Mail et alentours
URL:https://www.geneve-communes.ch/agenda/carac-festival
DTSTART;TZID=Europe/Zurich:20260509T120000
DTEND;TZID=Europe/Zurich:20260509T230000
GEO:46.194722;6.140357
END:VEVENT
BEGIN:VEVENT
UID:d7340d92-c6fa-4e1c-b4b7-65c5a13fba9c-13
DTSTAMP:20260423T120401Z
SUMMARY:Carac Festival
DESCRIPTION:Le festival culturel du campus des hautes écoles | 27 avril au
  24 mai | Uni Mail et alentours
URL:https://www.geneve-communes.ch/agenda/carac-festival
DTSTART;TZID=Europe/Zurich:20260510T120000
DTEND;TZID=Europe/Zurich:20260510T230000
GEO:46.194722;6.140357
END:VEVENT
BEGIN:VEVENT
UID:d7340d92-c6fa-4e1c-b4b7-65c5a13fba9c-14
DTSTAMP:20260423T120401Z
SUMMARY:Carac Festival
DESCRIPTION:Le festival culturel du campus des hautes écoles | 27 avril au
  24 mai | Uni Mail et alentours
URL:https://www.geneve-communes.ch/agenda/carac-festival
DTSTART;TZID=Europe/Zurich:20260511T120000
DTEND;TZID=Europe/Zurich:20260511T230000
GEO:46.194722;6.140357
END:VEVENT
BEGIN:VEVENT
UID:d7340d92-c6fa-4e1c-b4b7-65c5a13fba9c-15
DTSTAMP:20260423T120401Z
SUMMARY:Carac Festival
DESCRIPTION:Le festival culturel du campus des hautes écoles | 27 avril au
  24 mai | Uni Mail et alentours
URL:https://www.geneve-communes.ch/agenda/carac-festival
DTSTART;TZID=Europe/Zurich:20260512T120000
DTEND;TZID=Europe/Zurich:20260512T230000
GEO:46.194722;6.140357
END:VEVENT
BEGIN:VEVENT
UID:d7340d92-c6fa-4e1c-b4b7-65c5a13fba9c-16
DTSTAMP:20260423T120401Z
SUMMARY:Carac Festival
DESCRIPTION:Le festival culturel du campus des hautes écoles | 27 avril au
  24 mai | Uni Mail et alentours
URL:https://www.geneve-communes.ch/agenda/carac-festival
DTSTART;TZID=Europe/Zurich:20260513T120000
DTEND;TZID=Europe/Zurich:20260513T230000
GEO:46.194722;6.140357
END:VEVENT
BEGIN:VEVENT
UID:d7340d92-c6fa-4e1c-b4b7-65c5a13fba9c-17
DTSTAMP:20260423T120401Z
SUMMARY:Carac Festival
DESCRIPTION:Le festival culturel du campus des hautes écoles | 27 avril au
  24 mai | Uni Mail et alentours
URL:https://www.geneve-communes.ch/agenda/carac-festival
DTSTART;TZID=Europe/Zurich:20260514T120000
DTEND;TZID=Europe/Zurich:20260514T230000
GEO:46.194722;6.140357
END:VEVENT
BEGIN:VEVENT
UID:d7340d92-c6fa-4e1c-b4b7-65c5a13fba9c-18
DTSTAMP:20260423T120401Z
SUMMARY:Carac Festival
DESCRIPTION:Le festival culturel du campus des hautes écoles | 27 avril au
  24 mai | Uni Mail et alentours
URL:https://www.geneve-communes.ch/agenda/carac-festival
DTSTART;TZID=Europe/Zurich:20260515T120000
DTEND;TZID=Europe/Zurich:20260515T230000
GEO:46.194722;6.140357
END:VEVENT
BEGIN:VEVENT
UID:d7340d92-c6fa-4e1c-b4b7-65c5a13fba9c-19
DTSTAMP:20260423T120401Z
SUMMARY:Carac Festival
DESCRIPTION:Le festival culturel du campus des hautes écoles | 27 avril au
  24 mai | Uni Mail et alentours
URL:https://www.geneve-communes.ch/agenda/carac-festival
DTSTART;TZID=Europe/Zurich:20260516T120000
DTEND;TZID=Europe/Zurich:20260516T230000
GEO:46.194722;6.140357
END:VEVENT
BEGIN:VEVENT
UID:d7340d92-c6fa-4e1c-b4b7-65c5a13fba9c-20
DTSTAMP:20260423T120401Z
SUMMARY:Carac Festival
DESCRIPTION:Le festival culturel du campus des hautes écoles | 27 avril au
  24 mai | Uni Mail et alentours
URL:https://www.geneve-communes.ch/agenda/carac-festival
DTSTART;TZID=Europe/Zurich:20260517T120000
DTEND;TZID=Europe/Zurich:20260517T230000
GEO:46.194722;6.140357
END:VEVENT
BEGIN:VEVENT
UID:d7340d92-c6fa-4e1c-b4b7-65c5a13fba9c-21
DTSTAMP:20260423T120401Z
SUMMARY:Carac Festival
DESCRIPTION:Le festival culturel du campus des hautes écoles | 27 avril au
  24 mai | Uni Mail et alentours
URL:https://www.geneve-communes.ch/agenda/carac-festival
DTSTART;TZID=Europe/Zurich:20260518T120000
DTEND;TZID=Europe/Zurich:20260518T230000
GEO:46.194722;6.140357
END:VEVENT
BEGIN:VEVENT
UID:d7340d92-c6fa-4e1c-b4b7-65c5a13fba9c-22
DTSTAMP:20260423T120401Z
SUMMARY:Carac Festival
DESCRIPTION:Le festival culturel du campus des hautes écoles | 27 avril au
  24 mai | Uni Mail et alentours
URL:https://www.geneve-communes.ch/agenda/carac-festival
DTSTART;TZID=Europe/Zurich:20260519T120000
DTEND;TZID=Europe/Zurich:20260519T230000
GEO:46.194722;6.140357
END:VEVENT
BEGIN:VEVENT
UID:d7340d92-c6fa-4e1c-b4b7-65c5a13fba9c-23
DTSTAMP:20260423T120401Z
SUMMARY:Carac Festival
DESCRIPTION:Le festival culturel du campus des hautes écoles | 27 avril au
  24 mai | Uni Mail et alentours
URL:https://www.geneve-communes.ch/agenda/carac-festival
DTSTART;TZID=Europe/Zurich:20260520T120000
DTEND;TZID=Europe/Zurich:20260520T230000
GEO:46.194722;6.140357
END:VEVENT
BEGIN:VEVENT
UID:d7340d92-c6fa-4e1c-b4b7-65c5a13fba9c-24
DTSTAMP:20260423T120401Z
SUMMARY:Carac Festival
DESCRIPTION:Le festival culturel du campus des hautes écoles | 27 avril au
  24 mai | Uni Mail et alentours
URL:https://www.geneve-communes.ch/agenda/carac-festival
DTSTART;TZID=Europe/Zurich:20260521T120000
DTEND;TZID=Europe/Zurich:20260521T230000
GEO:46.194722;6.140357
END:VEVENT
BEGIN:VEVENT
UID:d7340d92-c6fa-4e1c-b4b7-65c5a13fba9c-25
DTSTAMP:20260423T120401Z
SUMMARY:Carac Festival
DESCRIPTION:Le festival culturel du campus des hautes écoles | 27 avril au
  24 mai | Uni Mail et alentours
URL:https://www.geneve-communes.ch/agenda/carac-festival
DTSTART;TZID=Europe/Zurich:20260522T120000
DTEND;TZID=Europe/Zurich:20260522T230000
GEO:46.194722;6.140357
END:VEVENT
BEGIN:VEVENT
UID:d7340d92-c6fa-4e1c-b4b7-65c5a13fba9c-26
DTSTAMP:20260423T120401Z
SUMMARY:Carac Festival
DESCRIPTION:Le festival culturel du campus des hautes écoles | 27 avril au
  24 mai | Uni Mail et alentours
URL:https://www.geneve-communes.ch/agenda/carac-festival
DTSTART;TZID=Europe/Zurich:20260523T120000
DTEND;TZID=Europe/Zurich:20260523T230000
GEO:46.194722;6.140357
END:VEVENT
BEGIN:VEVENT
UID:d7340d92-c6fa-4e1c-b4b7-65c5a13fba9c-27
DTSTAMP:20260423T120401Z
SUMMARY:Carac Festival
DESCRIPTION:Le festival culturel du campus des hautes écoles | 27 avril au
  24 mai | Uni Mail et alentours
URL:https://www.geneve-communes.ch/agenda/carac-festival
DTSTART;TZID=Europe/Zurich:20260524T120000
DTEND;TZID=Europe/Zurich:20260524T230000
GEO:46.194722;6.140357
END:VEVENT
END:VCALENDAR