BEGIN:VCALENDAR
VERSION:2.0
PRODID:-//Les communes genevoises//Agenda//FR
NAME:Les communes genevoises
X-WR-CALNAME:Les communes genevoises
BEGIN:VTIMEZONE
TZID:Europe/Zurich
BEGIN:STANDARD
DTSTART:20251026T030000
TZOFFSETFROM:+0200
TZOFFSETTO:+0100
END:STANDARD
BEGIN:DAYLIGHT
DTSTART:20260329T010000
TZOFFSETFROM:+0100
TZOFFSETTO:+0200
END:DAYLIGHT
BEGIN:STANDARD
DTSTART:20261025T030000
TZOFFSETFROM:+0200
TZOFFSETTO:+0100
END:STANDARD
END:VTIMEZONE
BEGIN:VTIMEZONE
TZID:UTC
BEGIN:STANDARD
DTSTART:20250727T090000
TZOFFSETFROM:+0000
TZOFFSETTO:+0000
END:STANDARD
END:VTIMEZONE
BEGIN:VEVENT
UID:0b64cc11-5c04-4ac5-b756-f926fc328aca-0
DTSTAMP:20260423T090000Z
SUMMARY:Nu Guo – Au Nom De La Mère\, par Francesca ROSATI FREEMAN
DESCRIPTION:Un documentaire sur un peuple vivant au pied de l'Himalaya\, le
 s Moso.
URL:https://www.geneve-communes.ch/agenda/nu-guo-au-nom-de-la-mere-par-fran
 cesca-rosati-freeman
DTSTART;TZID=Europe/Zurich:20260504T190000
DTEND;TZID=Europe/Zurich:20260504T203000
GEO:46.209642;6.139686
END:VEVENT
END:VCALENDAR