BEGIN:VCALENDAR
VERSION:2.0
PRODID:-//Les communes genevoises//Agenda//FR
NAME:Les communes genevoises
X-WR-CALNAME:Les communes genevoises
BEGIN:VTIMEZONE
TZID:Europe/Zurich
BEGIN:STANDARD
DTSTART:20251026T030000
TZOFFSETFROM:+0200
TZOFFSETTO:+0100
END:STANDARD
BEGIN:DAYLIGHT
DTSTART:20260329T010000
TZOFFSETFROM:+0100
TZOFFSETTO:+0200
END:DAYLIGHT
BEGIN:STANDARD
DTSTART:20261025T030000
TZOFFSETFROM:+0200
TZOFFSETTO:+0100
END:STANDARD
END:VTIMEZONE
BEGIN:VTIMEZONE
TZID:UTC
BEGIN:STANDARD
DTSTART:20250727T080001
TZOFFSETFROM:+0000
TZOFFSETTO:+0000
END:STANDARD
END:VTIMEZONE
BEGIN:VEVENT
UID:2662cd28-48de-43b1-bdcc-a62ef09ac2fe-0
DTSTAMP:20260423T080001Z
SUMMARY:GENEVA STREET FOOD FESTIVAL
DESCRIPTION:Le Geneva Street Food Festival est de retour sur la Plaine de P
 lainpalais!
LOCATION:Av. du Mail\, 1205 Genève\, 1200 Genève\, Suisse
URL:https://www.geneve-communes.ch/agenda/geneva-street-food-festival
DTSTART;TZID=Europe/Zurich:20260625T170000
DTEND;TZID=Europe/Zurich:20260625T220000
GEO:46.198102;6.140628
X-APPLE-STRUCTURED-LOCATION;VALUE=URI;X-ADDRESS=Av. du Mail\, 1205 Genève\
 , 1200 Genève\, Suisse;X-APPLE-RADIUS=72;X-TITLE=Plaine de Plainpalais:ge
 o:46.198102,6.140628
END:VEVENT
BEGIN:VEVENT
UID:2662cd28-48de-43b1-bdcc-a62ef09ac2fe-1
DTSTAMP:20260423T080001Z
SUMMARY:GENEVA STREET FOOD FESTIVAL
DESCRIPTION:Le Geneva Street Food Festival est de retour sur la Plaine de P
 lainpalais!
LOCATION:Av. du Mail\, 1205 Genève\, 1200 Genève\, Suisse
URL:https://www.geneve-communes.ch/agenda/geneva-street-food-festival
DTSTART;TZID=Europe/Zurich:20260626T120000
DTEND;TZID=Europe/Zurich:20260626T235900
GEO:46.198102;6.140628
X-APPLE-STRUCTURED-LOCATION;VALUE=URI;X-ADDRESS=Av. du Mail\, 1205 Genève\
 , 1200 Genève\, Suisse;X-APPLE-RADIUS=72;X-TITLE=Plaine de Plainpalais:ge
 o:46.198102,6.140628
END:VEVENT
BEGIN:VEVENT
UID:2662cd28-48de-43b1-bdcc-a62ef09ac2fe-2
DTSTAMP:20260423T080001Z
SUMMARY:GENEVA STREET FOOD FESTIVAL
DESCRIPTION:Le Geneva Street Food Festival est de retour sur la Plaine de P
 lainpalais!
LOCATION:Av. du Mail\, 1205 Genève\, 1200 Genève\, Suisse
URL:https://www.geneve-communes.ch/agenda/geneva-street-food-festival
DTSTART;TZID=Europe/Zurich:20260627T120000
DTEND;TZID=Europe/Zurich:20260627T235900
GEO:46.198102;6.140628
X-APPLE-STRUCTURED-LOCATION;VALUE=URI;X-ADDRESS=Av. du Mail\, 1205 Genève\
 , 1200 Genève\, Suisse;X-APPLE-RADIUS=72;X-TITLE=Plaine de Plainpalais:ge
 o:46.198102,6.140628
END:VEVENT
BEGIN:VEVENT
UID:2662cd28-48de-43b1-bdcc-a62ef09ac2fe-3
DTSTAMP:20260423T080001Z
SUMMARY:GENEVA STREET FOOD FESTIVAL
DESCRIPTION:Le Geneva Street Food Festival est de retour sur la Plaine de P
 lainpalais!
LOCATION:Av. du Mail\, 1205 Genève\, 1200 Genève\, Suisse
URL:https://www.geneve-communes.ch/agenda/geneva-street-food-festival
DTSTART;TZID=Europe/Zurich:20260628T120000
DTEND;TZID=Europe/Zurich:20260628T220000
GEO:46.198102;6.140628
X-APPLE-STRUCTURED-LOCATION;VALUE=URI;X-ADDRESS=Av. du Mail\, 1205 Genève\
 , 1200 Genève\, Suisse;X-APPLE-RADIUS=72;X-TITLE=Plaine de Plainpalais:ge
 o:46.198102,6.140628
END:VEVENT
BEGIN:VEVENT
UID:2662cd28-48de-43b1-bdcc-a62ef09ac2fe-4
DTSTAMP:20260423T080001Z
SUMMARY:GENEVA STREET FOOD FESTIVAL
DESCRIPTION:Le Geneva Street Food Festival est de retour sur la Plaine de P
 lainpalais!
LOCATION:Av. du Mail\, 1205 Genève\, 1200 Genève\, Suisse
URL:https://www.geneve-communes.ch/agenda/geneva-street-food-festival
DTSTART;TZID=Europe/Zurich:20260629T120000
DTEND;TZID=Europe/Zurich:20260629T220000
GEO:46.198102;6.140628
X-APPLE-STRUCTURED-LOCATION;VALUE=URI;X-ADDRESS=Av. du Mail\, 1205 Genève\
 , 1200 Genève\, Suisse;X-APPLE-RADIUS=72;X-TITLE=Plaine de Plainpalais:ge
 o:46.198102,6.140628
END:VEVENT
BEGIN:VEVENT
UID:2662cd28-48de-43b1-bdcc-a62ef09ac2fe-5
DTSTAMP:20260423T080001Z
SUMMARY:GENEVA STREET FOOD FESTIVAL
DESCRIPTION:Le Geneva Street Food Festival est de retour sur la Plaine de P
 lainpalais!
LOCATION:Av. du Mail\, 1205 Genève\, 1200 Genève\, Suisse
URL:https://www.geneve-communes.ch/agenda/geneva-street-food-festival
DTSTART;TZID=Europe/Zurich:20260630T120000
DTEND;TZID=Europe/Zurich:20260630T220000
GEO:46.198102;6.140628
X-APPLE-STRUCTURED-LOCATION;VALUE=URI;X-ADDRESS=Av. du Mail\, 1205 Genève\
 , 1200 Genève\, Suisse;X-APPLE-RADIUS=72;X-TITLE=Plaine de Plainpalais:ge
 o:46.198102,6.140628
END:VEVENT
BEGIN:VEVENT
UID:2662cd28-48de-43b1-bdcc-a62ef09ac2fe-6
DTSTAMP:20260423T080001Z
SUMMARY:GENEVA STREET FOOD FESTIVAL
DESCRIPTION:Le Geneva Street Food Festival est de retour sur la Plaine de P
 lainpalais!
LOCATION:Av. du Mail\, 1205 Genève\, 1200 Genève\, Suisse
URL:https://www.geneve-communes.ch/agenda/geneva-street-food-festival
DTSTART;TZID=Europe/Zurich:20260701T120000
DTEND;TZID=Europe/Zurich:20260701T220000
GEO:46.198102;6.140628
X-APPLE-STRUCTURED-LOCATION;VALUE=URI;X-ADDRESS=Av. du Mail\, 1205 Genève\
 , 1200 Genève\, Suisse;X-APPLE-RADIUS=72;X-TITLE=Plaine de Plainpalais:ge
 o:46.198102,6.140628
END:VEVENT
BEGIN:VEVENT
UID:2662cd28-48de-43b1-bdcc-a62ef09ac2fe-7
DTSTAMP:20260423T080001Z
SUMMARY:GENEVA STREET FOOD FESTIVAL
DESCRIPTION:Le Geneva Street Food Festival est de retour sur la Plaine de P
 lainpalais!
LOCATION:Av. du Mail\, 1205 Genève\, 1200 Genève\, Suisse
URL:https://www.geneve-communes.ch/agenda/geneva-street-food-festival
DTSTART;TZID=Europe/Zurich:20260702T120000
DTEND;TZID=Europe/Zurich:20260702T220000
GEO:46.198102;6.140628
X-APPLE-STRUCTURED-LOCATION;VALUE=URI;X-ADDRESS=Av. du Mail\, 1205 Genève\
 , 1200 Genève\, Suisse;X-APPLE-RADIUS=72;X-TITLE=Plaine de Plainpalais:ge
 o:46.198102,6.140628
END:VEVENT
BEGIN:VEVENT
UID:2662cd28-48de-43b1-bdcc-a62ef09ac2fe-8
DTSTAMP:20260423T080001Z
SUMMARY:GENEVA STREET FOOD FESTIVAL
DESCRIPTION:Le Geneva Street Food Festival est de retour sur la Plaine de P
 lainpalais!
LOCATION:Av. du Mail\, 1205 Genève\, 1200 Genève\, Suisse
URL:https://www.geneve-communes.ch/agenda/geneva-street-food-festival
DTSTART;TZID=Europe/Zurich:20260703T120000
DTEND;TZID=Europe/Zurich:20260703T235900
GEO:46.198102;6.140628
X-APPLE-STRUCTURED-LOCATION;VALUE=URI;X-ADDRESS=Av. du Mail\, 1205 Genève\
 , 1200 Genève\, Suisse;X-APPLE-RADIUS=72;X-TITLE=Plaine de Plainpalais:ge
 o:46.198102,6.140628
END:VEVENT
BEGIN:VEVENT
UID:2662cd28-48de-43b1-bdcc-a62ef09ac2fe-9
DTSTAMP:20260423T080001Z
SUMMARY:GENEVA STREET FOOD FESTIVAL
DESCRIPTION:Le Geneva Street Food Festival est de retour sur la Plaine de P
 lainpalais!
LOCATION:Av. du Mail\, 1205 Genève\, 1200 Genève\, Suisse
URL:https://www.geneve-communes.ch/agenda/geneva-street-food-festival
DTSTART;TZID=Europe/Zurich:20260704T120000
DTEND;TZID=Europe/Zurich:20260704T235900
GEO:46.198102;6.140628
X-APPLE-STRUCTURED-LOCATION;VALUE=URI;X-ADDRESS=Av. du Mail\, 1205 Genève\
 , 1200 Genève\, Suisse;X-APPLE-RADIUS=72;X-TITLE=Plaine de Plainpalais:ge
 o:46.198102,6.140628
END:VEVENT
BEGIN:VEVENT
UID:2662cd28-48de-43b1-bdcc-a62ef09ac2fe-10
DTSTAMP:20260423T080001Z
SUMMARY:GENEVA STREET FOOD FESTIVAL
DESCRIPTION:Le Geneva Street Food Festival est de retour sur la Plaine de P
 lainpalais!
LOCATION:Av. du Mail\, 1205 Genève\, 1200 Genève\, Suisse
URL:https://www.geneve-communes.ch/agenda/geneva-street-food-festival
DTSTART;TZID=Europe/Zurich:20260705T120000
DTEND;TZID=Europe/Zurich:20260705T220000
GEO:46.198102;6.140628
X-APPLE-STRUCTURED-LOCATION;VALUE=URI;X-ADDRESS=Av. du Mail\, 1205 Genève\
 , 1200 Genève\, Suisse;X-APPLE-RADIUS=72;X-TITLE=Plaine de Plainpalais:ge
 o:46.198102,6.140628
END:VEVENT
END:VCALENDAR