BEGIN:VCALENDAR
VERSION:2.0
PRODID:-//Les communes genevoises//Agenda//FR
NAME:Les communes genevoises
X-WR-CALNAME:Les communes genevoises
BEGIN:VTIMEZONE
TZID:Europe/Zurich
BEGIN:STANDARD
DTSTART:20251026T030000
TZOFFSETFROM:+0200
TZOFFSETTO:+0100
END:STANDARD
BEGIN:DAYLIGHT
DTSTART:20260329T010000
TZOFFSETFROM:+0100
TZOFFSETTO:+0200
END:DAYLIGHT
BEGIN:STANDARD
DTSTART:20261025T030000
TZOFFSETFROM:+0200
TZOFFSETTO:+0100
END:STANDARD
END:VTIMEZONE
BEGIN:VTIMEZONE
TZID:UTC
BEGIN:STANDARD
DTSTART:20250727T073400
TZOFFSETFROM:+0000
TZOFFSETTO:+0000
END:STANDARD
END:VTIMEZONE
BEGIN:VEVENT
UID:c24c71a1-7369-4013-94b9-afd09c0535ce-0
DTSTAMP:20260423T073400Z
SUMMARY:Geneva International Sevens
DESCRIPTION:Geneva International Sevens\, les 4 et 5 juillet 2026 aux Cherp
 ines à Plan-les-Ouates : rugby à 7 de haut niveau\, ambiance festive et 
 restauration sur place. Entrée libre.
LOCATION:Genève\, 1204 Genève\, Suisse
URL:https://www.geneve-communes.ch/agenda/geneva-international-sevens
DTSTART;TZID=Europe/Zurich:20260704T100000
DTEND;TZID=Europe/Zurich:20260704T183000
GEO:46.201756;6.146601
X-APPLE-STRUCTURED-LOCATION;VALUE=URI;X-ADDRESS=Genève\, 1204 Genève\, Su
 isse;X-APPLE-RADIUS=72;X-TITLE=Autre lieu:geo:46.201756,6.146601
END:VEVENT
BEGIN:VEVENT
UID:c24c71a1-7369-4013-94b9-afd09c0535ce-1
DTSTAMP:20260423T073400Z
SUMMARY:Geneva International Sevens
DESCRIPTION:Geneva International Sevens\, les 4 et 5 juillet 2026 aux Cherp
 ines à Plan-les-Ouates : rugby à 7 de haut niveau\, ambiance festive et 
 restauration sur place. Entrée libre.
LOCATION:Genève\, 1204 Genève\, Suisse
URL:https://www.geneve-communes.ch/agenda/geneva-international-sevens
DTSTART;TZID=Europe/Zurich:20260705T100000
DTEND;TZID=Europe/Zurich:20260705T183000
GEO:46.201756;6.146601
X-APPLE-STRUCTURED-LOCATION;VALUE=URI;X-ADDRESS=Genève\, 1204 Genève\, Su
 isse;X-APPLE-RADIUS=72;X-TITLE=Autre lieu:geo:46.201756,6.146601
END:VEVENT
END:VCALENDAR