BEGIN:VCALENDAR
VERSION:2.0
PRODID:-//Les communes genevoises//Agenda//FR
NAME:Les communes genevoises
X-WR-CALNAME:Les communes genevoises
BEGIN:VTIMEZONE
TZID:Europe/Zurich
BEGIN:STANDARD
DTSTART:20251026T030000
TZOFFSETFROM:+0200
TZOFFSETTO:+0100
END:STANDARD
BEGIN:DAYLIGHT
DTSTART:20260329T010000
TZOFFSETFROM:+0100
TZOFFSETTO:+0200
END:DAYLIGHT
BEGIN:STANDARD
DTSTART:20261025T030000
TZOFFSETFROM:+0200
TZOFFSETTO:+0100
END:STANDARD
END:VTIMEZONE
BEGIN:VTIMEZONE
TZID:UTC
BEGIN:STANDARD
DTSTART:20250727T073400
TZOFFSETFROM:+0000
TZOFFSETTO:+0000
END:STANDARD
END:VTIMEZONE
BEGIN:VEVENT
UID:9de7892d-634f-450f-b64b-00416bf5d5dd-0
DTSTAMP:20260423T073400Z
SUMMARY:Milonga Brava avec Demián García et Elizaveta Tavrovskaya
DESCRIPTION:Milonga Brava : soirée tango avec stage par Demián & Elizavet
 a et milonga avec DJ Maria. Danse\, rencontres et ambiance conviviale. Jeu
 di 28 mai\, Espace de quartier de Sécheron. Open bar inclus.
LOCATION:Rue Anne-Torcapel 2\, 1202 Genève\, 1202 Genève\, Suisse
URL:https://www.geneve-communes.ch/agenda/milonga-brava-avec-demian-garcia-
 et-elizaveta-tavrovskaya
DTSTART;TZID=Europe/Zurich:20260528T184500
DTEND;TZID=Europe/Zurich:20260528T233000
GEO:46.218949;6.146608
X-APPLE-STRUCTURED-LOCATION;VALUE=URI;X-ADDRESS=Rue Anne-Torcapel 2\, 1202 
 Genève\, 1202 Genève\, Suisse;X-APPLE-RADIUS=72;X-TITLE=Espace de quarti
 er Sécheron:geo:46.218949,6.146608
END:VEVENT
END:VCALENDAR