BEGIN:VCALENDAR
VERSION:2.0
PRODID:-//Les communes genevoises//Agenda//FR
NAME:Les communes genevoises
X-WR-CALNAME:Les communes genevoises
BEGIN:VTIMEZONE
TZID:Europe/Zurich
BEGIN:STANDARD
DTSTART:20251026T030000
TZOFFSETFROM:+0200
TZOFFSETTO:+0100
END:STANDARD
BEGIN:DAYLIGHT
DTSTART:20260329T010000
TZOFFSETFROM:+0100
TZOFFSETTO:+0200
END:DAYLIGHT
BEGIN:STANDARD
DTSTART:20261025T030000
TZOFFSETFROM:+0200
TZOFFSETTO:+0100
END:STANDARD
END:VTIMEZONE
BEGIN:VTIMEZONE
TZID:UTC
BEGIN:STANDARD
DTSTART:20250727T073400
TZOFFSETFROM:+0000
TZOFFSETTO:+0000
END:STANDARD
END:VTIMEZONE
BEGIN:VEVENT
UID:7a9efd88-fd44-4aa5-bc0e-91f93de91e24-0
DTSTAMP:20260423T073400Z
SUMMARY:Cours de Tango Argentin - Niveau débutant
DESCRIPTION:Chaque jeudi à midi (12h15 à 13h15) à Plainpalais  Instructe
 urs: Esteban García & Dorotea Schepens Maison de Quartier de Plainpalais 
 Rue de la Tour 1\, 1205 Genève Cours à prix libre! Niveau débutant
LOCATION:Rue de la Tour 1\, 1205 Genève\, 1205 Genève\, Suisse
URL:https://www.geneve-communes.ch/agenda/cours-de-tango-argentin-niveau-de
 butant-0
DTSTART;TZID=Europe/Zurich:20260423T121500
DTEND;TZID=Europe/Zurich:20260423T131500
GEO:46.195125;6.146549
X-APPLE-STRUCTURED-LOCATION;VALUE=URI;X-ADDRESS=Rue de la Tour 1\, 1205 Gen
 ève\, 1205 Genève\, Suisse;X-APPLE-RADIUS=72;X-TITLE=Maison de quartier 
 de Plainpalais:geo:46.195125,6.146549
END:VEVENT
END:VCALENDAR