BEGIN:VCALENDAR
VERSION:2.0
PRODID:-//Les communes genevoises//Agenda//FR
NAME:Les communes genevoises
X-WR-CALNAME:Les communes genevoises
BEGIN:VTIMEZONE
TZID:Europe/Zurich
BEGIN:STANDARD
DTSTART:20251026T030000
TZOFFSETFROM:+0200
TZOFFSETTO:+0100
END:STANDARD
BEGIN:DAYLIGHT
DTSTART:20260329T010000
TZOFFSETFROM:+0100
TZOFFSETTO:+0200
END:DAYLIGHT
BEGIN:STANDARD
DTSTART:20261025T030000
TZOFFSETFROM:+0200
TZOFFSETTO:+0100
END:STANDARD
END:VTIMEZONE
BEGIN:VTIMEZONE
TZID:UTC
BEGIN:STANDARD
DTSTART:20250727T071201
TZOFFSETFROM:+0000
TZOFFSETTO:+0000
END:STANDARD
END:VTIMEZONE
BEGIN:VEVENT
UID:0303910d-4e68-4d00-85ed-11ccab905710-0
DTSTAMP:20260423T071201Z
SUMMARY:Milonga Brava avec Daniel Urquilla et Mihoko Sakata
DESCRIPTION:Milonga Brava : soirée tango avec stage par Daniel & Mihoko et
  milonga avec DJ Alvaro. Danse\, rencontres et ambiance conviviale. Jeudi 
 21 mai\, Espace de quartier de Sécheron. Open bar inclus.
LOCATION:Rue Anne-Torcapel 2\, 1202 Genève\, 1202 Genève\, Suisse
URL:https://www.geneve-communes.ch/agenda/milonga-brava-avec-daniel-urquill
 a-et-mihoko-sakata
DTSTART;TZID=Europe/Zurich:20260521T184500
DTEND;TZID=Europe/Zurich:20260521T233000
GEO:46.218949;6.146608
X-APPLE-STRUCTURED-LOCATION;VALUE=URI;X-ADDRESS=Rue Anne-Torcapel 2\, 1202 
 Genève\, 1202 Genève\, Suisse;X-APPLE-RADIUS=72;X-TITLE=Espace de quarti
 er Sécheron:geo:46.218949,6.146608
END:VEVENT
END:VCALENDAR