BEGIN:VCALENDAR
VERSION:2.0
PRODID:-//Les communes genevoises//Agenda//FR
NAME:Les communes genevoises
X-WR-CALNAME:Les communes genevoises
BEGIN:VTIMEZONE
TZID:Europe/Zurich
BEGIN:DAYLIGHT
DTSTART:20260329T010000
TZOFFSETFROM:+0100
TZOFFSETTO:+0200
END:DAYLIGHT
BEGIN:STANDARD
DTSTART:20261025T030000
TZOFFSETFROM:+0200
TZOFFSETTO:+0100
END:STANDARD
BEGIN:DAYLIGHT
DTSTART:20270328T010000
TZOFFSETFROM:+0100
TZOFFSETTO:+0200
END:DAYLIGHT
END:VTIMEZONE
BEGIN:VTIMEZONE
TZID:UTC
BEGIN:STANDARD
DTSTART:20250726T161600
TZOFFSETFROM:+0000
TZOFFSETTO:+0000
END:STANDARD
END:VTIMEZONE
BEGIN:VEVENT
UID:5e9e0f45-ae79-4b54-b997-9f92e54ade09-0
DTSTAMP:20260422T161600Z
SUMMARY:ROUNHAA
DESCRIPTION:Soldout Productions & TCO Prod présentent : Rounhaa en concert
  à l'Alhambra\, le 24 octobre 2026
LOCATION:Rue de la Rôtisserie 10\, 1204 Genève\, 1204 Genève\, Suisse
URL:https://www.geneve-communes.ch/agenda/rounhaa
DTSTART;TZID=Europe/Zurich:20261024T200000
DTEND;TZID=Europe/Zurich:20261024T220000
GEO:46.202758;6.146467
X-APPLE-STRUCTURED-LOCATION;VALUE=URI;X-ADDRESS=Rue de la Rôtisserie 10\, 
 1204 Genève\, 1204 Genève\, Suisse;X-APPLE-RADIUS=72;X-TITLE=Alhambra:ge
 o:46.202758,6.146467
END:VEVENT
END:VCALENDAR