BEGIN:VCALENDAR
VERSION:2.0
PRODID:-//Les communes genevoises//Agenda//FR
NAME:Les communes genevoises
X-WR-CALNAME:Les communes genevoises
BEGIN:VTIMEZONE
TZID:Europe/Zurich
BEGIN:STANDARD
DTSTART:20251026T030000
TZOFFSETFROM:+0200
TZOFFSETTO:+0100
END:STANDARD
BEGIN:DAYLIGHT
DTSTART:20260329T010000
TZOFFSETFROM:+0100
TZOFFSETTO:+0200
END:DAYLIGHT
BEGIN:STANDARD
DTSTART:20261025T030000
TZOFFSETFROM:+0200
TZOFFSETTO:+0100
END:STANDARD
END:VTIMEZONE
BEGIN:VTIMEZONE
TZID:UTC
BEGIN:STANDARD
DTSTART:20250726T161600
TZOFFSETFROM:+0000
TZOFFSETTO:+0000
END:STANDARD
END:VTIMEZONE
BEGIN:VEVENT
UID:c75bbc8f-e2a9-4e1d-92fe-86c2b9f681dd-0
DTSTAMP:20260422T161600Z
SUMMARY:Projection du film Historias lamentables
DESCRIPTION:Projection film Historias lamentables (2020)\, de Javier Fesser
 \, le 8 mai à 19h30. Comédie offrant un regard singulier sur le quotidie
 n. Version originale espagnole
LOCATION:58 rue de Lyon\, 1203 Genève\, Suisse
URL:https://www.geneve-communes.ch/agenda/projection-du-film-historias-lame
 ntables
DTSTART;TZID=Europe/Zurich:20260508T193000
DTEND;TZID=Europe/Zurich:20260508T213000
GEO:46.209221;6.129566
X-APPLE-STRUCTURED-LOCATION;VALUE=URI;X-ADDRESS=58 rue de Lyon\, 1203 Genè
 ve\, Suisse;X-APPLE-RADIUS=72;X-TITLE=Aula de Geisendorf:geo:46.209221,6.1
 29566
END:VEVENT
END:VCALENDAR