BEGIN:VCALENDAR
VERSION:2.0
PRODID:-//Les communes genevoises//Agenda//FR
NAME:Les communes genevoises
X-WR-CALNAME:Les communes genevoises
BEGIN:VTIMEZONE
TZID:Europe/Zurich
BEGIN:STANDARD
DTSTART:20251026T030000
TZOFFSETFROM:+0200
TZOFFSETTO:+0100
END:STANDARD
BEGIN:DAYLIGHT
DTSTART:20260329T010000
TZOFFSETFROM:+0100
TZOFFSETTO:+0200
END:DAYLIGHT
BEGIN:STANDARD
DTSTART:20261025T030000
TZOFFSETFROM:+0200
TZOFFSETTO:+0100
END:STANDARD
END:VTIMEZONE
BEGIN:VTIMEZONE
TZID:UTC
BEGIN:STANDARD
DTSTART:20250726T154400
TZOFFSETFROM:+0000
TZOFFSETTO:+0000
END:STANDARD
END:VTIMEZONE
BEGIN:VEVENT
UID:ceda2cac-cffa-49dc-8da0-75d4801ef0e3-0
DTSTAMP:20260422T154400Z
SUMMARY:Séance spéciale de IMAGO en présence du réalisateur Déni Oumar
  Pitsaev!
DESCRIPTION:Mercredi 29 avril à 20H00: Séance spéciale de IMAGO en prés
 ence du réalisateur Déni Oumar Pitsaev!
LOCATION:Rue du Général-DUFOUR 16\, 1204 Genève\, 1205 Genève\, Suisse
URL:https://www.geneve-communes.ch/agenda/seance-speciale-de-imago-en-prese
 nce-du-realisateur-deni-oumar-pitsaev
DTSTART;TZID=Europe/Zurich:20260429T200000
DTEND;TZID=Europe/Zurich:20260429T220000
GEO:46.201084;6.141722
X-APPLE-STRUCTURED-LOCATION;VALUE=URI;X-ADDRESS=Rue du Général-DUFOUR 16\
 , 1204 Genève\, 1205 Genève\, Suisse;X-APPLE-RADIUS=72;X-TITLE=Cinémas 
 du Grütli:geo:46.201084,6.141722
END:VEVENT
END:VCALENDAR