BEGIN:VCALENDAR
VERSION:2.0
PRODID:-//Les communes genevoises//Agenda//FR
NAME:Les communes genevoises
X-WR-CALNAME:Les communes genevoises
BEGIN:VTIMEZONE
TZID:Europe/Zurich
BEGIN:STANDARD
DTSTART:20251026T030000
TZOFFSETFROM:+0200
TZOFFSETTO:+0100
END:STANDARD
BEGIN:DAYLIGHT
DTSTART:20260329T010000
TZOFFSETFROM:+0100
TZOFFSETTO:+0200
END:DAYLIGHT
BEGIN:STANDARD
DTSTART:20261025T030000
TZOFFSETFROM:+0200
TZOFFSETTO:+0100
END:STANDARD
END:VTIMEZONE
BEGIN:VTIMEZONE
TZID:UTC
BEGIN:STANDARD
DTSTART:20250726T133800
TZOFFSETFROM:+0000
TZOFFSETTO:+0000
END:STANDARD
END:VTIMEZONE
BEGIN:VEVENT
UID:8b7fe0ea-30b5-42cc-8f92-2995d31e8237-0
DTSTAMP:20260422T133800Z
SUMMARY:Journée mondiale de la Croix-Rouge et du Croissant-Rouge
DESCRIPTION:Le 8 mai\, on célèbre les millions de volontaires et de trava
 illeur·euse·s humanitaires qui\, partout dans le monde\, choisissent de 
 s’engager pour les autres.
LOCATION:Avenue de la Paix 17\, 1202 Genève\, 1209 Genève\, Suisse
URL:https://www.geneve-communes.ch/agenda/journee-mondiale-de-la-croix-roug
 e-et-du-croissant-rouge
DTSTART;TZID=Europe/Zurich:20260508T100000
DTEND;TZID=Europe/Zurich:20260508T170000
GEO:46.227299;6.136907
X-APPLE-STRUCTURED-LOCATION;VALUE=URI;X-ADDRESS=Avenue de la Paix 17\, 1202
  Genève\, 1209 Genève\, Suisse;X-APPLE-RADIUS=72;X-TITLE=Musée internat
 ional de la Croix-Rouge et du Croissant-Rouge:geo:46.227299,6.136907
END:VEVENT
BEGIN:VEVENT
UID:8b7fe0ea-30b5-42cc-8f92-2995d31e8237-1
DTSTAMP:20260422T133800Z
SUMMARY:Journée mondiale de la Croix-Rouge et du Croissant-Rouge
DESCRIPTION:Le 8 mai\, on célèbre les millions de volontaires et de trava
 illeur·euse·s humanitaires qui\, partout dans le monde\, choisissent de 
 s’engager pour les autres.
LOCATION:Avenue de la Paix 17\, 1202 Genève\, 1209 Genève\, Suisse
URL:https://www.geneve-communes.ch/agenda/journee-mondiale-de-la-croix-roug
 e-et-du-croissant-rouge
DTSTART;TZID=Europe/Zurich:20260509T100000
DTEND;TZID=Europe/Zurich:20260509T170000
GEO:46.227299;6.136907
X-APPLE-STRUCTURED-LOCATION;VALUE=URI;X-ADDRESS=Avenue de la Paix 17\, 1202
  Genève\, 1209 Genève\, Suisse;X-APPLE-RADIUS=72;X-TITLE=Musée internat
 ional de la Croix-Rouge et du Croissant-Rouge:geo:46.227299,6.136907
END:VEVENT
BEGIN:VEVENT
UID:8b7fe0ea-30b5-42cc-8f92-2995d31e8237-2
DTSTAMP:20260422T133800Z
SUMMARY:Journée mondiale de la Croix-Rouge et du Croissant-Rouge
DESCRIPTION:Le 8 mai\, on célèbre les millions de volontaires et de trava
 illeur·euse·s humanitaires qui\, partout dans le monde\, choisissent de 
 s’engager pour les autres.
LOCATION:Avenue de la Paix 17\, 1202 Genève\, 1209 Genève\, Suisse
URL:https://www.geneve-communes.ch/agenda/journee-mondiale-de-la-croix-roug
 e-et-du-croissant-rouge
DTSTART;TZID=Europe/Zurich:20260510T100000
DTEND;TZID=Europe/Zurich:20260510T170000
GEO:46.227299;6.136907
X-APPLE-STRUCTURED-LOCATION;VALUE=URI;X-ADDRESS=Avenue de la Paix 17\, 1202
  Genève\, 1209 Genève\, Suisse;X-APPLE-RADIUS=72;X-TITLE=Musée internat
 ional de la Croix-Rouge et du Croissant-Rouge:geo:46.227299,6.136907
END:VEVENT
END:VCALENDAR