BEGIN:VCALENDAR
VERSION:2.0
PRODID:-//Les communes genevoises//Agenda//FR
NAME:Les communes genevoises
X-WR-CALNAME:Les communes genevoises
BEGIN:VTIMEZONE
TZID:Europe/Zurich
BEGIN:STANDARD
DTSTART:20251026T030000
TZOFFSETFROM:+0200
TZOFFSETTO:+0100
END:STANDARD
BEGIN:DAYLIGHT
DTSTART:20260329T010000
TZOFFSETFROM:+0100
TZOFFSETTO:+0200
END:DAYLIGHT
BEGIN:STANDARD
DTSTART:20261025T030000
TZOFFSETFROM:+0200
TZOFFSETTO:+0100
END:STANDARD
END:VTIMEZONE
BEGIN:VTIMEZONE
TZID:UTC
BEGIN:STANDARD
DTSTART:20250726T130600
TZOFFSETFROM:+0000
TZOFFSETTO:+0000
END:STANDARD
END:VTIMEZONE
BEGIN:VEVENT
UID:8a8f8d88-0d1e-43cb-ba84-e2a889b220a8-0
DTSTAMP:20260422T130600Z
SUMMARY:Comment la polarisation des discours s’est imposée au Parlement 
 fédéral? Enquête et débat avec la rédaction du journal « Le Temps »
DESCRIPTION:Polarisation du débat politique: que se passe-t-il au Parlemen
 t suisse? L’étude de 187 403 discours depuis 1999 éclaire cette évolu
 tion. Rendez-vous le 4 juin à Genève pour en débattre.
LOCATION:Genève\, 1204 Genève\, Suisse
URL:https://www.geneve-communes.ch/agenda/comment-la-polarisation-des-disco
 urs-sest-imposee-au-parlement-federal-enquete-et-debat-avec
DTSTART;TZID=Europe/Zurich:20260604T170000
DTEND;TZID=Europe/Zurich:20260604T183000
GEO:46.201756;6.146601
X-APPLE-STRUCTURED-LOCATION;VALUE=URI;X-ADDRESS=Genève\, 1204 Genève\, Su
 isse;X-APPLE-RADIUS=72;X-TITLE=Autre lieu:geo:46.201756,6.146601
END:VEVENT
END:VCALENDAR