BEGIN:VCALENDAR
VERSION:2.0
PRODID:-//Les communes genevoises//Agenda//FR
NAME:Les communes genevoises
X-WR-CALNAME:Les communes genevoises
BEGIN:VTIMEZONE
TZID:Europe/Zurich
BEGIN:STANDARD
DTSTART:20251026T030000
TZOFFSETFROM:+0200
TZOFFSETTO:+0100
END:STANDARD
BEGIN:DAYLIGHT
DTSTART:20260329T010000
TZOFFSETFROM:+0100
TZOFFSETTO:+0200
END:DAYLIGHT
BEGIN:STANDARD
DTSTART:20261025T030000
TZOFFSETFROM:+0200
TZOFFSETTO:+0100
END:STANDARD
END:VTIMEZONE
BEGIN:VTIMEZONE
TZID:UTC
BEGIN:STANDARD
DTSTART:20250726T123600
TZOFFSETFROM:+0000
TZOFFSETTO:+0000
END:STANDARD
END:VTIMEZONE
BEGIN:VEVENT
UID:b25bdf00-72c7-4e5a-b672-7a97493b22ce-0
DTSTAMP:20260422T123600Z
SUMMARY:Sous la Lune II : Voyage dans la ville
DESCRIPTION:Exposition & Atelier participatif de construction d'une ville
LOCATION:Genève\, 1204 Genève\, Suisse
URL:https://www.geneve-communes.ch/agenda/sous-la-lune-ii-voyage-dans-la-vi
 lle
DTSTART;TZID=Europe/Zurich:20260422T133000
DTEND;TZID=Europe/Zurich:20260422T180000
GEO:46.201756;6.146601
X-APPLE-STRUCTURED-LOCATION;VALUE=URI;X-ADDRESS=Genève\, 1204 Genève\, Su
 isse;X-APPLE-RADIUS=72;X-TITLE=Autre lieu:geo:46.201756,6.146601
END:VEVENT
BEGIN:VEVENT
UID:b25bdf00-72c7-4e5a-b672-7a97493b22ce-1
DTSTAMP:20260422T123600Z
SUMMARY:Sous la Lune II : Voyage dans la ville
DESCRIPTION:Exposition & Atelier participatif de construction d'une ville
LOCATION:Genève\, 1204 Genève\, Suisse
URL:https://www.geneve-communes.ch/agenda/sous-la-lune-ii-voyage-dans-la-vi
 lle
DTSTART;TZID=Europe/Zurich:20260425T133000
DTEND;TZID=Europe/Zurich:20260425T180000
GEO:46.201756;6.146601
X-APPLE-STRUCTURED-LOCATION;VALUE=URI;X-ADDRESS=Genève\, 1204 Genève\, Su
 isse;X-APPLE-RADIUS=72;X-TITLE=Autre lieu:geo:46.201756,6.146601
END:VEVENT
BEGIN:VEVENT
UID:b25bdf00-72c7-4e5a-b672-7a97493b22ce-2
DTSTAMP:20260422T123600Z
SUMMARY:Sous la Lune II : Voyage dans la ville
DESCRIPTION:Exposition & Atelier participatif de construction d'une ville
LOCATION:Genève\, 1204 Genève\, Suisse
URL:https://www.geneve-communes.ch/agenda/sous-la-lune-ii-voyage-dans-la-vi
 lle
DTSTART;TZID=Europe/Zurich:20260429T133000
DTEND;TZID=Europe/Zurich:20260429T180000
GEO:46.201756;6.146601
X-APPLE-STRUCTURED-LOCATION;VALUE=URI;X-ADDRESS=Genève\, 1204 Genève\, Su
 isse;X-APPLE-RADIUS=72;X-TITLE=Autre lieu:geo:46.201756,6.146601
END:VEVENT
BEGIN:VEVENT
UID:b25bdf00-72c7-4e5a-b672-7a97493b22ce-3
DTSTAMP:20260422T123600Z
SUMMARY:Sous la Lune II : Voyage dans la ville
DESCRIPTION:Exposition & Atelier participatif de construction d'une ville
LOCATION:Genève\, 1204 Genève\, Suisse
URL:https://www.geneve-communes.ch/agenda/sous-la-lune-ii-voyage-dans-la-vi
 lle
DTSTART;TZID=Europe/Zurich:20260502T133000
DTEND;TZID=Europe/Zurich:20260502T180000
GEO:46.201756;6.146601
X-APPLE-STRUCTURED-LOCATION;VALUE=URI;X-ADDRESS=Genève\, 1204 Genève\, Su
 isse;X-APPLE-RADIUS=72;X-TITLE=Autre lieu:geo:46.201756,6.146601
END:VEVENT
END:VCALENDAR