BEGIN:VCALENDAR
VERSION:2.0
PRODID:-//Les communes genevoises//Agenda//FR
NAME:Les communes genevoises
X-WR-CALNAME:Les communes genevoises
BEGIN:VTIMEZONE
TZID:Europe/Zurich
BEGIN:STANDARD
DTSTART:20251026T030000
TZOFFSETFROM:+0200
TZOFFSETTO:+0100
END:STANDARD
BEGIN:DAYLIGHT
DTSTART:20260329T010000
TZOFFSETFROM:+0100
TZOFFSETTO:+0200
END:DAYLIGHT
BEGIN:STANDARD
DTSTART:20261025T030000
TZOFFSETFROM:+0200
TZOFFSETTO:+0100
END:STANDARD
END:VTIMEZONE
BEGIN:VTIMEZONE
TZID:UTC
BEGIN:STANDARD
DTSTART:20250726T120400
TZOFFSETFROM:+0000
TZOFFSETTO:+0000
END:STANDARD
END:VTIMEZONE
BEGIN:VEVENT
UID:d94c2262-e6a7-4143-8cba-07f75748f2f7-0
DTSTAMP:20260422T120400Z
SUMMARY:ruine l'archive / archive dread / مَنفى الذاكرة
DESCRIPTION:Dans le cadre de la résidence en commissariat 2026 du FMAC\, g
 halas charara et rita elhajj présentent une première exposition\, portan
 t leurs regards complices sur la collection.
LOCATION:Chemin du 23-Août 5\, 1205 Genève\, 1205 Genève\, Suisse
URL:https://www.geneve-communes.ch/agenda/ruine-larchive-archive-dread-manf
 y-aldhakrt
DTSTART;TZID=Europe/Zurich:20260521T180000
DTEND;TZID=Europe/Zurich:20260521T210000
GEO:46.20249;6.135099
X-APPLE-STRUCTURED-LOCATION;VALUE=URI;X-ADDRESS=Chemin du 23-Août 5\, 1205
  Genève\, 1205 Genève\, Suisse;X-APPLE-RADIUS=72;X-TITLE=FMAC (Collectio
 n d'art contemporain de la Ville de Genève):geo:46.20249,6.135099
END:VEVENT
BEGIN:VEVENT
UID:d94c2262-e6a7-4143-8cba-07f75748f2f7-1
DTSTAMP:20260422T120400Z
SUMMARY:ruine l'archive / archive dread / مَنفى الذاكرة
DESCRIPTION:Dans le cadre de la résidence en commissariat 2026 du FMAC\, g
 halas charara et rita elhajj présentent une première exposition\, portan
 t leurs regards complices sur la collection.
LOCATION:Chemin du 23-Août 5\, 1205 Genève\, 1205 Genève\, Suisse
URL:https://www.geneve-communes.ch/agenda/ruine-larchive-archive-dread-manf
 y-aldhakrt
DTSTART;TZID=Europe/Zurich:20260524T120000
DTEND;TZID=Europe/Zurich:20260524T180000
GEO:46.20249;6.135099
X-APPLE-STRUCTURED-LOCATION;VALUE=URI;X-ADDRESS=Chemin du 23-Août 5\, 1205
  Genève\, 1205 Genève\, Suisse;X-APPLE-RADIUS=72;X-TITLE=FMAC (Collectio
 n d'art contemporain de la Ville de Genève):geo:46.20249,6.135099
END:VEVENT
BEGIN:VEVENT
UID:d94c2262-e6a7-4143-8cba-07f75748f2f7-2
DTSTAMP:20260422T120400Z
SUMMARY:ruine l'archive / archive dread / مَنفى الذاكرة
DESCRIPTION:Dans le cadre de la résidence en commissariat 2026 du FMAC\, g
 halas charara et rita elhajj présentent une première exposition\, portan
 t leurs regards complices sur la collection.
LOCATION:Chemin du 23-Août 5\, 1205 Genève\, 1205 Genève\, Suisse
URL:https://www.geneve-communes.ch/agenda/ruine-larchive-archive-dread-manf
 y-aldhakrt
DTSTART;TZID=Europe/Zurich:20260527T120000
DTEND;TZID=Europe/Zurich:20260527T180000
GEO:46.20249;6.135099
X-APPLE-STRUCTURED-LOCATION;VALUE=URI;X-ADDRESS=Chemin du 23-Août 5\, 1205
  Genève\, 1205 Genève\, Suisse;X-APPLE-RADIUS=72;X-TITLE=FMAC (Collectio
 n d'art contemporain de la Ville de Genève):geo:46.20249,6.135099
END:VEVENT
BEGIN:VEVENT
UID:d94c2262-e6a7-4143-8cba-07f75748f2f7-3
DTSTAMP:20260422T120400Z
SUMMARY:ruine l'archive / archive dread / مَنفى الذاكرة
DESCRIPTION:Dans le cadre de la résidence en commissariat 2026 du FMAC\, g
 halas charara et rita elhajj présentent une première exposition\, portan
 t leurs regards complices sur la collection.
LOCATION:Chemin du 23-Août 5\, 1205 Genève\, 1205 Genève\, Suisse
URL:https://www.geneve-communes.ch/agenda/ruine-larchive-archive-dread-manf
 y-aldhakrt
DTSTART;TZID=Europe/Zurich:20260529T180000
DTEND;TZID=Europe/Zurich:20260529T230000
GEO:46.20249;6.135099
X-APPLE-STRUCTURED-LOCATION;VALUE=URI;X-ADDRESS=Chemin du 23-Août 5\, 1205
  Genève\, 1205 Genève\, Suisse;X-APPLE-RADIUS=72;X-TITLE=FMAC (Collectio
 n d'art contemporain de la Ville de Genève):geo:46.20249,6.135099
END:VEVENT
BEGIN:VEVENT
UID:d94c2262-e6a7-4143-8cba-07f75748f2f7-4
DTSTAMP:20260422T120400Z
SUMMARY:ruine l'archive / archive dread / مَنفى الذاكرة
DESCRIPTION:Dans le cadre de la résidence en commissariat 2026 du FMAC\, g
 halas charara et rita elhajj présentent une première exposition\, portan
 t leurs regards complices sur la collection.
LOCATION:Chemin du 23-Août 5\, 1205 Genève\, 1205 Genève\, Suisse
URL:https://www.geneve-communes.ch/agenda/ruine-larchive-archive-dread-manf
 y-aldhakrt
DTSTART;TZID=Europe/Zurich:20260531T120000
DTEND;TZID=Europe/Zurich:20260531T180000
GEO:46.20249;6.135099
X-APPLE-STRUCTURED-LOCATION;VALUE=URI;X-ADDRESS=Chemin du 23-Août 5\, 1205
  Genève\, 1205 Genève\, Suisse;X-APPLE-RADIUS=72;X-TITLE=FMAC (Collectio
 n d'art contemporain de la Ville de Genève):geo:46.20249,6.135099
END:VEVENT
BEGIN:VEVENT
UID:d94c2262-e6a7-4143-8cba-07f75748f2f7-5
DTSTAMP:20260422T120400Z
SUMMARY:ruine l'archive / archive dread / مَنفى الذاكرة
DESCRIPTION:Dans le cadre de la résidence en commissariat 2026 du FMAC\, g
 halas charara et rita elhajj présentent une première exposition\, portan
 t leurs regards complices sur la collection.
LOCATION:Chemin du 23-Août 5\, 1205 Genève\, 1205 Genève\, Suisse
URL:https://www.geneve-communes.ch/agenda/ruine-larchive-archive-dread-manf
 y-aldhakrt
DTSTART;TZID=Europe/Zurich:20260603T120000
DTEND;TZID=Europe/Zurich:20260603T180000
GEO:46.20249;6.135099
X-APPLE-STRUCTURED-LOCATION;VALUE=URI;X-ADDRESS=Chemin du 23-Août 5\, 1205
  Genève\, 1205 Genève\, Suisse;X-APPLE-RADIUS=72;X-TITLE=FMAC (Collectio
 n d'art contemporain de la Ville de Genève):geo:46.20249,6.135099
END:VEVENT
BEGIN:VEVENT
UID:d94c2262-e6a7-4143-8cba-07f75748f2f7-6
DTSTAMP:20260422T120400Z
SUMMARY:ruine l'archive / archive dread / مَنفى الذاكرة
DESCRIPTION:Dans le cadre de la résidence en commissariat 2026 du FMAC\, g
 halas charara et rita elhajj présentent une première exposition\, portan
 t leurs regards complices sur la collection.
LOCATION:Chemin du 23-Août 5\, 1205 Genève\, 1205 Genève\, Suisse
URL:https://www.geneve-communes.ch/agenda/ruine-larchive-archive-dread-manf
 y-aldhakrt
DTSTART;TZID=Europe/Zurich:20260607T120000
DTEND;TZID=Europe/Zurich:20260607T180000
GEO:46.20249;6.135099
X-APPLE-STRUCTURED-LOCATION;VALUE=URI;X-ADDRESS=Chemin du 23-Août 5\, 1205
  Genève\, 1205 Genève\, Suisse;X-APPLE-RADIUS=72;X-TITLE=FMAC (Collectio
 n d'art contemporain de la Ville de Genève):geo:46.20249,6.135099
END:VEVENT
BEGIN:VEVENT
UID:d94c2262-e6a7-4143-8cba-07f75748f2f7-7
DTSTAMP:20260422T120400Z
SUMMARY:ruine l'archive / archive dread / مَنفى الذاكرة
DESCRIPTION:Dans le cadre de la résidence en commissariat 2026 du FMAC\, g
 halas charara et rita elhajj présentent une première exposition\, portan
 t leurs regards complices sur la collection.
LOCATION:Chemin du 23-Août 5\, 1205 Genève\, 1205 Genève\, Suisse
URL:https://www.geneve-communes.ch/agenda/ruine-larchive-archive-dread-manf
 y-aldhakrt
DTSTART;TZID=Europe/Zurich:20260610T120000
DTEND;TZID=Europe/Zurich:20260610T180000
GEO:46.20249;6.135099
X-APPLE-STRUCTURED-LOCATION;VALUE=URI;X-ADDRESS=Chemin du 23-Août 5\, 1205
  Genève\, 1205 Genève\, Suisse;X-APPLE-RADIUS=72;X-TITLE=FMAC (Collectio
 n d'art contemporain de la Ville de Genève):geo:46.20249,6.135099
END:VEVENT
BEGIN:VEVENT
UID:d94c2262-e6a7-4143-8cba-07f75748f2f7-8
DTSTAMP:20260422T120400Z
SUMMARY:ruine l'archive / archive dread / مَنفى الذاكرة
DESCRIPTION:Dans le cadre de la résidence en commissariat 2026 du FMAC\, g
 halas charara et rita elhajj présentent une première exposition\, portan
 t leurs regards complices sur la collection.
LOCATION:Chemin du 23-Août 5\, 1205 Genève\, 1205 Genève\, Suisse
URL:https://www.geneve-communes.ch/agenda/ruine-larchive-archive-dread-manf
 y-aldhakrt
DTSTART;TZID=Europe/Zurich:20260612T190000
DTEND;TZID=Europe/Zurich:20260612T200000
GEO:46.20249;6.135099
X-APPLE-STRUCTURED-LOCATION;VALUE=URI;X-ADDRESS=Chemin du 23-Août 5\, 1205
  Genève\, 1205 Genève\, Suisse;X-APPLE-RADIUS=72;X-TITLE=FMAC (Collectio
 n d'art contemporain de la Ville de Genève):geo:46.20249,6.135099
END:VEVENT
BEGIN:VEVENT
UID:d94c2262-e6a7-4143-8cba-07f75748f2f7-9
DTSTAMP:20260422T120400Z
SUMMARY:ruine l'archive / archive dread / مَنفى الذاكرة
DESCRIPTION:Dans le cadre de la résidence en commissariat 2026 du FMAC\, g
 halas charara et rita elhajj présentent une première exposition\, portan
 t leurs regards complices sur la collection.
LOCATION:Chemin du 23-Août 5\, 1205 Genève\, 1205 Genève\, Suisse
URL:https://www.geneve-communes.ch/agenda/ruine-larchive-archive-dread-manf
 y-aldhakrt
DTSTART;TZID=Europe/Zurich:20260614T120000
DTEND;TZID=Europe/Zurich:20260614T180000
GEO:46.20249;6.135099
X-APPLE-STRUCTURED-LOCATION;VALUE=URI;X-ADDRESS=Chemin du 23-Août 5\, 1205
  Genève\, 1205 Genève\, Suisse;X-APPLE-RADIUS=72;X-TITLE=FMAC (Collectio
 n d'art contemporain de la Ville de Genève):geo:46.20249,6.135099
END:VEVENT
BEGIN:VEVENT
UID:d94c2262-e6a7-4143-8cba-07f75748f2f7-10
DTSTAMP:20260422T120400Z
SUMMARY:ruine l'archive / archive dread / مَنفى الذاكرة
DESCRIPTION:Dans le cadre de la résidence en commissariat 2026 du FMAC\, g
 halas charara et rita elhajj présentent une première exposition\, portan
 t leurs regards complices sur la collection.
LOCATION:Chemin du 23-Août 5\, 1205 Genève\, 1205 Genève\, Suisse
URL:https://www.geneve-communes.ch/agenda/ruine-larchive-archive-dread-manf
 y-aldhakrt
DTSTART;TZID=Europe/Zurich:20260617T120000
DTEND;TZID=Europe/Zurich:20260617T180000
GEO:46.20249;6.135099
X-APPLE-STRUCTURED-LOCATION;VALUE=URI;X-ADDRESS=Chemin du 23-Août 5\, 1205
  Genève\, 1205 Genève\, Suisse;X-APPLE-RADIUS=72;X-TITLE=FMAC (Collectio
 n d'art contemporain de la Ville de Genève):geo:46.20249,6.135099
END:VEVENT
BEGIN:VEVENT
UID:d94c2262-e6a7-4143-8cba-07f75748f2f7-11
DTSTAMP:20260422T120400Z
SUMMARY:ruine l'archive / archive dread / مَنفى الذاكرة
DESCRIPTION:Dans le cadre de la résidence en commissariat 2026 du FMAC\, g
 halas charara et rita elhajj présentent une première exposition\, portan
 t leurs regards complices sur la collection.
LOCATION:Chemin du 23-Août 5\, 1205 Genève\, 1205 Genève\, Suisse
URL:https://www.geneve-communes.ch/agenda/ruine-larchive-archive-dread-manf
 y-aldhakrt
DTSTART;TZID=Europe/Zurich:20260621T120000
DTEND;TZID=Europe/Zurich:20260621T180000
GEO:46.20249;6.135099
X-APPLE-STRUCTURED-LOCATION;VALUE=URI;X-ADDRESS=Chemin du 23-Août 5\, 1205
  Genève\, 1205 Genève\, Suisse;X-APPLE-RADIUS=72;X-TITLE=FMAC (Collectio
 n d'art contemporain de la Ville de Genève):geo:46.20249,6.135099
END:VEVENT
END:VCALENDAR