BEGIN:VCALENDAR
VERSION:2.0
PRODID:-//Les communes genevoises//Agenda//FR
NAME:Les communes genevoises
X-WR-CALNAME:Les communes genevoises
BEGIN:VTIMEZONE
TZID:Europe/Zurich
BEGIN:STANDARD
DTSTART:20251026T030000
TZOFFSETFROM:+0200
TZOFFSETTO:+0100
END:STANDARD
BEGIN:DAYLIGHT
DTSTART:20260329T010000
TZOFFSETFROM:+0100
TZOFFSETTO:+0200
END:DAYLIGHT
BEGIN:STANDARD
DTSTART:20261025T030000
TZOFFSETFROM:+0200
TZOFFSETTO:+0100
END:STANDARD
END:VTIMEZONE
BEGIN:VTIMEZONE
TZID:UTC
BEGIN:STANDARD
DTSTART:20250726T110000
TZOFFSETFROM:+0000
TZOFFSETTO:+0000
END:STANDARD
END:VTIMEZONE
BEGIN:VEVENT
UID:e5ec1da6-4283-4c4e-afd1-12405f08d90c-0
DTSTAMP:20260422T110000Z
SUMMARY:Bal hongrois à la salle des fêtes de Carouge
DESCRIPTION:Samedi 30 mai de 16h30 à 23h30\, l’Ensemble Pannonia et les 
 ADEM vous invitent à une soirée festive avec 50 danseurs et danseuses de
  Genève\, Berne et Zurich !
LOCATION:Rue Ancienne 37\, 1227 Carouge GE\, 1227 Carouge GE\, Suisse
URL:https://www.geneve-communes.ch/agenda/bal-hongrois-la-salle-des-fetes-d
 e-carouge
DTSTART;TZID=Europe/Zurich:20260530T163000
DTEND;TZID=Europe/Zurich:20260530T233000
GEO:46.181509;6.141869
X-APPLE-STRUCTURED-LOCATION;VALUE=URI;X-ADDRESS=Rue Ancienne 37\, 1227 Caro
 uge GE\, 1227 Carouge GE\, Suisse;X-APPLE-RADIUS=72;X-TITLE=Salle des Fêt
 es de Carouge:geo:46.181509,6.141869
END:VEVENT
END:VCALENDAR