BEGIN:VCALENDAR
VERSION:2.0
PRODID:-//Les communes genevoises//Agenda//FR
NAME:Les communes genevoises
X-WR-CALNAME:Les communes genevoises
BEGIN:VTIMEZONE
TZID:Europe/Zurich
BEGIN:STANDARD
DTSTART:20251026T030000
TZOFFSETFROM:+0200
TZOFFSETTO:+0100
END:STANDARD
BEGIN:DAYLIGHT
DTSTART:20260329T010000
TZOFFSETFROM:+0100
TZOFFSETTO:+0200
END:DAYLIGHT
BEGIN:STANDARD
DTSTART:20261025T030000
TZOFFSETFROM:+0200
TZOFFSETTO:+0100
END:STANDARD
END:VTIMEZONE
BEGIN:VTIMEZONE
TZID:UTC
BEGIN:STANDARD
DTSTART:20250726T075000
TZOFFSETFROM:+0000
TZOFFSETTO:+0000
END:STANDARD
END:VTIMEZONE
BEGIN:VEVENT
UID:261cbe6b-d157-4b4e-b141-dcf4fb79e306-0
DTSTAMP:20260422T075000Z
SUMMARY:Dessins pour la liberté: exposition sur le quai Wilson
DESCRIPTION:À l’occasion de la remise du Prix international du dessin de
  presse 2026\, Freedom Cartoonists vous invite à parcourir l'actualité e
 n dessins sur le quai Wilson.
LOCATION:Quai Wilson\, 1201 Genève\, Suisse
URL:https://www.geneve-communes.ch/agenda/dessins-pour-la-liberte-expositio
 n-sur-le-quai-wilson
DTSTART;TZID=Europe/Zurich:20260501T000000
DTEND;TZID=Europe/Zurich:20260501T235900
GEO:46.213815;6.152166
X-APPLE-STRUCTURED-LOCATION;VALUE=URI;X-ADDRESS=Quai Wilson\, 1201 Genève\
 , Suisse;X-APPLE-RADIUS=72;X-TITLE=Quai Wilson:geo:46.213815,6.152166
END:VEVENT
BEGIN:VEVENT
UID:261cbe6b-d157-4b4e-b141-dcf4fb79e306-1
DTSTAMP:20260422T075000Z
SUMMARY:Dessins pour la liberté: exposition sur le quai Wilson
DESCRIPTION:À l’occasion de la remise du Prix international du dessin de
  presse 2026\, Freedom Cartoonists vous invite à parcourir l'actualité e
 n dessins sur le quai Wilson.
LOCATION:Quai Wilson\, 1201 Genève\, Suisse
URL:https://www.geneve-communes.ch/agenda/dessins-pour-la-liberte-expositio
 n-sur-le-quai-wilson
DTSTART;TZID=Europe/Zurich:20260502T000000
DTEND;TZID=Europe/Zurich:20260502T235900
GEO:46.213815;6.152166
X-APPLE-STRUCTURED-LOCATION;VALUE=URI;X-ADDRESS=Quai Wilson\, 1201 Genève\
 , Suisse;X-APPLE-RADIUS=72;X-TITLE=Quai Wilson:geo:46.213815,6.152166
END:VEVENT
BEGIN:VEVENT
UID:261cbe6b-d157-4b4e-b141-dcf4fb79e306-2
DTSTAMP:20260422T075000Z
SUMMARY:Dessins pour la liberté: exposition sur le quai Wilson
DESCRIPTION:À l’occasion de la remise du Prix international du dessin de
  presse 2026\, Freedom Cartoonists vous invite à parcourir l'actualité e
 n dessins sur le quai Wilson.
LOCATION:Quai Wilson\, 1201 Genève\, Suisse
URL:https://www.geneve-communes.ch/agenda/dessins-pour-la-liberte-expositio
 n-sur-le-quai-wilson
DTSTART;TZID=Europe/Zurich:20260503T000000
DTEND;TZID=Europe/Zurich:20260503T235900
GEO:46.213815;6.152166
X-APPLE-STRUCTURED-LOCATION;VALUE=URI;X-ADDRESS=Quai Wilson\, 1201 Genève\
 , Suisse;X-APPLE-RADIUS=72;X-TITLE=Quai Wilson:geo:46.213815,6.152166
END:VEVENT
BEGIN:VEVENT
UID:261cbe6b-d157-4b4e-b141-dcf4fb79e306-3
DTSTAMP:20260422T075000Z
SUMMARY:Dessins pour la liberté: exposition sur le quai Wilson
DESCRIPTION:À l’occasion de la remise du Prix international du dessin de
  presse 2026\, Freedom Cartoonists vous invite à parcourir l'actualité e
 n dessins sur le quai Wilson.
LOCATION:Quai Wilson\, 1201 Genève\, Suisse
URL:https://www.geneve-communes.ch/agenda/dessins-pour-la-liberte-expositio
 n-sur-le-quai-wilson
DTSTART;TZID=Europe/Zurich:20260504T000000
DTEND;TZID=Europe/Zurich:20260504T235900
GEO:46.213815;6.152166
X-APPLE-STRUCTURED-LOCATION;VALUE=URI;X-ADDRESS=Quai Wilson\, 1201 Genève\
 , Suisse;X-APPLE-RADIUS=72;X-TITLE=Quai Wilson:geo:46.213815,6.152166
END:VEVENT
BEGIN:VEVENT
UID:261cbe6b-d157-4b4e-b141-dcf4fb79e306-4
DTSTAMP:20260422T075000Z
SUMMARY:Dessins pour la liberté: exposition sur le quai Wilson
DESCRIPTION:À l’occasion de la remise du Prix international du dessin de
  presse 2026\, Freedom Cartoonists vous invite à parcourir l'actualité e
 n dessins sur le quai Wilson.
LOCATION:Quai Wilson\, 1201 Genève\, Suisse
URL:https://www.geneve-communes.ch/agenda/dessins-pour-la-liberte-expositio
 n-sur-le-quai-wilson
DTSTART;TZID=Europe/Zurich:20260505T000000
DTEND;TZID=Europe/Zurich:20260505T215900
GEO:46.213815;6.152166
X-APPLE-STRUCTURED-LOCATION;VALUE=URI;X-ADDRESS=Quai Wilson\, 1201 Genève\
 , Suisse;X-APPLE-RADIUS=72;X-TITLE=Quai Wilson:geo:46.213815,6.152166
END:VEVENT
BEGIN:VEVENT
UID:261cbe6b-d157-4b4e-b141-dcf4fb79e306-5
DTSTAMP:20260422T075000Z
SUMMARY:Dessins pour la liberté: exposition sur le quai Wilson
DESCRIPTION:À l’occasion de la remise du Prix international du dessin de
  presse 2026\, Freedom Cartoonists vous invite à parcourir l'actualité e
 n dessins sur le quai Wilson.
LOCATION:Quai Wilson\, 1201 Genève\, Suisse
URL:https://www.geneve-communes.ch/agenda/dessins-pour-la-liberte-expositio
 n-sur-le-quai-wilson
DTSTART;TZID=Europe/Zurich:20260506T000000
DTEND;TZID=Europe/Zurich:20260506T235900
GEO:46.213815;6.152166
X-APPLE-STRUCTURED-LOCATION;VALUE=URI;X-ADDRESS=Quai Wilson\, 1201 Genève\
 , Suisse;X-APPLE-RADIUS=72;X-TITLE=Quai Wilson:geo:46.213815,6.152166
END:VEVENT
BEGIN:VEVENT
UID:261cbe6b-d157-4b4e-b141-dcf4fb79e306-6
DTSTAMP:20260422T075000Z
SUMMARY:Dessins pour la liberté: exposition sur le quai Wilson
DESCRIPTION:À l’occasion de la remise du Prix international du dessin de
  presse 2026\, Freedom Cartoonists vous invite à parcourir l'actualité e
 n dessins sur le quai Wilson.
LOCATION:Quai Wilson\, 1201 Genève\, Suisse
URL:https://www.geneve-communes.ch/agenda/dessins-pour-la-liberte-expositio
 n-sur-le-quai-wilson
DTSTART;TZID=Europe/Zurich:20260507T000000
DTEND;TZID=Europe/Zurich:20260507T235900
GEO:46.213815;6.152166
X-APPLE-STRUCTURED-LOCATION;VALUE=URI;X-ADDRESS=Quai Wilson\, 1201 Genève\
 , Suisse;X-APPLE-RADIUS=72;X-TITLE=Quai Wilson:geo:46.213815,6.152166
END:VEVENT
BEGIN:VEVENT
UID:261cbe6b-d157-4b4e-b141-dcf4fb79e306-7
DTSTAMP:20260422T075000Z
SUMMARY:Dessins pour la liberté: exposition sur le quai Wilson
DESCRIPTION:À l’occasion de la remise du Prix international du dessin de
  presse 2026\, Freedom Cartoonists vous invite à parcourir l'actualité e
 n dessins sur le quai Wilson.
LOCATION:Quai Wilson\, 1201 Genève\, Suisse
URL:https://www.geneve-communes.ch/agenda/dessins-pour-la-liberte-expositio
 n-sur-le-quai-wilson
DTSTART;TZID=Europe/Zurich:20260508T000000
DTEND;TZID=Europe/Zurich:20260508T235900
GEO:46.213815;6.152166
X-APPLE-STRUCTURED-LOCATION;VALUE=URI;X-ADDRESS=Quai Wilson\, 1201 Genève\
 , Suisse;X-APPLE-RADIUS=72;X-TITLE=Quai Wilson:geo:46.213815,6.152166
END:VEVENT
BEGIN:VEVENT
UID:261cbe6b-d157-4b4e-b141-dcf4fb79e306-8
DTSTAMP:20260422T075000Z
SUMMARY:Dessins pour la liberté: exposition sur le quai Wilson
DESCRIPTION:À l’occasion de la remise du Prix international du dessin de
  presse 2026\, Freedom Cartoonists vous invite à parcourir l'actualité e
 n dessins sur le quai Wilson.
LOCATION:Quai Wilson\, 1201 Genève\, Suisse
URL:https://www.geneve-communes.ch/agenda/dessins-pour-la-liberte-expositio
 n-sur-le-quai-wilson
DTSTART;TZID=Europe/Zurich:20260509T000000
DTEND;TZID=Europe/Zurich:20260509T235900
GEO:46.213815;6.152166
X-APPLE-STRUCTURED-LOCATION;VALUE=URI;X-ADDRESS=Quai Wilson\, 1201 Genève\
 , Suisse;X-APPLE-RADIUS=72;X-TITLE=Quai Wilson:geo:46.213815,6.152166
END:VEVENT
BEGIN:VEVENT
UID:261cbe6b-d157-4b4e-b141-dcf4fb79e306-9
DTSTAMP:20260422T075000Z
SUMMARY:Dessins pour la liberté: exposition sur le quai Wilson
DESCRIPTION:À l’occasion de la remise du Prix international du dessin de
  presse 2026\, Freedom Cartoonists vous invite à parcourir l'actualité e
 n dessins sur le quai Wilson.
LOCATION:Quai Wilson\, 1201 Genève\, Suisse
URL:https://www.geneve-communes.ch/agenda/dessins-pour-la-liberte-expositio
 n-sur-le-quai-wilson
DTSTART;TZID=Europe/Zurich:20260510T000000
DTEND;TZID=Europe/Zurich:20260510T235900
GEO:46.213815;6.152166
X-APPLE-STRUCTURED-LOCATION;VALUE=URI;X-ADDRESS=Quai Wilson\, 1201 Genève\
 , Suisse;X-APPLE-RADIUS=72;X-TITLE=Quai Wilson:geo:46.213815,6.152166
END:VEVENT
BEGIN:VEVENT
UID:261cbe6b-d157-4b4e-b141-dcf4fb79e306-10
DTSTAMP:20260422T075000Z
SUMMARY:Dessins pour la liberté: exposition sur le quai Wilson
DESCRIPTION:À l’occasion de la remise du Prix international du dessin de
  presse 2026\, Freedom Cartoonists vous invite à parcourir l'actualité e
 n dessins sur le quai Wilson.
LOCATION:Quai Wilson\, 1201 Genève\, Suisse
URL:https://www.geneve-communes.ch/agenda/dessins-pour-la-liberte-expositio
 n-sur-le-quai-wilson
DTSTART;TZID=Europe/Zurich:20260511T000000
DTEND;TZID=Europe/Zurich:20260511T235900
GEO:46.213815;6.152166
X-APPLE-STRUCTURED-LOCATION;VALUE=URI;X-ADDRESS=Quai Wilson\, 1201 Genève\
 , Suisse;X-APPLE-RADIUS=72;X-TITLE=Quai Wilson:geo:46.213815,6.152166
END:VEVENT
BEGIN:VEVENT
UID:261cbe6b-d157-4b4e-b141-dcf4fb79e306-11
DTSTAMP:20260422T075000Z
SUMMARY:Dessins pour la liberté: exposition sur le quai Wilson
DESCRIPTION:À l’occasion de la remise du Prix international du dessin de
  presse 2026\, Freedom Cartoonists vous invite à parcourir l'actualité e
 n dessins sur le quai Wilson.
LOCATION:Quai Wilson\, 1201 Genève\, Suisse
URL:https://www.geneve-communes.ch/agenda/dessins-pour-la-liberte-expositio
 n-sur-le-quai-wilson
DTSTART;TZID=Europe/Zurich:20260512T000000
DTEND;TZID=Europe/Zurich:20260512T235900
GEO:46.213815;6.152166
X-APPLE-STRUCTURED-LOCATION;VALUE=URI;X-ADDRESS=Quai Wilson\, 1201 Genève\
 , Suisse;X-APPLE-RADIUS=72;X-TITLE=Quai Wilson:geo:46.213815,6.152166
END:VEVENT
BEGIN:VEVENT
UID:261cbe6b-d157-4b4e-b141-dcf4fb79e306-12
DTSTAMP:20260422T075000Z
SUMMARY:Dessins pour la liberté: exposition sur le quai Wilson
DESCRIPTION:À l’occasion de la remise du Prix international du dessin de
  presse 2026\, Freedom Cartoonists vous invite à parcourir l'actualité e
 n dessins sur le quai Wilson.
LOCATION:Quai Wilson\, 1201 Genève\, Suisse
URL:https://www.geneve-communes.ch/agenda/dessins-pour-la-liberte-expositio
 n-sur-le-quai-wilson
DTSTART;TZID=Europe/Zurich:20260513T000000
DTEND;TZID=Europe/Zurich:20260513T235900
GEO:46.213815;6.152166
X-APPLE-STRUCTURED-LOCATION;VALUE=URI;X-ADDRESS=Quai Wilson\, 1201 Genève\
 , Suisse;X-APPLE-RADIUS=72;X-TITLE=Quai Wilson:geo:46.213815,6.152166
END:VEVENT
BEGIN:VEVENT
UID:261cbe6b-d157-4b4e-b141-dcf4fb79e306-13
DTSTAMP:20260422T075000Z
SUMMARY:Dessins pour la liberté: exposition sur le quai Wilson
DESCRIPTION:À l’occasion de la remise du Prix international du dessin de
  presse 2026\, Freedom Cartoonists vous invite à parcourir l'actualité e
 n dessins sur le quai Wilson.
LOCATION:Quai Wilson\, 1201 Genève\, Suisse
URL:https://www.geneve-communes.ch/agenda/dessins-pour-la-liberte-expositio
 n-sur-le-quai-wilson
DTSTART;TZID=Europe/Zurich:20260514T000000
DTEND;TZID=Europe/Zurich:20260514T235900
GEO:46.213815;6.152166
X-APPLE-STRUCTURED-LOCATION;VALUE=URI;X-ADDRESS=Quai Wilson\, 1201 Genève\
 , Suisse;X-APPLE-RADIUS=72;X-TITLE=Quai Wilson:geo:46.213815,6.152166
END:VEVENT
BEGIN:VEVENT
UID:261cbe6b-d157-4b4e-b141-dcf4fb79e306-14
DTSTAMP:20260422T075000Z
SUMMARY:Dessins pour la liberté: exposition sur le quai Wilson
DESCRIPTION:À l’occasion de la remise du Prix international du dessin de
  presse 2026\, Freedom Cartoonists vous invite à parcourir l'actualité e
 n dessins sur le quai Wilson.
LOCATION:Quai Wilson\, 1201 Genève\, Suisse
URL:https://www.geneve-communes.ch/agenda/dessins-pour-la-liberte-expositio
 n-sur-le-quai-wilson
DTSTART;TZID=Europe/Zurich:20260515T000000
DTEND;TZID=Europe/Zurich:20260515T235900
GEO:46.213815;6.152166
X-APPLE-STRUCTURED-LOCATION;VALUE=URI;X-ADDRESS=Quai Wilson\, 1201 Genève\
 , Suisse;X-APPLE-RADIUS=72;X-TITLE=Quai Wilson:geo:46.213815,6.152166
END:VEVENT
BEGIN:VEVENT
UID:261cbe6b-d157-4b4e-b141-dcf4fb79e306-15
DTSTAMP:20260422T075000Z
SUMMARY:Dessins pour la liberté: exposition sur le quai Wilson
DESCRIPTION:À l’occasion de la remise du Prix international du dessin de
  presse 2026\, Freedom Cartoonists vous invite à parcourir l'actualité e
 n dessins sur le quai Wilson.
LOCATION:Quai Wilson\, 1201 Genève\, Suisse
URL:https://www.geneve-communes.ch/agenda/dessins-pour-la-liberte-expositio
 n-sur-le-quai-wilson
DTSTART;TZID=Europe/Zurich:20260516T000000
DTEND;TZID=Europe/Zurich:20260516T235900
GEO:46.213815;6.152166
X-APPLE-STRUCTURED-LOCATION;VALUE=URI;X-ADDRESS=Quai Wilson\, 1201 Genève\
 , Suisse;X-APPLE-RADIUS=72;X-TITLE=Quai Wilson:geo:46.213815,6.152166
END:VEVENT
BEGIN:VEVENT
UID:261cbe6b-d157-4b4e-b141-dcf4fb79e306-16
DTSTAMP:20260422T075000Z
SUMMARY:Dessins pour la liberté: exposition sur le quai Wilson
DESCRIPTION:À l’occasion de la remise du Prix international du dessin de
  presse 2026\, Freedom Cartoonists vous invite à parcourir l'actualité e
 n dessins sur le quai Wilson.
LOCATION:Quai Wilson\, 1201 Genève\, Suisse
URL:https://www.geneve-communes.ch/agenda/dessins-pour-la-liberte-expositio
 n-sur-le-quai-wilson
DTSTART;TZID=Europe/Zurich:20260517T000000
DTEND;TZID=Europe/Zurich:20260517T235900
GEO:46.213815;6.152166
X-APPLE-STRUCTURED-LOCATION;VALUE=URI;X-ADDRESS=Quai Wilson\, 1201 Genève\
 , Suisse;X-APPLE-RADIUS=72;X-TITLE=Quai Wilson:geo:46.213815,6.152166
END:VEVENT
BEGIN:VEVENT
UID:261cbe6b-d157-4b4e-b141-dcf4fb79e306-17
DTSTAMP:20260422T075000Z
SUMMARY:Dessins pour la liberté: exposition sur le quai Wilson
DESCRIPTION:À l’occasion de la remise du Prix international du dessin de
  presse 2026\, Freedom Cartoonists vous invite à parcourir l'actualité e
 n dessins sur le quai Wilson.
LOCATION:Quai Wilson\, 1201 Genève\, Suisse
URL:https://www.geneve-communes.ch/agenda/dessins-pour-la-liberte-expositio
 n-sur-le-quai-wilson
DTSTART;TZID=Europe/Zurich:20260518T000000
DTEND;TZID=Europe/Zurich:20260518T235900
GEO:46.213815;6.152166
X-APPLE-STRUCTURED-LOCATION;VALUE=URI;X-ADDRESS=Quai Wilson\, 1201 Genève\
 , Suisse;X-APPLE-RADIUS=72;X-TITLE=Quai Wilson:geo:46.213815,6.152166
END:VEVENT
BEGIN:VEVENT
UID:261cbe6b-d157-4b4e-b141-dcf4fb79e306-18
DTSTAMP:20260422T075000Z
SUMMARY:Dessins pour la liberté: exposition sur le quai Wilson
DESCRIPTION:À l’occasion de la remise du Prix international du dessin de
  presse 2026\, Freedom Cartoonists vous invite à parcourir l'actualité e
 n dessins sur le quai Wilson.
LOCATION:Quai Wilson\, 1201 Genève\, Suisse
URL:https://www.geneve-communes.ch/agenda/dessins-pour-la-liberte-expositio
 n-sur-le-quai-wilson
DTSTART;TZID=Europe/Zurich:20260519T000000
DTEND;TZID=Europe/Zurich:20260519T235900
GEO:46.213815;6.152166
X-APPLE-STRUCTURED-LOCATION;VALUE=URI;X-ADDRESS=Quai Wilson\, 1201 Genève\
 , Suisse;X-APPLE-RADIUS=72;X-TITLE=Quai Wilson:geo:46.213815,6.152166
END:VEVENT
BEGIN:VEVENT
UID:261cbe6b-d157-4b4e-b141-dcf4fb79e306-19
DTSTAMP:20260422T075000Z
SUMMARY:Dessins pour la liberté: exposition sur le quai Wilson
DESCRIPTION:À l’occasion de la remise du Prix international du dessin de
  presse 2026\, Freedom Cartoonists vous invite à parcourir l'actualité e
 n dessins sur le quai Wilson.
LOCATION:Quai Wilson\, 1201 Genève\, Suisse
URL:https://www.geneve-communes.ch/agenda/dessins-pour-la-liberte-expositio
 n-sur-le-quai-wilson
DTSTART;TZID=Europe/Zurich:20260520T000000
DTEND;TZID=Europe/Zurich:20260520T235900
GEO:46.213815;6.152166
X-APPLE-STRUCTURED-LOCATION;VALUE=URI;X-ADDRESS=Quai Wilson\, 1201 Genève\
 , Suisse;X-APPLE-RADIUS=72;X-TITLE=Quai Wilson:geo:46.213815,6.152166
END:VEVENT
BEGIN:VEVENT
UID:261cbe6b-d157-4b4e-b141-dcf4fb79e306-20
DTSTAMP:20260422T075000Z
SUMMARY:Dessins pour la liberté: exposition sur le quai Wilson
DESCRIPTION:À l’occasion de la remise du Prix international du dessin de
  presse 2026\, Freedom Cartoonists vous invite à parcourir l'actualité e
 n dessins sur le quai Wilson.
LOCATION:Quai Wilson\, 1201 Genève\, Suisse
URL:https://www.geneve-communes.ch/agenda/dessins-pour-la-liberte-expositio
 n-sur-le-quai-wilson
DTSTART;TZID=Europe/Zurich:20260521T000000
DTEND;TZID=Europe/Zurich:20260521T235900
GEO:46.213815;6.152166
X-APPLE-STRUCTURED-LOCATION;VALUE=URI;X-ADDRESS=Quai Wilson\, 1201 Genève\
 , Suisse;X-APPLE-RADIUS=72;X-TITLE=Quai Wilson:geo:46.213815,6.152166
END:VEVENT
BEGIN:VEVENT
UID:261cbe6b-d157-4b4e-b141-dcf4fb79e306-21
DTSTAMP:20260422T075000Z
SUMMARY:Dessins pour la liberté: exposition sur le quai Wilson
DESCRIPTION:À l’occasion de la remise du Prix international du dessin de
  presse 2026\, Freedom Cartoonists vous invite à parcourir l'actualité e
 n dessins sur le quai Wilson.
LOCATION:Quai Wilson\, 1201 Genève\, Suisse
URL:https://www.geneve-communes.ch/agenda/dessins-pour-la-liberte-expositio
 n-sur-le-quai-wilson
DTSTART;TZID=Europe/Zurich:20260522T000000
DTEND;TZID=Europe/Zurich:20260522T235900
GEO:46.213815;6.152166
X-APPLE-STRUCTURED-LOCATION;VALUE=URI;X-ADDRESS=Quai Wilson\, 1201 Genève\
 , Suisse;X-APPLE-RADIUS=72;X-TITLE=Quai Wilson:geo:46.213815,6.152166
END:VEVENT
BEGIN:VEVENT
UID:261cbe6b-d157-4b4e-b141-dcf4fb79e306-22
DTSTAMP:20260422T075000Z
SUMMARY:Dessins pour la liberté: exposition sur le quai Wilson
DESCRIPTION:À l’occasion de la remise du Prix international du dessin de
  presse 2026\, Freedom Cartoonists vous invite à parcourir l'actualité e
 n dessins sur le quai Wilson.
LOCATION:Quai Wilson\, 1201 Genève\, Suisse
URL:https://www.geneve-communes.ch/agenda/dessins-pour-la-liberte-expositio
 n-sur-le-quai-wilson
DTSTART;TZID=Europe/Zurich:20260523T000000
DTEND;TZID=Europe/Zurich:20260523T235900
GEO:46.213815;6.152166
X-APPLE-STRUCTURED-LOCATION;VALUE=URI;X-ADDRESS=Quai Wilson\, 1201 Genève\
 , Suisse;X-APPLE-RADIUS=72;X-TITLE=Quai Wilson:geo:46.213815,6.152166
END:VEVENT
BEGIN:VEVENT
UID:261cbe6b-d157-4b4e-b141-dcf4fb79e306-23
DTSTAMP:20260422T075000Z
SUMMARY:Dessins pour la liberté: exposition sur le quai Wilson
DESCRIPTION:À l’occasion de la remise du Prix international du dessin de
  presse 2026\, Freedom Cartoonists vous invite à parcourir l'actualité e
 n dessins sur le quai Wilson.
LOCATION:Quai Wilson\, 1201 Genève\, Suisse
URL:https://www.geneve-communes.ch/agenda/dessins-pour-la-liberte-expositio
 n-sur-le-quai-wilson
DTSTART;TZID=Europe/Zurich:20260524T000000
DTEND;TZID=Europe/Zurich:20260524T235900
GEO:46.213815;6.152166
X-APPLE-STRUCTURED-LOCATION;VALUE=URI;X-ADDRESS=Quai Wilson\, 1201 Genève\
 , Suisse;X-APPLE-RADIUS=72;X-TITLE=Quai Wilson:geo:46.213815,6.152166
END:VEVENT
BEGIN:VEVENT
UID:261cbe6b-d157-4b4e-b141-dcf4fb79e306-24
DTSTAMP:20260422T075000Z
SUMMARY:Dessins pour la liberté: exposition sur le quai Wilson
DESCRIPTION:À l’occasion de la remise du Prix international du dessin de
  presse 2026\, Freedom Cartoonists vous invite à parcourir l'actualité e
 n dessins sur le quai Wilson.
LOCATION:Quai Wilson\, 1201 Genève\, Suisse
URL:https://www.geneve-communes.ch/agenda/dessins-pour-la-liberte-expositio
 n-sur-le-quai-wilson
DTSTART;TZID=Europe/Zurich:20260525T000000
DTEND;TZID=Europe/Zurich:20260525T235900
GEO:46.213815;6.152166
X-APPLE-STRUCTURED-LOCATION;VALUE=URI;X-ADDRESS=Quai Wilson\, 1201 Genève\
 , Suisse;X-APPLE-RADIUS=72;X-TITLE=Quai Wilson:geo:46.213815,6.152166
END:VEVENT
BEGIN:VEVENT
UID:261cbe6b-d157-4b4e-b141-dcf4fb79e306-25
DTSTAMP:20260422T075000Z
SUMMARY:Dessins pour la liberté: exposition sur le quai Wilson
DESCRIPTION:À l’occasion de la remise du Prix international du dessin de
  presse 2026\, Freedom Cartoonists vous invite à parcourir l'actualité e
 n dessins sur le quai Wilson.
LOCATION:Quai Wilson\, 1201 Genève\, Suisse
URL:https://www.geneve-communes.ch/agenda/dessins-pour-la-liberte-expositio
 n-sur-le-quai-wilson
DTSTART;TZID=Europe/Zurich:20260526T000000
DTEND;TZID=Europe/Zurich:20260526T235900
GEO:46.213815;6.152166
X-APPLE-STRUCTURED-LOCATION;VALUE=URI;X-ADDRESS=Quai Wilson\, 1201 Genève\
 , Suisse;X-APPLE-RADIUS=72;X-TITLE=Quai Wilson:geo:46.213815,6.152166
END:VEVENT
BEGIN:VEVENT
UID:261cbe6b-d157-4b4e-b141-dcf4fb79e306-26
DTSTAMP:20260422T075000Z
SUMMARY:Dessins pour la liberté: exposition sur le quai Wilson
DESCRIPTION:À l’occasion de la remise du Prix international du dessin de
  presse 2026\, Freedom Cartoonists vous invite à parcourir l'actualité e
 n dessins sur le quai Wilson.
LOCATION:Quai Wilson\, 1201 Genève\, Suisse
URL:https://www.geneve-communes.ch/agenda/dessins-pour-la-liberte-expositio
 n-sur-le-quai-wilson
DTSTART;TZID=Europe/Zurich:20260527T000000
DTEND;TZID=Europe/Zurich:20260527T235900
GEO:46.213815;6.152166
X-APPLE-STRUCTURED-LOCATION;VALUE=URI;X-ADDRESS=Quai Wilson\, 1201 Genève\
 , Suisse;X-APPLE-RADIUS=72;X-TITLE=Quai Wilson:geo:46.213815,6.152166
END:VEVENT
BEGIN:VEVENT
UID:261cbe6b-d157-4b4e-b141-dcf4fb79e306-27
DTSTAMP:20260422T075000Z
SUMMARY:Dessins pour la liberté: exposition sur le quai Wilson
DESCRIPTION:À l’occasion de la remise du Prix international du dessin de
  presse 2026\, Freedom Cartoonists vous invite à parcourir l'actualité e
 n dessins sur le quai Wilson.
LOCATION:Quai Wilson\, 1201 Genève\, Suisse
URL:https://www.geneve-communes.ch/agenda/dessins-pour-la-liberte-expositio
 n-sur-le-quai-wilson
DTSTART;TZID=Europe/Zurich:20260528T000000
DTEND;TZID=Europe/Zurich:20260528T235900
GEO:46.213815;6.152166
X-APPLE-STRUCTURED-LOCATION;VALUE=URI;X-ADDRESS=Quai Wilson\, 1201 Genève\
 , Suisse;X-APPLE-RADIUS=72;X-TITLE=Quai Wilson:geo:46.213815,6.152166
END:VEVENT
BEGIN:VEVENT
UID:261cbe6b-d157-4b4e-b141-dcf4fb79e306-28
DTSTAMP:20260422T075000Z
SUMMARY:Dessins pour la liberté: exposition sur le quai Wilson
DESCRIPTION:À l’occasion de la remise du Prix international du dessin de
  presse 2026\, Freedom Cartoonists vous invite à parcourir l'actualité e
 n dessins sur le quai Wilson.
LOCATION:Quai Wilson\, 1201 Genève\, Suisse
URL:https://www.geneve-communes.ch/agenda/dessins-pour-la-liberte-expositio
 n-sur-le-quai-wilson
DTSTART;TZID=Europe/Zurich:20260529T000000
DTEND;TZID=Europe/Zurich:20260529T235900
GEO:46.213815;6.152166
X-APPLE-STRUCTURED-LOCATION;VALUE=URI;X-ADDRESS=Quai Wilson\, 1201 Genève\
 , Suisse;X-APPLE-RADIUS=72;X-TITLE=Quai Wilson:geo:46.213815,6.152166
END:VEVENT
BEGIN:VEVENT
UID:261cbe6b-d157-4b4e-b141-dcf4fb79e306-29
DTSTAMP:20260422T075000Z
SUMMARY:Dessins pour la liberté: exposition sur le quai Wilson
DESCRIPTION:À l’occasion de la remise du Prix international du dessin de
  presse 2026\, Freedom Cartoonists vous invite à parcourir l'actualité e
 n dessins sur le quai Wilson.
LOCATION:Quai Wilson\, 1201 Genève\, Suisse
URL:https://www.geneve-communes.ch/agenda/dessins-pour-la-liberte-expositio
 n-sur-le-quai-wilson
DTSTART;TZID=Europe/Zurich:20260530T000000
DTEND;TZID=Europe/Zurich:20260530T235900
GEO:46.213815;6.152166
X-APPLE-STRUCTURED-LOCATION;VALUE=URI;X-ADDRESS=Quai Wilson\, 1201 Genève\
 , Suisse;X-APPLE-RADIUS=72;X-TITLE=Quai Wilson:geo:46.213815,6.152166
END:VEVENT
BEGIN:VEVENT
UID:261cbe6b-d157-4b4e-b141-dcf4fb79e306-30
DTSTAMP:20260422T075000Z
SUMMARY:Dessins pour la liberté: exposition sur le quai Wilson
DESCRIPTION:À l’occasion de la remise du Prix international du dessin de
  presse 2026\, Freedom Cartoonists vous invite à parcourir l'actualité e
 n dessins sur le quai Wilson.
LOCATION:Quai Wilson\, 1201 Genève\, Suisse
URL:https://www.geneve-communes.ch/agenda/dessins-pour-la-liberte-expositio
 n-sur-le-quai-wilson
DTSTART;TZID=Europe/Zurich:20260531T000000
DTEND;TZID=Europe/Zurich:20260531T235900
GEO:46.213815;6.152166
X-APPLE-STRUCTURED-LOCATION;VALUE=URI;X-ADDRESS=Quai Wilson\, 1201 Genève\
 , Suisse;X-APPLE-RADIUS=72;X-TITLE=Quai Wilson:geo:46.213815,6.152166
END:VEVENT
END:VCALENDAR