BEGIN:VCALENDAR
VERSION:2.0
PRODID:-//Les communes genevoises//Agenda//FR
NAME:Les communes genevoises
X-WR-CALNAME:Les communes genevoises
BEGIN:VTIMEZONE
TZID:Europe/Zurich
BEGIN:STANDARD
DTSTART:20251026T030000
TZOFFSETFROM:+0200
TZOFFSETTO:+0100
END:STANDARD
BEGIN:DAYLIGHT
DTSTART:20260329T010000
TZOFFSETFROM:+0100
TZOFFSETTO:+0200
END:DAYLIGHT
BEGIN:STANDARD
DTSTART:20261025T030000
TZOFFSETFROM:+0200
TZOFFSETTO:+0100
END:STANDARD
END:VTIMEZONE
BEGIN:VTIMEZONE
TZID:UTC
BEGIN:STANDARD
DTSTART:20250726T075000
TZOFFSETFROM:+0000
TZOFFSETTO:+0000
END:STANDARD
END:VTIMEZONE
BEGIN:VEVENT
UID:59e11725-8470-4b74-b717-c3b861d9442d-0
DTSTAMP:20260422T075000Z
SUMMARY:GE-visIci SaMeDi: Journée Excursion Escalade en falaise et via fer
 rata pour enfants et ados
DESCRIPTION:Rejoins-nous pour une journée d'excursion GE-visIci pour les 7
 -16 ans! Découvre la verticalité de la via et le plaisir de l'escalade e
 n falaise! groupes mixtes parlant ou non français\, CO Montbrillant
LOCATION:Genève\, 1204 Genève\, Suisse
URL:https://www.geneve-communes.ch/agenda/ge-visici-samedi-journee-excursio
 n-escalade-en-falaise-et-ferrata-pour-enfants-et-ados
DTSTART;TZID=Europe/Zurich:20260426T090000
DTEND;TZID=Europe/Zurich:20260426T170000
GEO:46.201756;6.146601
X-APPLE-STRUCTURED-LOCATION;VALUE=URI;X-ADDRESS=Genève\, 1204 Genève\, Su
 isse;X-APPLE-RADIUS=72;X-TITLE=Autre lieu:geo:46.201756,6.146601
END:VEVENT
END:VCALENDAR