BEGIN:VCALENDAR
VERSION:2.0
PRODID:-//Les communes genevoises//Agenda//FR
NAME:Les communes genevoises
X-WR-CALNAME:Les communes genevoises
BEGIN:VTIMEZONE
TZID:Europe/Zurich
BEGIN:STANDARD
DTSTART:20251026T030000
TZOFFSETFROM:+0200
TZOFFSETTO:+0100
END:STANDARD
BEGIN:DAYLIGHT
DTSTART:20260329T010000
TZOFFSETFROM:+0100
TZOFFSETTO:+0200
END:DAYLIGHT
BEGIN:STANDARD
DTSTART:20261025T030000
TZOFFSETFROM:+0200
TZOFFSETTO:+0100
END:STANDARD
END:VTIMEZONE
BEGIN:VTIMEZONE
TZID:UTC
BEGIN:STANDARD
DTSTART:20250726T071800
TZOFFSETFROM:+0000
TZOFFSETTO:+0000
END:STANDARD
END:VTIMEZONE
BEGIN:VEVENT
UID:613efdda-e1ff-47ca-be46-c894b5d8f2a4-0
DTSTAMP:20260422T071800Z
SUMMARY:Journalisme Social Club - Strip Tease intégral
DESCRIPTION:Projection et discussion avec les fondateurs belges de l'émiss
 ion culte: Strip Tease
LOCATION:Genève\, 1204 Genève\, Suisse
URL:https://www.geneve-communes.ch/agenda/journalisme-social-club-strip-tea
 se-integral
DTSTART;TZID=Europe/Zurich:20260428T180000
DTEND;TZID=Europe/Zurich:20260428T220000
GEO:46.201756;6.146601
X-APPLE-STRUCTURED-LOCATION;VALUE=URI;X-ADDRESS=Genève\, 1204 Genève\, Su
 isse;X-APPLE-RADIUS=72;X-TITLE=Autre lieu:geo:46.201756,6.146601
END:VEVENT
END:VCALENDAR