BEGIN:VCALENDAR
VERSION:2.0
PRODID:-//Les communes genevoises//Agenda//FR
NAME:Les communes genevoises
X-WR-CALNAME:Les communes genevoises
BEGIN:VTIMEZONE
TZID:Europe/Zurich
BEGIN:STANDARD
DTSTART:20251026T030000
TZOFFSETFROM:+0200
TZOFFSETTO:+0100
END:STANDARD
BEGIN:DAYLIGHT
DTSTART:20260329T010000
TZOFFSETFROM:+0100
TZOFFSETTO:+0200
END:DAYLIGHT
BEGIN:STANDARD
DTSTART:20261025T030000
TZOFFSETFROM:+0200
TZOFFSETTO:+0100
END:STANDARD
END:VTIMEZONE
BEGIN:VTIMEZONE
TZID:UTC
BEGIN:STANDARD
DTSTART:20250725T211800
TZOFFSETFROM:+0000
TZOFFSETTO:+0000
END:STANDARD
END:VTIMEZONE
BEGIN:VEVENT
UID:48f14949-82f5-4f83-baac-9522bc18239e-0
DTSTAMP:20260421T211800Z
SUMMARY:Carlos Branco\, Moisés Moza & Friends : peinture et musique
DESCRIPTION:Dimanche 26 avril dès 14h\, le showroom Jus de Soleil vous inv
 ite au décrochage de l’exposition de Carlos Branco « Les systèmes ».
LOCATION:Genève\, 1204 Genève\, Suisse
URL:https://www.geneve-communes.ch/agenda/carlos-branco-moises-moza-friends
 -peinture-et-musique
DTSTART;TZID=Europe/Zurich:20260426T140000
DTEND;TZID=Europe/Zurich:20260426T200000
GEO:46.201756;6.146601
X-APPLE-STRUCTURED-LOCATION;VALUE=URI;X-ADDRESS=Genève\, 1204 Genève\, Su
 isse;X-APPLE-RADIUS=72;X-TITLE=Autre lieu:geo:46.201756,6.146601
END:VEVENT
END:VCALENDAR