BEGIN:VCALENDAR
VERSION:2.0
PRODID:-//Les communes genevoises//Agenda//FR
NAME:Les communes genevoises
X-WR-CALNAME:Les communes genevoises
BEGIN:VTIMEZONE
TZID:Europe/Zurich
BEGIN:STANDARD
DTSTART:20251026T030000
TZOFFSETFROM:+0200
TZOFFSETTO:+0100
END:STANDARD
BEGIN:DAYLIGHT
DTSTART:20260329T010000
TZOFFSETFROM:+0100
TZOFFSETTO:+0200
END:DAYLIGHT
BEGIN:STANDARD
DTSTART:20261025T030000
TZOFFSETFROM:+0200
TZOFFSETTO:+0100
END:STANDARD
END:VTIMEZONE
BEGIN:VTIMEZONE
TZID:UTC
BEGIN:STANDARD
DTSTART:20250725T164601
TZOFFSETFROM:+0000
TZOFFSETTO:+0000
END:STANDARD
END:VTIMEZONE
BEGIN:VEVENT
UID:f88e5b32-6b67-4512-8ce9-fdbbdb64f98a-0
DTSTAMP:20260421T164601Z
SUMMARY:JAZZ DANS LES VIGNES ”Tribute to Frank Sinatra”
DESCRIPTION:Une voix légendaire\, un swing intemporel\, une soirée d’ex
 ception : revivez l’univers de Frank Sinatra au cœur des vignes.
LOCATION:Genève\, 1204 Genève\, Suisse
URL:https://www.geneve-communes.ch/agenda/jazz-dans-les-vignes-tribute-fran
 k-sinatra
DTSTART;TZID=Europe/Zurich:20260612T183000
DTEND;TZID=Europe/Zurich:20260612T213000
GEO:46.201756;6.146601
X-APPLE-STRUCTURED-LOCATION;VALUE=URI;X-ADDRESS=Genève\, 1204 Genève\, Su
 isse;X-APPLE-RADIUS=72;X-TITLE=Autre lieu:geo:46.201756,6.146601
END:VEVENT
END:VCALENDAR