BEGIN:VCALENDAR
VERSION:2.0
PRODID:-//Les communes genevoises//Agenda//FR
NAME:Les communes genevoises
X-WR-CALNAME:Les communes genevoises
BEGIN:VTIMEZONE
TZID:Europe/Zurich
BEGIN:STANDARD
DTSTART:20251026T030000
TZOFFSETFROM:+0200
TZOFFSETTO:+0100
END:STANDARD
BEGIN:DAYLIGHT
DTSTART:20260329T010000
TZOFFSETFROM:+0100
TZOFFSETTO:+0200
END:DAYLIGHT
BEGIN:STANDARD
DTSTART:20261025T030000
TZOFFSETFROM:+0200
TZOFFSETTO:+0100
END:STANDARD
END:VTIMEZONE
BEGIN:VTIMEZONE
TZID:UTC
BEGIN:STANDARD
DTSTART:20250725T164601
TZOFFSETFROM:+0000
TZOFFSETTO:+0000
END:STANDARD
END:VTIMEZONE
BEGIN:VEVENT
UID:bcb4bd21-806d-40ce-a9d5-47661a33e173-0
DTSTAMP:20260421T164601Z
SUMMARY:Concert événement\nTHIERRY LANG QUARTET moderne/swing
DESCRIPTION:Une soirée d’élégance\, de swing et de jazz d’exception
 —Thierry Lang revient entouré d’un quartet remarquable pour un moment
  inoubliable.
LOCATION:Passage Marie-Claude-LEBURGUE 2\, 1205 Genève\, Suisse
URL:https://www.geneve-communes.ch/agenda/concert-evenement-thierry-lang-qu
 artet-moderneswing
DTSTART;TZID=Europe/Zurich:20260605T210000
DTEND;TZID=Europe/Zurich:20260605T230000
GEO:46.196804;6.136724
X-APPLE-STRUCTURED-LOCATION;VALUE=URI;X-ADDRESS=Passage Marie-Claude-LEBURG
 UE 2\, 1205 Genève\, Suisse;X-APPLE-RADIUS=72;X-TITLE=Le Chaudron - Centr
 e des Musiques Actuelles:geo:46.196804,6.136724
END:VEVENT
END:VCALENDAR