BEGIN:VCALENDAR
VERSION:2.0
PRODID:-//Les communes genevoises//Agenda//FR
NAME:Les communes genevoises
X-WR-CALNAME:Les communes genevoises
BEGIN:VTIMEZONE
TZID:Europe/Zurich
BEGIN:STANDARD
DTSTART:20251026T030000
TZOFFSETFROM:+0200
TZOFFSETTO:+0100
END:STANDARD
BEGIN:DAYLIGHT
DTSTART:20260329T010000
TZOFFSETFROM:+0100
TZOFFSETTO:+0200
END:DAYLIGHT
BEGIN:STANDARD
DTSTART:20261025T030000
TZOFFSETFROM:+0200
TZOFFSETTO:+0100
END:STANDARD
END:VTIMEZONE
BEGIN:VTIMEZONE
TZID:UTC
BEGIN:STANDARD
DTSTART:20250725T164601
TZOFFSETFROM:+0000
TZOFFSETTO:+0000
END:STANDARD
END:VTIMEZONE
BEGIN:VEVENT
UID:5c70834f-2895-4230-aec1-f7f4b0ff5949-0
DTSTAMP:20260421T164601Z
SUMMARY:Atelier cosmétique pour adultes: Fabriquez votre Shampoing solide 
 & votre Gel douche moussant
DESCRIPTION:Envie de douceur et de créativité ce printemps? Apprenez à f
 abriquer vos soins orientaux 100% naturel\, en profitant d'un moment rien 
 que pour vous!
LOCATION:Rue de Montchoisy 46\, 1207 Genève\, 1207 Genève\, Suisse
URL:https://www.geneve-communes.ch/agenda/atelier-cosmetique-pour-adultes-f
 abriquez-votre-shampoing-solide-votre-gel-douche-moussant
DTSTART;TZID=Europe/Zurich:20260504T183000
DTEND;TZID=Europe/Zurich:20260504T194500
GEO:46.204014;6.161882
X-APPLE-STRUCTURED-LOCATION;VALUE=URI;X-ADDRESS=Rue de Montchoisy 46\, 1207
  Genève\, 1207 Genève\, Suisse;X-APPLE-RADIUS=72;X-TITLE=Espace de quart
 ier Eaux-Vives:geo:46.204014,6.161882
END:VEVENT
END:VCALENDAR