BEGIN:VCALENDAR
VERSION:2.0
PRODID:-//Les communes genevoises//Agenda//FR
NAME:Les communes genevoises
X-WR-CALNAME:Les communes genevoises
BEGIN:VTIMEZONE
TZID:Europe/Zurich
BEGIN:DAYLIGHT
DTSTART:20260329T010000
TZOFFSETFROM:+0100
TZOFFSETTO:+0200
END:DAYLIGHT
BEGIN:STANDARD
DTSTART:20261025T030000
TZOFFSETFROM:+0200
TZOFFSETTO:+0100
END:STANDARD
END:VTIMEZONE
BEGIN:VTIMEZONE
TZID:UTC
BEGIN:STANDARD
DTSTART:20250725T154600
TZOFFSETFROM:+0000
TZOFFSETTO:+0000
END:STANDARD
END:VTIMEZONE
BEGIN:VEVENT
UID:897794c4-cade-43d7-9e78-1daee416c084-0
DTSTAMP:20260421T154600Z
SUMMARY:Stage de DANSE DU MONDE permet aux femmes de voyager à travers la 
 danse et la musique de plusieurs pays pour s’amuser et stimuler la bonne
  humeur
DESCRIPTION:Stage de DANSE DU MONDE permet aux femmes de voyager à travers
  la danse et la musique de plusieurs pays pour s’amuser et stimuler la b
 onne humeur
LOCATION:Chem. du Fief-de-Chapitre 15\, 1213 Petit-Lancy\, 1203 Genève\, S
 uisse
URL:https://www.geneve-communes.ch/agenda/stage-de-danse-du-monde-permet-au
 x-femmes-de-voyager-travers-la-danse-et-la-musique-de
DTSTART;TZID=Europe/Zurich:20260913T170000
DTEND;TZID=Europe/Zurich:20260913T180000
GEO:46.195189;6.124365
X-APPLE-STRUCTURED-LOCATION;VALUE=URI;X-ADDRESS=Chem. du Fief-de-Chapitre 1
 5\, 1213 Petit-Lancy\, 1203 Genève\, Suisse;X-APPLE-RADIUS=72;X-TITLE=Éc
 ole de Tivoli:geo:46.195189,6.124365
END:VEVENT
BEGIN:VEVENT
UID:897794c4-cade-43d7-9e78-1daee416c084-1
DTSTAMP:20260421T154600Z
SUMMARY:Stage de DANSE DU MONDE permet aux femmes de voyager à travers la 
 danse et la musique de plusieurs pays pour s’amuser et stimuler la bonne
  humeur
DESCRIPTION:Stage de DANSE DU MONDE permet aux femmes de voyager à travers
  la danse et la musique de plusieurs pays pour s’amuser et stimuler la b
 onne humeur
LOCATION:Chem. du Fief-de-Chapitre 15\, 1213 Petit-Lancy\, 1203 Genève\, S
 uisse
URL:https://www.geneve-communes.ch/agenda/stage-de-danse-du-monde-permet-au
 x-femmes-de-voyager-travers-la-danse-et-la-musique-de
DTSTART;TZID=Europe/Zurich:20260920T170000
DTEND;TZID=Europe/Zurich:20260920T180000
GEO:46.195189;6.124365
X-APPLE-STRUCTURED-LOCATION;VALUE=URI;X-ADDRESS=Chem. du Fief-de-Chapitre 1
 5\, 1213 Petit-Lancy\, 1203 Genève\, Suisse;X-APPLE-RADIUS=72;X-TITLE=Éc
 ole de Tivoli:geo:46.195189,6.124365
END:VEVENT
END:VCALENDAR