BEGIN:VCALENDAR
VERSION:2.0
PRODID:-//Les communes genevoises//Agenda//FR
NAME:Les communes genevoises
X-WR-CALNAME:Les communes genevoises
BEGIN:VTIMEZONE
TZID:Europe/Zurich
BEGIN:STANDARD
DTSTART:20251026T030000
TZOFFSETFROM:+0200
TZOFFSETTO:+0100
END:STANDARD
BEGIN:DAYLIGHT
DTSTART:20260329T010000
TZOFFSETFROM:+0100
TZOFFSETTO:+0200
END:DAYLIGHT
BEGIN:STANDARD
DTSTART:20261025T030000
TZOFFSETFROM:+0200
TZOFFSETTO:+0100
END:STANDARD
END:VTIMEZONE
BEGIN:VTIMEZONE
TZID:UTC
BEGIN:STANDARD
DTSTART:20250725T154600
TZOFFSETFROM:+0000
TZOFFSETTO:+0000
END:STANDARD
END:VTIMEZONE
BEGIN:VEVENT
UID:3e924cc0-7c71-4684-9670-12714032ab74-0
DTSTAMP:20260421T154600Z
SUMMARY:Passeport Santé pour les seniors : Balade pour découvrir la biodi
 versité
DESCRIPTION:Mobilité douce et corridors biologiques: Balade pour découvri
 r la biodiversité du promenade Nicolas Bouvier à Lancy avec Cycle de Vie
LOCATION:Chemin de Gaimont 9\, 1213 Petit-Lancy\, 1213 Genève\, Suisse
URL:https://www.geneve-communes.ch/agenda/passeport-sante-pour-les-seniors-
 balade-pour-decouvrir-la-biodiversite
DTSTART;TZID=Europe/Zurich:20260616T090000
DTEND;TZID=Europe/Zurich:20260616T100000
GEO:46.193776;6.126989
X-APPLE-STRUCTURED-LOCATION;VALUE=URI;X-ADDRESS=Chemin de Gaimont 9\, 1213 
 Petit-Lancy\, 1213 Genève\, Suisse;X-APPLE-RADIUS=72;X-TITLE=Espace Gaimo
 nt:geo:46.193776,6.126989
END:VEVENT
END:VCALENDAR