BEGIN:VCALENDAR
VERSION:2.0
PRODID:-//Les communes genevoises//Agenda//FR
NAME:Les communes genevoises
X-WR-CALNAME:Les communes genevoises
BEGIN:VTIMEZONE
TZID:Europe/Zurich
BEGIN:STANDARD
DTSTART:20251026T030000
TZOFFSETFROM:+0200
TZOFFSETTO:+0100
END:STANDARD
BEGIN:DAYLIGHT
DTSTART:20260329T010000
TZOFFSETFROM:+0100
TZOFFSETTO:+0200
END:DAYLIGHT
BEGIN:STANDARD
DTSTART:20261025T030000
TZOFFSETFROM:+0200
TZOFFSETTO:+0100
END:STANDARD
END:VTIMEZONE
BEGIN:VTIMEZONE
TZID:UTC
BEGIN:STANDARD
DTSTART:20250725T154600
TZOFFSETFROM:+0000
TZOFFSETTO:+0000
END:STANDARD
END:VTIMEZONE
BEGIN:VEVENT
UID:0148a33e-04b5-406a-b877-fe5536cc7f23-0
DTSTAMP:20260421T154600Z
SUMMARY:Passeport Santé pour les seniors : Gym cardio
DESCRIPTION:Gym cardio avec l'ARCV
LOCATION:Chemin des Erables\, 1213 Petit-Lancy\, 1213 Genève\, Suisse
URL:https://www.geneve-communes.ch/agenda/passeport-sante-pour-les-seniors-
 gym-cardio
DTSTART;TZID=Europe/Zurich:20260609T090000
DTEND;TZID=Europe/Zurich:20260609T100000
GEO:46.191509;6.121997
X-APPLE-STRUCTURED-LOCATION;VALUE=URI;X-ADDRESS=Chemin des Erables\, 1213 P
 etit-Lancy\, 1213 Genève\, Suisse;X-APPLE-RADIUS=72;X-TITLE=Parc Chuit:ge
 o:46.191509,6.121997
END:VEVENT
END:VCALENDAR