BEGIN:VCALENDAR
VERSION:2.0
PRODID:-//Les communes genevoises//Agenda//FR
NAME:Les communes genevoises
X-WR-CALNAME:Les communes genevoises
BEGIN:VTIMEZONE
TZID:Europe/Zurich
BEGIN:STANDARD
DTSTART:20251026T030000
TZOFFSETFROM:+0200
TZOFFSETTO:+0100
END:STANDARD
BEGIN:DAYLIGHT
DTSTART:20260329T010000
TZOFFSETFROM:+0100
TZOFFSETTO:+0200
END:DAYLIGHT
BEGIN:STANDARD
DTSTART:20261025T030000
TZOFFSETFROM:+0200
TZOFFSETTO:+0100
END:STANDARD
END:VTIMEZONE
BEGIN:VTIMEZONE
TZID:UTC
BEGIN:STANDARD
DTSTART:20250725T152401
TZOFFSETFROM:+0000
TZOFFSETTO:+0000
END:STANDARD
END:VTIMEZONE
BEGIN:VEVENT
UID:8904e081-baae-4914-8d4f-4592a291ff78-0
DTSTAMP:20260421T152401Z
SUMMARY:Passeport Santé pour les seniors: Danses du monde
DESCRIPTION:Séance de \"danses du monde\" avec Pro Senectute Genève
LOCATION:Avenue du Curé-Baud 40\, 1212 Genève\, Suisse
URL:https://www.geneve-communes.ch/agenda/passeport-sante-pour-les-seniors-
 danses-du-monde
DTSTART;TZID=Europe/Zurich:20260715T090000
DTEND;TZID=Europe/Zurich:20260715T100000
GEO:46.177988;6.116908
X-APPLE-STRUCTURED-LOCATION;VALUE=URI;X-ADDRESS=Avenue du Curé-Baud 40\, 1
 212 Genève\, Suisse;X-APPLE-RADIUS=72;X-TITLE=Parc en Sauvy:geo:46.177988
 ,6.116908
END:VEVENT
END:VCALENDAR