BEGIN:VCALENDAR
VERSION:2.0
PRODID:-//Les communes genevoises//Agenda//FR
NAME:Les communes genevoises
X-WR-CALNAME:Les communes genevoises
BEGIN:VTIMEZONE
TZID:Europe/Zurich
BEGIN:STANDARD
DTSTART:20251026T030000
TZOFFSETFROM:+0200
TZOFFSETTO:+0100
END:STANDARD
BEGIN:DAYLIGHT
DTSTART:20260329T010000
TZOFFSETFROM:+0100
TZOFFSETTO:+0200
END:DAYLIGHT
BEGIN:STANDARD
DTSTART:20261025T030000
TZOFFSETFROM:+0200
TZOFFSETTO:+0100
END:STANDARD
END:VTIMEZONE
BEGIN:VTIMEZONE
TZID:UTC
BEGIN:STANDARD
DTSTART:20250725T152401
TZOFFSETFROM:+0000
TZOFFSETTO:+0000
END:STANDARD
END:VTIMEZONE
BEGIN:VEVENT
UID:ae99d1dc-25d9-4de2-86dd-a16cfe139e12-0
DTSTAMP:20260421T152401Z
SUMMARY:Passeport Santé pour les seniors : Autour du ballon
DESCRIPTION:Activité \"autour du ballon\" avec Pro Senectute Genève
LOCATION:Avenue du Petit-Lancy 7\, 1213 Petit-Lancy\, 1213 Genève\, Suisse
URL:https://www.geneve-communes.ch/agenda/passeport-sante-pour-les-seniors-
 autour-du-ballon
DTSTART;TZID=Europe/Zurich:20260707T090000
DTEND;TZID=Europe/Zurich:20260707T100000
GEO:46.191225;6.116552
X-APPLE-STRUCTURED-LOCATION;VALUE=URI;X-ADDRESS=Avenue du Petit-Lancy 7\, 1
 213 Petit-Lancy\, 1213 Genève\, Suisse;X-APPLE-RADIUS=72;X-TITLE=Parc Lou
 is-Bertrand:geo:46.191225,6.116552
END:VEVENT
END:VCALENDAR