BEGIN:VCALENDAR
VERSION:2.0
PRODID:-//Les communes genevoises//Agenda//FR
NAME:Les communes genevoises
X-WR-CALNAME:Les communes genevoises
BEGIN:VTIMEZONE
TZID:Europe/Zurich
BEGIN:STANDARD
DTSTART:20251026T030000
TZOFFSETFROM:+0200
TZOFFSETTO:+0100
END:STANDARD
BEGIN:DAYLIGHT
DTSTART:20260329T010000
TZOFFSETFROM:+0100
TZOFFSETTO:+0200
END:DAYLIGHT
BEGIN:STANDARD
DTSTART:20261025T030000
TZOFFSETFROM:+0200
TZOFFSETTO:+0100
END:STANDARD
END:VTIMEZONE
BEGIN:VTIMEZONE
TZID:UTC
BEGIN:STANDARD
DTSTART:20250725T152401
TZOFFSETFROM:+0000
TZOFFSETTO:+0000
END:STANDARD
END:VTIMEZONE
BEGIN:VEVENT
UID:3153d264-fcee-41d0-9d06-1e2fa5fcddbb-0
DTSTAMP:20260421T152401Z
SUMMARY:Baskethouse Camp 2026
DESCRIPTION:Camp de basket pour jeunes de 5 à 21 ans sur Plan-les-Ouates
LOCATION:Rte de Base 24\, 1228 Plan-les-Ouates\, 1228 Genève\, Suisse
URL:https://www.geneve-communes.ch/agenda/baskethouse-camp-2026
DTSTART;TZID=Europe/Zurich:20260629T090000
DTEND;TZID=Europe/Zurich:20260629T170000
GEO:46.173132;6.10932
X-APPLE-STRUCTURED-LOCATION;VALUE=URI;X-ADDRESS=Rte de Base 24\, 1228 Plan-
 les-Ouates\, 1228 Genève\, Suisse;X-APPLE-RADIUS=72;X-TITLE=École de Com
 merce et de Culture Générale Aimée-Stitelmann:geo:46.173132,6.10932
END:VEVENT
BEGIN:VEVENT
UID:3153d264-fcee-41d0-9d06-1e2fa5fcddbb-1
DTSTAMP:20260421T152401Z
SUMMARY:Baskethouse Camp 2026
DESCRIPTION:Camp de basket pour jeunes de 5 à 21 ans sur Plan-les-Ouates
LOCATION:Rte de Base 24\, 1228 Plan-les-Ouates\, 1228 Genève\, Suisse
URL:https://www.geneve-communes.ch/agenda/baskethouse-camp-2026
DTSTART;TZID=Europe/Zurich:20260630T090000
DTEND;TZID=Europe/Zurich:20260630T170000
GEO:46.173132;6.10932
X-APPLE-STRUCTURED-LOCATION;VALUE=URI;X-ADDRESS=Rte de Base 24\, 1228 Plan-
 les-Ouates\, 1228 Genève\, Suisse;X-APPLE-RADIUS=72;X-TITLE=École de Com
 merce et de Culture Générale Aimée-Stitelmann:geo:46.173132,6.10932
END:VEVENT
BEGIN:VEVENT
UID:3153d264-fcee-41d0-9d06-1e2fa5fcddbb-2
DTSTAMP:20260421T152401Z
SUMMARY:Baskethouse Camp 2026
DESCRIPTION:Camp de basket pour jeunes de 5 à 21 ans sur Plan-les-Ouates
LOCATION:Rte de Base 24\, 1228 Plan-les-Ouates\, 1228 Genève\, Suisse
URL:https://www.geneve-communes.ch/agenda/baskethouse-camp-2026
DTSTART;TZID=Europe/Zurich:20260701T090000
DTEND;TZID=Europe/Zurich:20260701T170000
GEO:46.173132;6.10932
X-APPLE-STRUCTURED-LOCATION;VALUE=URI;X-ADDRESS=Rte de Base 24\, 1228 Plan-
 les-Ouates\, 1228 Genève\, Suisse;X-APPLE-RADIUS=72;X-TITLE=École de Com
 merce et de Culture Générale Aimée-Stitelmann:geo:46.173132,6.10932
END:VEVENT
BEGIN:VEVENT
UID:3153d264-fcee-41d0-9d06-1e2fa5fcddbb-3
DTSTAMP:20260421T152401Z
SUMMARY:Baskethouse Camp 2026
DESCRIPTION:Camp de basket pour jeunes de 5 à 21 ans sur Plan-les-Ouates
LOCATION:Rte de Base 24\, 1228 Plan-les-Ouates\, 1228 Genève\, Suisse
URL:https://www.geneve-communes.ch/agenda/baskethouse-camp-2026
DTSTART;TZID=Europe/Zurich:20260702T090000
DTEND;TZID=Europe/Zurich:20260702T170000
GEO:46.173132;6.10932
X-APPLE-STRUCTURED-LOCATION;VALUE=URI;X-ADDRESS=Rte de Base 24\, 1228 Plan-
 les-Ouates\, 1228 Genève\, Suisse;X-APPLE-RADIUS=72;X-TITLE=École de Com
 merce et de Culture Générale Aimée-Stitelmann:geo:46.173132,6.10932
END:VEVENT
BEGIN:VEVENT
UID:3153d264-fcee-41d0-9d06-1e2fa5fcddbb-4
DTSTAMP:20260421T152401Z
SUMMARY:Baskethouse Camp 2026
DESCRIPTION:Camp de basket pour jeunes de 5 à 21 ans sur Plan-les-Ouates
LOCATION:Rte de Base 24\, 1228 Plan-les-Ouates\, 1228 Genève\, Suisse
URL:https://www.geneve-communes.ch/agenda/baskethouse-camp-2026
DTSTART;TZID=Europe/Zurich:20260703T090000
DTEND;TZID=Europe/Zurich:20260703T170000
GEO:46.173132;6.10932
X-APPLE-STRUCTURED-LOCATION;VALUE=URI;X-ADDRESS=Rte de Base 24\, 1228 Plan-
 les-Ouates\, 1228 Genève\, Suisse;X-APPLE-RADIUS=72;X-TITLE=École de Com
 merce et de Culture Générale Aimée-Stitelmann:geo:46.173132,6.10932
END:VEVENT
BEGIN:VEVENT
UID:3153d264-fcee-41d0-9d06-1e2fa5fcddbb-5
DTSTAMP:20260421T152401Z
SUMMARY:Baskethouse Camp 2026
DESCRIPTION:Camp de basket pour jeunes de 5 à 21 ans sur Plan-les-Ouates
LOCATION:Rte de Base 24\, 1228 Plan-les-Ouates\, 1228 Genève\, Suisse
URL:https://www.geneve-communes.ch/agenda/baskethouse-camp-2026
DTSTART;TZID=Europe/Zurich:20260704T090000
DTEND;TZID=Europe/Zurich:20260704T170000
GEO:46.173132;6.10932
X-APPLE-STRUCTURED-LOCATION;VALUE=URI;X-ADDRESS=Rte de Base 24\, 1228 Plan-
 les-Ouates\, 1228 Genève\, Suisse;X-APPLE-RADIUS=72;X-TITLE=École de Com
 merce et de Culture Générale Aimée-Stitelmann:geo:46.173132,6.10932
END:VEVENT
BEGIN:VEVENT
UID:3153d264-fcee-41d0-9d06-1e2fa5fcddbb-6
DTSTAMP:20260421T152401Z
SUMMARY:Baskethouse Camp 2026
DESCRIPTION:Camp de basket pour jeunes de 5 à 21 ans sur Plan-les-Ouates
LOCATION:Rte de Base 24\, 1228 Plan-les-Ouates\, 1228 Genève\, Suisse
URL:https://www.geneve-communes.ch/agenda/baskethouse-camp-2026
DTSTART;TZID=Europe/Zurich:20260706T090000
DTEND;TZID=Europe/Zurich:20260706T170000
GEO:46.173132;6.10932
X-APPLE-STRUCTURED-LOCATION;VALUE=URI;X-ADDRESS=Rte de Base 24\, 1228 Plan-
 les-Ouates\, 1228 Genève\, Suisse;X-APPLE-RADIUS=72;X-TITLE=École de Com
 merce et de Culture Générale Aimée-Stitelmann:geo:46.173132,6.10932
END:VEVENT
BEGIN:VEVENT
UID:3153d264-fcee-41d0-9d06-1e2fa5fcddbb-7
DTSTAMP:20260421T152401Z
SUMMARY:Baskethouse Camp 2026
DESCRIPTION:Camp de basket pour jeunes de 5 à 21 ans sur Plan-les-Ouates
LOCATION:Rte de Base 24\, 1228 Plan-les-Ouates\, 1228 Genève\, Suisse
URL:https://www.geneve-communes.ch/agenda/baskethouse-camp-2026
DTSTART;TZID=Europe/Zurich:20260707T090000
DTEND;TZID=Europe/Zurich:20260707T170000
GEO:46.173132;6.10932
X-APPLE-STRUCTURED-LOCATION;VALUE=URI;X-ADDRESS=Rte de Base 24\, 1228 Plan-
 les-Ouates\, 1228 Genève\, Suisse;X-APPLE-RADIUS=72;X-TITLE=École de Com
 merce et de Culture Générale Aimée-Stitelmann:geo:46.173132,6.10932
END:VEVENT
BEGIN:VEVENT
UID:3153d264-fcee-41d0-9d06-1e2fa5fcddbb-8
DTSTAMP:20260421T152401Z
SUMMARY:Baskethouse Camp 2026
DESCRIPTION:Camp de basket pour jeunes de 5 à 21 ans sur Plan-les-Ouates
LOCATION:Rte de Base 24\, 1228 Plan-les-Ouates\, 1228 Genève\, Suisse
URL:https://www.geneve-communes.ch/agenda/baskethouse-camp-2026
DTSTART;TZID=Europe/Zurich:20260708T090000
DTEND;TZID=Europe/Zurich:20260708T170000
GEO:46.173132;6.10932
X-APPLE-STRUCTURED-LOCATION;VALUE=URI;X-ADDRESS=Rte de Base 24\, 1228 Plan-
 les-Ouates\, 1228 Genève\, Suisse;X-APPLE-RADIUS=72;X-TITLE=École de Com
 merce et de Culture Générale Aimée-Stitelmann:geo:46.173132,6.10932
END:VEVENT
BEGIN:VEVENT
UID:3153d264-fcee-41d0-9d06-1e2fa5fcddbb-9
DTSTAMP:20260421T152401Z
SUMMARY:Baskethouse Camp 2026
DESCRIPTION:Camp de basket pour jeunes de 5 à 21 ans sur Plan-les-Ouates
LOCATION:Rte de Base 24\, 1228 Plan-les-Ouates\, 1228 Genève\, Suisse
URL:https://www.geneve-communes.ch/agenda/baskethouse-camp-2026
DTSTART;TZID=Europe/Zurich:20260709T090000
DTEND;TZID=Europe/Zurich:20260709T170000
GEO:46.173132;6.10932
X-APPLE-STRUCTURED-LOCATION;VALUE=URI;X-ADDRESS=Rte de Base 24\, 1228 Plan-
 les-Ouates\, 1228 Genève\, Suisse;X-APPLE-RADIUS=72;X-TITLE=École de Com
 merce et de Culture Générale Aimée-Stitelmann:geo:46.173132,6.10932
END:VEVENT
BEGIN:VEVENT
UID:3153d264-fcee-41d0-9d06-1e2fa5fcddbb-10
DTSTAMP:20260421T152401Z
SUMMARY:Baskethouse Camp 2026
DESCRIPTION:Camp de basket pour jeunes de 5 à 21 ans sur Plan-les-Ouates
LOCATION:Rte de Base 24\, 1228 Plan-les-Ouates\, 1228 Genève\, Suisse
URL:https://www.geneve-communes.ch/agenda/baskethouse-camp-2026
DTSTART;TZID=Europe/Zurich:20260710T090000
DTEND;TZID=Europe/Zurich:20260710T170000
GEO:46.173132;6.10932
X-APPLE-STRUCTURED-LOCATION;VALUE=URI;X-ADDRESS=Rte de Base 24\, 1228 Plan-
 les-Ouates\, 1228 Genève\, Suisse;X-APPLE-RADIUS=72;X-TITLE=École de Com
 merce et de Culture Générale Aimée-Stitelmann:geo:46.173132,6.10932
END:VEVENT
BEGIN:VEVENT
UID:3153d264-fcee-41d0-9d06-1e2fa5fcddbb-11
DTSTAMP:20260421T152401Z
SUMMARY:Baskethouse Camp 2026
DESCRIPTION:Camp de basket pour jeunes de 5 à 21 ans sur Plan-les-Ouates
LOCATION:Rte de Base 24\, 1228 Plan-les-Ouates\, 1228 Genève\, Suisse
URL:https://www.geneve-communes.ch/agenda/baskethouse-camp-2026
DTSTART;TZID=Europe/Zurich:20260711T090000
DTEND;TZID=Europe/Zurich:20260711T170000
GEO:46.173132;6.10932
X-APPLE-STRUCTURED-LOCATION;VALUE=URI;X-ADDRESS=Rte de Base 24\, 1228 Plan-
 les-Ouates\, 1228 Genève\, Suisse;X-APPLE-RADIUS=72;X-TITLE=École de Com
 merce et de Culture Générale Aimée-Stitelmann:geo:46.173132,6.10932
END:VEVENT
END:VCALENDAR