BEGIN:VCALENDAR
VERSION:2.0
PRODID:-//Les communes genevoises//Agenda//FR
NAME:Les communes genevoises
X-WR-CALNAME:Les communes genevoises
BEGIN:VTIMEZONE
TZID:Europe/Zurich
BEGIN:STANDARD
DTSTART:20251026T030000
TZOFFSETFROM:+0200
TZOFFSETTO:+0100
END:STANDARD
BEGIN:DAYLIGHT
DTSTART:20260329T010000
TZOFFSETFROM:+0100
TZOFFSETTO:+0200
END:DAYLIGHT
BEGIN:STANDARD
DTSTART:20261025T030000
TZOFFSETFROM:+0200
TZOFFSETTO:+0100
END:STANDARD
END:VTIMEZONE
BEGIN:VTIMEZONE
TZID:UTC
BEGIN:STANDARD
DTSTART:20250725T152401
TZOFFSETFROM:+0000
TZOFFSETTO:+0000
END:STANDARD
END:VTIMEZONE
BEGIN:VEVENT
UID:c24124b8-1b0a-4c45-a6be-535d68898411-0
DTSTAMP:20260421T152401Z
SUMMARY:Passeport Santé pour les seniors : Marche en pleine conscience
DESCRIPTION:Marche en pleine conscience avec Maria Diamantoudi
LOCATION:Chemin des Erables\, 1213 Petit-Lancy\, 1213 Genève\, Suisse
URL:https://www.geneve-communes.ch/agenda/passeport-sante-pour-les-seniors-
 marche-en-pleine-conscience
DTSTART;TZID=Europe/Zurich:20260624T090000
DTEND;TZID=Europe/Zurich:20260624T100000
GEO:46.191509;6.121997
X-APPLE-STRUCTURED-LOCATION;VALUE=URI;X-ADDRESS=Chemin des Erables\, 1213 P
 etit-Lancy\, 1213 Genève\, Suisse;X-APPLE-RADIUS=72;X-TITLE=Parc Chuit:ge
 o:46.191509,6.121997
END:VEVENT
END:VCALENDAR