BEGIN:VCALENDAR
VERSION:2.0
PRODID:-//Les communes genevoises//Agenda//FR
NAME:Les communes genevoises
X-WR-CALNAME:Les communes genevoises
BEGIN:VTIMEZONE
TZID:Europe/Zurich
BEGIN:STANDARD
DTSTART:20251026T030000
TZOFFSETFROM:+0200
TZOFFSETTO:+0100
END:STANDARD
BEGIN:DAYLIGHT
DTSTART:20260329T010000
TZOFFSETFROM:+0100
TZOFFSETTO:+0200
END:DAYLIGHT
BEGIN:STANDARD
DTSTART:20261025T030000
TZOFFSETFROM:+0200
TZOFFSETTO:+0100
END:STANDARD
END:VTIMEZONE
BEGIN:VTIMEZONE
TZID:UTC
BEGIN:STANDARD
DTSTART:20250725T152401
TZOFFSETFROM:+0000
TZOFFSETTO:+0000
END:STANDARD
END:VTIMEZONE
BEGIN:VEVENT
UID:e3dfa5c1-cc95-4dd3-8700-117a6d6e742e-0
DTSTAMP:20260421T152401Z
SUMMARY:Repas en poésie en collaboration avec le Tea-Room « Le Temps d'un
  Arrêt »
DESCRIPTION:Plongez dans un voyage gastronomique et littéraire unique : «
  Poésie en été ». Une traversée sensorielle de saveurs et de mots\, h
 ors du temps et des frontières.
LOCATION:Avenue des Communes-Réunies 73 1212 Grand-Lancy\, 1212 Genève\, 
 Suisse
URL:https://www.geneve-communes.ch/agenda/repas-en-poesie-en-collaboration-
 avec-le-tea-room-le-temps-dun-arret
DTSTART;TZID=Europe/Zurich:20260618T120000
DTEND;TZID=Europe/Zurich:20260618T133000
GEO:46.172879;6.123776
X-APPLE-STRUCTURED-LOCATION;VALUE=URI;X-ADDRESS=Avenue des Communes-Réunie
 s 73 1212 Grand-Lancy\, 1212 Genève\, Suisse;X-APPLE-RADIUS=72;X-TITLE=Te
 a-room restaurant « Le Temps d’un Arrêt »:geo:46.172879,6.123776
END:VEVENT
BEGIN:VEVENT
UID:e3dfa5c1-cc95-4dd3-8700-117a6d6e742e-1
DTSTAMP:20260421T152401Z
SUMMARY:Repas en poésie en collaboration avec le Tea-Room « Le Temps d'un
  Arrêt »
DESCRIPTION:Plongez dans un voyage gastronomique et littéraire unique : «
  Poésie en été ». Une traversée sensorielle de saveurs et de mots\, h
 ors du temps et des frontières.
LOCATION:Avenue des Communes-Réunies 73 1212 Grand-Lancy\, 1212 Genève\, 
 Suisse
URL:https://www.geneve-communes.ch/agenda/repas-en-poesie-en-collaboration-
 avec-le-tea-room-le-temps-dun-arret
DTSTART;TZID=Europe/Zurich:20260625T120000
DTEND;TZID=Europe/Zurich:20260625T133000
GEO:46.172879;6.123776
X-APPLE-STRUCTURED-LOCATION;VALUE=URI;X-ADDRESS=Avenue des Communes-Réunie
 s 73 1212 Grand-Lancy\, 1212 Genève\, Suisse;X-APPLE-RADIUS=72;X-TITLE=Te
 a-room restaurant « Le Temps d’un Arrêt »:geo:46.172879,6.123776
END:VEVENT
BEGIN:VEVENT
UID:e3dfa5c1-cc95-4dd3-8700-117a6d6e742e-2
DTSTAMP:20260421T152401Z
SUMMARY:Repas en poésie en collaboration avec le Tea-Room « Le Temps d'un
  Arrêt »
DESCRIPTION:Plongez dans un voyage gastronomique et littéraire unique : «
  Poésie en été ». Une traversée sensorielle de saveurs et de mots\, h
 ors du temps et des frontières.
LOCATION:Avenue des Communes-Réunies 73 1212 Grand-Lancy\, 1212 Genève\, 
 Suisse
URL:https://www.geneve-communes.ch/agenda/repas-en-poesie-en-collaboration-
 avec-le-tea-room-le-temps-dun-arret
DTSTART;TZID=Europe/Zurich:20260702T120000
DTEND;TZID=Europe/Zurich:20260702T133000
GEO:46.172879;6.123776
X-APPLE-STRUCTURED-LOCATION;VALUE=URI;X-ADDRESS=Avenue des Communes-Réunie
 s 73 1212 Grand-Lancy\, 1212 Genève\, Suisse;X-APPLE-RADIUS=72;X-TITLE=Te
 a-room restaurant « Le Temps d’un Arrêt »:geo:46.172879,6.123776
END:VEVENT
BEGIN:VEVENT
UID:e3dfa5c1-cc95-4dd3-8700-117a6d6e742e-3
DTSTAMP:20260421T152401Z
SUMMARY:Repas en poésie en collaboration avec le Tea-Room « Le Temps d'un
  Arrêt »
DESCRIPTION:Plongez dans un voyage gastronomique et littéraire unique : «
  Poésie en été ». Une traversée sensorielle de saveurs et de mots\, h
 ors du temps et des frontières.
LOCATION:Avenue des Communes-Réunies 73 1212 Grand-Lancy\, 1212 Genève\, 
 Suisse
URL:https://www.geneve-communes.ch/agenda/repas-en-poesie-en-collaboration-
 avec-le-tea-room-le-temps-dun-arret
DTSTART;TZID=Europe/Zurich:20260709T120000
DTEND;TZID=Europe/Zurich:20260709T133000
GEO:46.172879;6.123776
X-APPLE-STRUCTURED-LOCATION;VALUE=URI;X-ADDRESS=Avenue des Communes-Réunie
 s 73 1212 Grand-Lancy\, 1212 Genève\, Suisse;X-APPLE-RADIUS=72;X-TITLE=Te
 a-room restaurant « Le Temps d’un Arrêt »:geo:46.172879,6.123776
END:VEVENT
END:VCALENDAR