BEGIN:VCALENDAR
VERSION:2.0
PRODID:-//Les communes genevoises//Agenda//FR
NAME:Les communes genevoises
X-WR-CALNAME:Les communes genevoises
BEGIN:VTIMEZONE
TZID:Europe/Zurich
BEGIN:STANDARD
DTSTART:20251026T030000
TZOFFSETFROM:+0200
TZOFFSETTO:+0100
END:STANDARD
BEGIN:DAYLIGHT
DTSTART:20260329T010000
TZOFFSETFROM:+0100
TZOFFSETTO:+0200
END:DAYLIGHT
BEGIN:STANDARD
DTSTART:20261025T030000
TZOFFSETFROM:+0200
TZOFFSETTO:+0100
END:STANDARD
END:VTIMEZONE
BEGIN:VTIMEZONE
TZID:UTC
BEGIN:STANDARD
DTSTART:20250725T152401
TZOFFSETFROM:+0000
TZOFFSETTO:+0000
END:STANDARD
END:VTIMEZONE
BEGIN:VEVENT
UID:58542731-06d5-4e05-9642-65313a33974a-0
DTSTAMP:20260421T152401Z
SUMMARY:Passeport Santé pour les seniors : Marche douce
DESCRIPTION:Marche douce pour découvrir le parc de la Mairie de Lancy et l
 e parc Sara Adélaïde Pictet-de-Rochemont avec Cycle de Vie
LOCATION:Route du Grand-Lancy 41\, 1212 Genève\, Suisse
URL:https://www.geneve-communes.ch/agenda/passeport-sante-pour-les-seniors-
 marche-douce
DTSTART;TZID=Europe/Zurich:20260610T090000
DTEND;TZID=Europe/Zurich:20260610T100000
GEO:46.184054;6.122667
X-APPLE-STRUCTURED-LOCATION;VALUE=URI;X-ADDRESS=Route du Grand-Lancy 41\, 1
 212 Genève\, Suisse;X-APPLE-RADIUS=72;X-TITLE=Mairie de Lancy:geo:46.1840
 54,6.122667
END:VEVENT
END:VCALENDAR