BEGIN:VCALENDAR
VERSION:2.0
PRODID:-//Les communes genevoises//Agenda//FR
NAME:Les communes genevoises
X-WR-CALNAME:Les communes genevoises
BEGIN:VTIMEZONE
TZID:Europe/Zurich
BEGIN:STANDARD
DTSTART:20251026T030000
TZOFFSETFROM:+0200
TZOFFSETTO:+0100
END:STANDARD
BEGIN:DAYLIGHT
DTSTART:20260329T010000
TZOFFSETFROM:+0100
TZOFFSETTO:+0200
END:DAYLIGHT
BEGIN:STANDARD
DTSTART:20261025T030000
TZOFFSETFROM:+0200
TZOFFSETTO:+0100
END:STANDARD
END:VTIMEZONE
BEGIN:VTIMEZONE
TZID:UTC
BEGIN:STANDARD
DTSTART:20250725T152401
TZOFFSETFROM:+0000
TZOFFSETTO:+0000
END:STANDARD
END:VTIMEZONE
BEGIN:VEVENT
UID:5bbabc26-71ee-434c-a307-f134809261f5-0
DTSTAMP:20260421T152401Z
SUMMARY:Vernissage de l'exposition 'helvetropicos. Más acá de lo (ir)real
 '
DESCRIPTION:Ce printemps\, la Villa Bernasconi invite la plateforme helvetr
 opicos qui réunit des artistes résidant en Suisse et entretenant une con
 nexion profonde avec l’Amérique latine.
LOCATION:Route du Grand-Lancy 8 1212 Grand-Lancy\, 1212 Lancy\, Suisse
URL:https://www.geneve-communes.ch/agenda/vernissage-de-lexposition-helvetr
 opicos-mas-aca-de-lo-irreal
DTSTART;TZID=Europe/Zurich:20260505T180000
DTEND;TZID=Europe/Zurich:20260505T210000
GEO:46.18697;6.122199
X-APPLE-STRUCTURED-LOCATION;VALUE=URI;X-ADDRESS=Route du Grand-Lancy 8 1212
  Grand-Lancy\, 1212 Lancy\, Suisse;X-APPLE-RADIUS=72;X-TITLE=Villa Bernasc
 oni:geo:46.18697,6.122199
END:VEVENT
END:VCALENDAR