BEGIN:VCALENDAR
VERSION:2.0
PRODID:-//Les communes genevoises//Agenda//FR
NAME:Les communes genevoises
X-WR-CALNAME:Les communes genevoises
BEGIN:VTIMEZONE
TZID:Europe/Zurich
BEGIN:STANDARD
DTSTART:20251026T030000
TZOFFSETFROM:+0200
TZOFFSETTO:+0100
END:STANDARD
BEGIN:DAYLIGHT
DTSTART:20260329T010000
TZOFFSETFROM:+0100
TZOFFSETTO:+0200
END:DAYLIGHT
BEGIN:STANDARD
DTSTART:20261025T030000
TZOFFSETFROM:+0200
TZOFFSETTO:+0100
END:STANDARD
END:VTIMEZONE
BEGIN:VTIMEZONE
TZID:UTC
BEGIN:STANDARD
DTSTART:20250725T152401
TZOFFSETFROM:+0000
TZOFFSETTO:+0000
END:STANDARD
END:VTIMEZONE
BEGIN:VEVENT
UID:9c67e6e5-301f-4062-b9e3-f05b92bd6b6f-0
DTSTAMP:20260421T152401Z
SUMMARY:Vernissage de 'Paysage impossible'
DESCRIPTION:Vernissage de l'exposition 'Paysage impossible' de Jessica Deco
 rvet à la Ferme de la Chapelle
LOCATION:39 route de la Chapelle  Grand-lancy\, 1256 Lancy\, Suisse
URL:https://www.geneve-communes.ch/agenda/vernissage-de-paysage-impossible
DTSTART;TZID=Europe/Zurich:20260428T180000
DTEND;TZID=Europe/Zurich:20260428T210000
GEO:46.171219;6.135693
X-APPLE-STRUCTURED-LOCATION;VALUE=URI;X-ADDRESS=39 route de la Chapelle  Gr
 and-lancy\, 1256 Lancy\, Suisse;X-APPLE-RADIUS=72;X-TITLE=Ferme de la Chap
 elle:geo:46.171219,6.135693
END:VEVENT
END:VCALENDAR