BEGIN:VCALENDAR
VERSION:2.0
PRODID:-//Les communes genevoises//Agenda//FR
NAME:Les communes genevoises
X-WR-CALNAME:Les communes genevoises
BEGIN:VTIMEZONE
TZID:Europe/Zurich
BEGIN:STANDARD
DTSTART:20251026T030000
TZOFFSETFROM:+0200
TZOFFSETTO:+0100
END:STANDARD
BEGIN:DAYLIGHT
DTSTART:20260329T010000
TZOFFSETFROM:+0100
TZOFFSETTO:+0200
END:DAYLIGHT
BEGIN:STANDARD
DTSTART:20261025T030000
TZOFFSETFROM:+0200
TZOFFSETTO:+0100
END:STANDARD
END:VTIMEZONE
BEGIN:VTIMEZONE
TZID:UTC
BEGIN:STANDARD
DTSTART:20250725T152401
TZOFFSETFROM:+0000
TZOFFSETTO:+0000
END:STANDARD
END:VTIMEZONE
BEGIN:VEVENT
UID:070e6550-21dd-48dd-85fa-e30c1c5f9d18-0
DTSTAMP:20260421T152401Z
SUMMARY:Meet&Climb - Découverte de l’escalade en blocs
DESCRIPTION:Initiation à l'escalade en bloc par le jeu au Parc Chuit & ren
 contre avec l’association Tchili Easy Learning.
LOCATION:Chemin des Erables\, 1213 Petit-Lancy\, 1213 Genève\, Suisse
URL:https://www.geneve-communes.ch/agenda/meetclimb-decouverte-de-lescalade
 -en-blocs
DTSTART;TZID=Europe/Zurich:20260428T163000
DTEND;TZID=Europe/Zurich:20260428T183000
GEO:46.191509;6.121997
X-APPLE-STRUCTURED-LOCATION;VALUE=URI;X-ADDRESS=Chemin des Erables\, 1213 P
 etit-Lancy\, 1213 Genève\, Suisse;X-APPLE-RADIUS=72;X-TITLE=Parc Chuit:ge
 o:46.191509,6.121997
END:VEVENT
END:VCALENDAR