BEGIN:VCALENDAR
VERSION:2.0
PRODID:-//Les communes genevoises//Agenda//FR
NAME:Les communes genevoises
X-WR-CALNAME:Les communes genevoises
BEGIN:VTIMEZONE
TZID:Europe/Zurich
BEGIN:STANDARD
DTSTART:20251026T030000
TZOFFSETFROM:+0200
TZOFFSETTO:+0100
END:STANDARD
BEGIN:DAYLIGHT
DTSTART:20260329T010000
TZOFFSETFROM:+0100
TZOFFSETTO:+0200
END:DAYLIGHT
BEGIN:STANDARD
DTSTART:20261025T030000
TZOFFSETFROM:+0200
TZOFFSETTO:+0100
END:STANDARD
END:VTIMEZONE
BEGIN:VTIMEZONE
TZID:UTC
BEGIN:STANDARD
DTSTART:20250725T141800
TZOFFSETFROM:+0000
TZOFFSETTO:+0000
END:STANDARD
END:VTIMEZONE
BEGIN:VEVENT
UID:a48c6d95-d8d8-4103-8ce0-3450aa9372f0-0
DTSTAMP:20260421T141800Z
SUMMARY:Méditer au MAH : La palette des émotions
DESCRIPTION:Bien-être au MAH
LOCATION:Rue Charles-GALLAND 2\, 1206 Genève\, 1205 Genève\, Suisse
URL:https://www.geneve-communes.ch/agenda/mediter-au-mah-la-palette-des-emo
 tions-0
DTSTART;TZID=Europe/Zurich:20260701T090000
DTEND;TZID=Europe/Zurich:20260701T100000
GEO:46.199364;6.151642
X-APPLE-STRUCTURED-LOCATION;VALUE=URI;X-ADDRESS=Rue Charles-GALLAND 2\, 120
 6 Genève\, 1205 Genève\, Suisse;X-APPLE-RADIUS=72;X-TITLE=Musée d'art e
 t d'histoire:geo:46.199364,6.151642
END:VEVENT
END:VCALENDAR