BEGIN:VCALENDAR
VERSION:2.0
PRODID:-//Les communes genevoises//Agenda//FR
NAME:Les communes genevoises
X-WR-CALNAME:Les communes genevoises
BEGIN:VTIMEZONE
TZID:Europe/Zurich
BEGIN:STANDARD
DTSTART:20251026T030000
TZOFFSETFROM:+0200
TZOFFSETTO:+0100
END:STANDARD
BEGIN:DAYLIGHT
DTSTART:20260329T010000
TZOFFSETFROM:+0100
TZOFFSETTO:+0200
END:DAYLIGHT
BEGIN:STANDARD
DTSTART:20261025T030000
TZOFFSETFROM:+0200
TZOFFSETTO:+0100
END:STANDARD
END:VTIMEZONE
BEGIN:VTIMEZONE
TZID:UTC
BEGIN:STANDARD
DTSTART:20250725T134200
TZOFFSETFROM:+0000
TZOFFSETTO:+0000
END:STANDARD
END:VTIMEZONE
BEGIN:VEVENT
UID:d572ce00-c795-4add-8886-ef95a4752b47-0
DTSTAMP:20260421T134200Z
SUMMARY:Ateliers numériques de mai - Permanence numérique Rive droite
DESCRIPTION:Dans le cadre des Permanences numériques\, la Ville de Genève
  et OSEO organisent des ateliers pratiques\, gratuits et sans inscription\
 , tous les vendredis et samedis en mai aux Pâquis.
LOCATION:Rue pécolat 5\, 1201 Genève\, Suisse
URL:https://www.geneve-communes.ch/agenda/ateliers-numeriques-de-mai-perman
 ence-numerique-rive-droite
DTSTART;TZID=Europe/Zurich:20260501T173000
DTEND;TZID=Europe/Zurich:20260501T190000
GEO:46.209003;6.146119
X-APPLE-STRUCTURED-LOCATION;VALUE=URI;X-ADDRESS=Rue pécolat 5\, 1201 Genè
 ve\, Suisse;X-APPLE-RADIUS=72;X-TITLE=OSEO Genève siège social:geo:46.20
 9003,6.146119
END:VEVENT
BEGIN:VEVENT
UID:d572ce00-c795-4add-8886-ef95a4752b47-1
DTSTAMP:20260421T134200Z
SUMMARY:Ateliers numériques de mai - Permanence numérique Rive droite
DESCRIPTION:Dans le cadre des Permanences numériques\, la Ville de Genève
  et OSEO organisent des ateliers pratiques\, gratuits et sans inscription\
 , tous les vendredis et samedis en mai aux Pâquis.
LOCATION:Rue pécolat 5\, 1201 Genève\, Suisse
URL:https://www.geneve-communes.ch/agenda/ateliers-numeriques-de-mai-perman
 ence-numerique-rive-droite
DTSTART;TZID=Europe/Zurich:20260502T093000
DTEND;TZID=Europe/Zurich:20260502T110000
GEO:46.209003;6.146119
X-APPLE-STRUCTURED-LOCATION;VALUE=URI;X-ADDRESS=Rue pécolat 5\, 1201 Genè
 ve\, Suisse;X-APPLE-RADIUS=72;X-TITLE=OSEO Genève siège social:geo:46.20
 9003,6.146119
END:VEVENT
BEGIN:VEVENT
UID:d572ce00-c795-4add-8886-ef95a4752b47-2
DTSTAMP:20260421T134200Z
SUMMARY:Ateliers numériques de mai - Permanence numérique Rive droite
DESCRIPTION:Dans le cadre des Permanences numériques\, la Ville de Genève
  et OSEO organisent des ateliers pratiques\, gratuits et sans inscription\
 , tous les vendredis et samedis en mai aux Pâquis.
LOCATION:Rue pécolat 5\, 1201 Genève\, Suisse
URL:https://www.geneve-communes.ch/agenda/ateliers-numeriques-de-mai-perman
 ence-numerique-rive-droite
DTSTART;TZID=Europe/Zurich:20260508T173000
DTEND;TZID=Europe/Zurich:20260508T190000
GEO:46.209003;6.146119
X-APPLE-STRUCTURED-LOCATION;VALUE=URI;X-ADDRESS=Rue pécolat 5\, 1201 Genè
 ve\, Suisse;X-APPLE-RADIUS=72;X-TITLE=OSEO Genève siège social:geo:46.20
 9003,6.146119
END:VEVENT
BEGIN:VEVENT
UID:d572ce00-c795-4add-8886-ef95a4752b47-3
DTSTAMP:20260421T134200Z
SUMMARY:Ateliers numériques de mai - Permanence numérique Rive droite
DESCRIPTION:Dans le cadre des Permanences numériques\, la Ville de Genève
  et OSEO organisent des ateliers pratiques\, gratuits et sans inscription\
 , tous les vendredis et samedis en mai aux Pâquis.
LOCATION:Rue pécolat 5\, 1201 Genève\, Suisse
URL:https://www.geneve-communes.ch/agenda/ateliers-numeriques-de-mai-perman
 ence-numerique-rive-droite
DTSTART;TZID=Europe/Zurich:20260509T093000
DTEND;TZID=Europe/Zurich:20260509T110000
GEO:46.209003;6.146119
X-APPLE-STRUCTURED-LOCATION;VALUE=URI;X-ADDRESS=Rue pécolat 5\, 1201 Genè
 ve\, Suisse;X-APPLE-RADIUS=72;X-TITLE=OSEO Genève siège social:geo:46.20
 9003,6.146119
END:VEVENT
BEGIN:VEVENT
UID:d572ce00-c795-4add-8886-ef95a4752b47-4
DTSTAMP:20260421T134200Z
SUMMARY:Ateliers numériques de mai - Permanence numérique Rive droite
DESCRIPTION:Dans le cadre des Permanences numériques\, la Ville de Genève
  et OSEO organisent des ateliers pratiques\, gratuits et sans inscription\
 , tous les vendredis et samedis en mai aux Pâquis.
LOCATION:Rue pécolat 5\, 1201 Genève\, Suisse
URL:https://www.geneve-communes.ch/agenda/ateliers-numeriques-de-mai-perman
 ence-numerique-rive-droite
DTSTART;TZID=Europe/Zurich:20260515T173000
DTEND;TZID=Europe/Zurich:20260515T190000
GEO:46.209003;6.146119
X-APPLE-STRUCTURED-LOCATION;VALUE=URI;X-ADDRESS=Rue pécolat 5\, 1201 Genè
 ve\, Suisse;X-APPLE-RADIUS=72;X-TITLE=OSEO Genève siège social:geo:46.20
 9003,6.146119
END:VEVENT
BEGIN:VEVENT
UID:d572ce00-c795-4add-8886-ef95a4752b47-5
DTSTAMP:20260421T134200Z
SUMMARY:Ateliers numériques de mai - Permanence numérique Rive droite
DESCRIPTION:Dans le cadre des Permanences numériques\, la Ville de Genève
  et OSEO organisent des ateliers pratiques\, gratuits et sans inscription\
 , tous les vendredis et samedis en mai aux Pâquis.
LOCATION:Rue pécolat 5\, 1201 Genève\, Suisse
URL:https://www.geneve-communes.ch/agenda/ateliers-numeriques-de-mai-perman
 ence-numerique-rive-droite
DTSTART;TZID=Europe/Zurich:20260516T093000
DTEND;TZID=Europe/Zurich:20260516T110000
GEO:46.209003;6.146119
X-APPLE-STRUCTURED-LOCATION;VALUE=URI;X-ADDRESS=Rue pécolat 5\, 1201 Genè
 ve\, Suisse;X-APPLE-RADIUS=72;X-TITLE=OSEO Genève siège social:geo:46.20
 9003,6.146119
END:VEVENT
BEGIN:VEVENT
UID:d572ce00-c795-4add-8886-ef95a4752b47-6
DTSTAMP:20260421T134200Z
SUMMARY:Ateliers numériques de mai - Permanence numérique Rive droite
DESCRIPTION:Dans le cadre des Permanences numériques\, la Ville de Genève
  et OSEO organisent des ateliers pratiques\, gratuits et sans inscription\
 , tous les vendredis et samedis en mai aux Pâquis.
LOCATION:Rue pécolat 5\, 1201 Genève\, Suisse
URL:https://www.geneve-communes.ch/agenda/ateliers-numeriques-de-mai-perman
 ence-numerique-rive-droite
DTSTART;TZID=Europe/Zurich:20260522T173000
DTEND;TZID=Europe/Zurich:20260522T190000
GEO:46.209003;6.146119
X-APPLE-STRUCTURED-LOCATION;VALUE=URI;X-ADDRESS=Rue pécolat 5\, 1201 Genè
 ve\, Suisse;X-APPLE-RADIUS=72;X-TITLE=OSEO Genève siège social:geo:46.20
 9003,6.146119
END:VEVENT
BEGIN:VEVENT
UID:d572ce00-c795-4add-8886-ef95a4752b47-7
DTSTAMP:20260421T134200Z
SUMMARY:Ateliers numériques de mai - Permanence numérique Rive droite
DESCRIPTION:Dans le cadre des Permanences numériques\, la Ville de Genève
  et OSEO organisent des ateliers pratiques\, gratuits et sans inscription\
 , tous les vendredis et samedis en mai aux Pâquis.
LOCATION:Rue pécolat 5\, 1201 Genève\, Suisse
URL:https://www.geneve-communes.ch/agenda/ateliers-numeriques-de-mai-perman
 ence-numerique-rive-droite
DTSTART;TZID=Europe/Zurich:20260523T093000
DTEND;TZID=Europe/Zurich:20260523T110000
GEO:46.209003;6.146119
X-APPLE-STRUCTURED-LOCATION;VALUE=URI;X-ADDRESS=Rue pécolat 5\, 1201 Genè
 ve\, Suisse;X-APPLE-RADIUS=72;X-TITLE=OSEO Genève siège social:geo:46.20
 9003,6.146119
END:VEVENT
BEGIN:VEVENT
UID:d572ce00-c795-4add-8886-ef95a4752b47-8
DTSTAMP:20260421T134200Z
SUMMARY:Ateliers numériques de mai - Permanence numérique Rive droite
DESCRIPTION:Dans le cadre des Permanences numériques\, la Ville de Genève
  et OSEO organisent des ateliers pratiques\, gratuits et sans inscription\
 , tous les vendredis et samedis en mai aux Pâquis.
LOCATION:Rue pécolat 5\, 1201 Genève\, Suisse
URL:https://www.geneve-communes.ch/agenda/ateliers-numeriques-de-mai-perman
 ence-numerique-rive-droite
DTSTART;TZID=Europe/Zurich:20260529T173000
DTEND;TZID=Europe/Zurich:20260529T190000
GEO:46.209003;6.146119
X-APPLE-STRUCTURED-LOCATION;VALUE=URI;X-ADDRESS=Rue pécolat 5\, 1201 Genè
 ve\, Suisse;X-APPLE-RADIUS=72;X-TITLE=OSEO Genève siège social:geo:46.20
 9003,6.146119
END:VEVENT
BEGIN:VEVENT
UID:d572ce00-c795-4add-8886-ef95a4752b47-9
DTSTAMP:20260421T134200Z
SUMMARY:Ateliers numériques de mai - Permanence numérique Rive droite
DESCRIPTION:Dans le cadre des Permanences numériques\, la Ville de Genève
  et OSEO organisent des ateliers pratiques\, gratuits et sans inscription\
 , tous les vendredis et samedis en mai aux Pâquis.
LOCATION:Rue pécolat 5\, 1201 Genève\, Suisse
URL:https://www.geneve-communes.ch/agenda/ateliers-numeriques-de-mai-perman
 ence-numerique-rive-droite
DTSTART;TZID=Europe/Zurich:20260530T093000
DTEND;TZID=Europe/Zurich:20260530T110000
GEO:46.209003;6.146119
X-APPLE-STRUCTURED-LOCATION;VALUE=URI;X-ADDRESS=Rue pécolat 5\, 1201 Genè
 ve\, Suisse;X-APPLE-RADIUS=72;X-TITLE=OSEO Genève siège social:geo:46.20
 9003,6.146119
END:VEVENT
END:VCALENDAR