BEGIN:VCALENDAR
VERSION:2.0
PRODID:-//Les communes genevoises//Agenda//FR
NAME:Les communes genevoises
X-WR-CALNAME:Les communes genevoises
BEGIN:VTIMEZONE
TZID:Europe/Zurich
BEGIN:STANDARD
DTSTART:20251026T030000
TZOFFSETFROM:+0200
TZOFFSETTO:+0100
END:STANDARD
BEGIN:DAYLIGHT
DTSTART:20260329T010000
TZOFFSETFROM:+0100
TZOFFSETTO:+0200
END:DAYLIGHT
BEGIN:STANDARD
DTSTART:20261025T030000
TZOFFSETFROM:+0200
TZOFFSETTO:+0100
END:STANDARD
END:VTIMEZONE
BEGIN:VTIMEZONE
TZID:UTC
BEGIN:STANDARD
DTSTART:20250725T131800
TZOFFSETFROM:+0000
TZOFFSETTO:+0000
END:STANDARD
END:VTIMEZONE
BEGIN:VEVENT
UID:8c86fb85-c8ed-4290-90f0-c26b1a83e0da-0
DTSTAMP:20260421T131800Z
SUMMARY:Visite guidée de la Biennale (re)connecting.earth 2026
DESCRIPTION:Cinq visites guidées publiques de la Biennale sont données le
 s samedis à 11h - départ Comédie de Genève
LOCATION:Esplanade Alice-BAILLY 1\, 1207 Genève\, 1208 Genève\, Suisse
URL:https://www.geneve-communes.ch/agenda/visite-guidee-de-la-biennale-reco
 nnectingearth-2026
DTSTART;TZID=Europe/Zurich:20260509T110000
DTEND;TZID=Europe/Zurich:20260509T130000
GEO:46.200954;6.165609
X-APPLE-STRUCTURED-LOCATION;VALUE=URI;X-ADDRESS=Esplanade Alice-BAILLY 1\, 
 1207 Genève\, 1208 Genève\, Suisse;X-APPLE-RADIUS=72;X-TITLE=La Comédie
  de Genève:geo:46.200954,6.165609
END:VEVENT
BEGIN:VEVENT
UID:8c86fb85-c8ed-4290-90f0-c26b1a83e0da-1
DTSTAMP:20260421T131800Z
SUMMARY:Visite guidée de la Biennale (re)connecting.earth 2026
DESCRIPTION:Cinq visites guidées publiques de la Biennale sont données le
 s samedis à 11h - départ Comédie de Genève
LOCATION:Esplanade Alice-BAILLY 1\, 1207 Genève\, 1208 Genève\, Suisse
URL:https://www.geneve-communes.ch/agenda/visite-guidee-de-la-biennale-reco
 nnectingearth-2026
DTSTART;TZID=Europe/Zurich:20260516T110000
DTEND;TZID=Europe/Zurich:20260516T130000
GEO:46.200954;6.165609
X-APPLE-STRUCTURED-LOCATION;VALUE=URI;X-ADDRESS=Esplanade Alice-BAILLY 1\, 
 1207 Genève\, 1208 Genève\, Suisse;X-APPLE-RADIUS=72;X-TITLE=La Comédie
  de Genève:geo:46.200954,6.165609
END:VEVENT
BEGIN:VEVENT
UID:8c86fb85-c8ed-4290-90f0-c26b1a83e0da-2
DTSTAMP:20260421T131800Z
SUMMARY:Visite guidée de la Biennale (re)connecting.earth 2026
DESCRIPTION:Cinq visites guidées publiques de la Biennale sont données le
 s samedis à 11h - départ Comédie de Genève
LOCATION:Esplanade Alice-BAILLY 1\, 1207 Genève\, 1208 Genève\, Suisse
URL:https://www.geneve-communes.ch/agenda/visite-guidee-de-la-biennale-reco
 nnectingearth-2026
DTSTART;TZID=Europe/Zurich:20260523T110000
DTEND;TZID=Europe/Zurich:20260523T130000
GEO:46.200954;6.165609
X-APPLE-STRUCTURED-LOCATION;VALUE=URI;X-ADDRESS=Esplanade Alice-BAILLY 1\, 
 1207 Genève\, 1208 Genève\, Suisse;X-APPLE-RADIUS=72;X-TITLE=La Comédie
  de Genève:geo:46.200954,6.165609
END:VEVENT
BEGIN:VEVENT
UID:8c86fb85-c8ed-4290-90f0-c26b1a83e0da-3
DTSTAMP:20260421T131800Z
SUMMARY:Visite guidée de la Biennale (re)connecting.earth 2026
DESCRIPTION:Cinq visites guidées publiques de la Biennale sont données le
 s samedis à 11h - départ Comédie de Genève
LOCATION:Esplanade Alice-BAILLY 1\, 1207 Genève\, 1208 Genève\, Suisse
URL:https://www.geneve-communes.ch/agenda/visite-guidee-de-la-biennale-reco
 nnectingearth-2026
DTSTART;TZID=Europe/Zurich:20260530T110000
DTEND;TZID=Europe/Zurich:20260530T130000
GEO:46.200954;6.165609
X-APPLE-STRUCTURED-LOCATION;VALUE=URI;X-ADDRESS=Esplanade Alice-BAILLY 1\, 
 1207 Genève\, 1208 Genève\, Suisse;X-APPLE-RADIUS=72;X-TITLE=La Comédie
  de Genève:geo:46.200954,6.165609
END:VEVENT
BEGIN:VEVENT
UID:8c86fb85-c8ed-4290-90f0-c26b1a83e0da-4
DTSTAMP:20260421T131800Z
SUMMARY:Visite guidée de la Biennale (re)connecting.earth 2026
DESCRIPTION:Cinq visites guidées publiques de la Biennale sont données le
 s samedis à 11h - départ Comédie de Genève
LOCATION:Esplanade Alice-BAILLY 1\, 1207 Genève\, 1208 Genève\, Suisse
URL:https://www.geneve-communes.ch/agenda/visite-guidee-de-la-biennale-reco
 nnectingearth-2026
DTSTART;TZID=Europe/Zurich:20260606T110000
DTEND;TZID=Europe/Zurich:20260606T130000
GEO:46.200954;6.165609
X-APPLE-STRUCTURED-LOCATION;VALUE=URI;X-ADDRESS=Esplanade Alice-BAILLY 1\, 
 1207 Genève\, 1208 Genève\, Suisse;X-APPLE-RADIUS=72;X-TITLE=La Comédie
  de Genève:geo:46.200954,6.165609
END:VEVENT
END:VCALENDAR