BEGIN:VCALENDAR
VERSION:2.0
PRODID:-//Les communes genevoises//Agenda//FR
NAME:Les communes genevoises
X-WR-CALNAME:Les communes genevoises
BEGIN:VTIMEZONE
TZID:Europe/Zurich
BEGIN:STANDARD
DTSTART:20251026T030000
TZOFFSETFROM:+0200
TZOFFSETTO:+0100
END:STANDARD
BEGIN:DAYLIGHT
DTSTART:20260329T010000
TZOFFSETFROM:+0100
TZOFFSETTO:+0200
END:DAYLIGHT
BEGIN:STANDARD
DTSTART:20261025T030000
TZOFFSETFROM:+0200
TZOFFSETTO:+0100
END:STANDARD
END:VTIMEZONE
BEGIN:VTIMEZONE
TZID:UTC
BEGIN:STANDARD
DTSTART:20250725T131800
TZOFFSETFROM:+0000
TZOFFSETTO:+0000
END:STANDARD
END:VTIMEZONE
BEGIN:VEVENT
UID:c215f8a0-ed78-4398-9b9b-015033447b42-0
DTSTAMP:20260421T131800Z
SUMMARY:Visite à vélo de la Biennale (re)connecting.earth 2026 - Art\, é
 cologie et mobilité douce
DESCRIPTION:Une balade guidée transfrontalière à vélo pour découvrir l
 es œuvres de la Biennale le long de la Voie verte\, entre Genève et Anne
 masse.
LOCATION:Esplanade Alice-BAILLY 1\, 1207 Genève\, 1208 Genève\, Suisse
URL:https://www.geneve-communes.ch/agenda/visite-velo-de-la-biennale-reconn
 ectingearth-2026-art-ecologie-et-mobilite-douce
DTSTART;TZID=Europe/Zurich:20260502T140000
DTEND;TZID=Europe/Zurich:20260502T173000
GEO:46.200954;6.165609
X-APPLE-STRUCTURED-LOCATION;VALUE=URI;X-ADDRESS=Esplanade Alice-BAILLY 1\, 
 1207 Genève\, 1208 Genève\, Suisse;X-APPLE-RADIUS=72;X-TITLE=La Comédie
  de Genève:geo:46.200954,6.165609
END:VEVENT
BEGIN:VEVENT
UID:c215f8a0-ed78-4398-9b9b-015033447b42-1
DTSTAMP:20260421T131800Z
SUMMARY:Visite à vélo de la Biennale (re)connecting.earth 2026 - Art\, é
 cologie et mobilité douce
DESCRIPTION:Une balade guidée transfrontalière à vélo pour découvrir l
 es œuvres de la Biennale le long de la Voie verte\, entre Genève et Anne
 masse.
LOCATION:Esplanade Alice-BAILLY 1\, 1207 Genève\, 1208 Genève\, Suisse
URL:https://www.geneve-communes.ch/agenda/visite-velo-de-la-biennale-reconn
 ectingearth-2026-art-ecologie-et-mobilite-douce
DTSTART;TZID=Europe/Zurich:20260606T140000
DTEND;TZID=Europe/Zurich:20260606T173000
GEO:46.200954;6.165609
X-APPLE-STRUCTURED-LOCATION;VALUE=URI;X-ADDRESS=Esplanade Alice-BAILLY 1\, 
 1207 Genève\, 1208 Genève\, Suisse;X-APPLE-RADIUS=72;X-TITLE=La Comédie
  de Genève:geo:46.200954,6.165609
END:VEVENT
END:VCALENDAR