BEGIN:VCALENDAR
VERSION:2.0
PRODID:-//Les communes genevoises//Agenda//FR
NAME:Les communes genevoises
X-WR-CALNAME:Les communes genevoises
BEGIN:VTIMEZONE
TZID:Europe/Zurich
BEGIN:STANDARD
DTSTART:20251026T030000
TZOFFSETFROM:+0200
TZOFFSETTO:+0100
END:STANDARD
BEGIN:DAYLIGHT
DTSTART:20260329T010000
TZOFFSETFROM:+0100
TZOFFSETTO:+0200
END:DAYLIGHT
BEGIN:STANDARD
DTSTART:20261025T030000
TZOFFSETFROM:+0200
TZOFFSETTO:+0100
END:STANDARD
END:VTIMEZONE
BEGIN:VTIMEZONE
TZID:UTC
BEGIN:STANDARD
DTSTART:20250725T125600
TZOFFSETFROM:+0000
TZOFFSETTO:+0000
END:STANDARD
END:VTIMEZONE
BEGIN:VEVENT
UID:1dcde87a-5e66-4e84-a90b-cbc1622edaac-0
DTSTAMP:20260421T125600Z
SUMMARY:Spectacle Dédomestication - Soya the Cow & Uhura - Biennale (re)co
 nnecting.earth 2026 à la Comédie de Genève
DESCRIPTION:Une performance mêlant drag\, activisme et écologie pour inte
 rroger les liens entre colonialisme\, domestication et destruction des éc
 osystèmes.
LOCATION:Esplanade Alice-BAILLY 1\, 1207 Genève\, 1208 Genève\, Suisse
URL:https://www.geneve-communes.ch/agenda/spectacle-dedomestication-soya-co
 w-uhura-biennale-reconnectingearth-2026-la-comedie-de
DTSTART;TZID=Europe/Zurich:20260607T140000
DTEND;TZID=Europe/Zurich:20260607T150000
GEO:46.200954;6.165609
X-APPLE-STRUCTURED-LOCATION;VALUE=URI;X-ADDRESS=Esplanade Alice-BAILLY 1\, 
 1207 Genève\, 1208 Genève\, Suisse;X-APPLE-RADIUS=72;X-TITLE=La Comédie
  de Genève:geo:46.200954,6.165609
END:VEVENT
BEGIN:VEVENT
UID:1dcde87a-5e66-4e84-a90b-cbc1622edaac-1
DTSTAMP:20260421T125600Z
SUMMARY:Spectacle Dédomestication - Soya the Cow & Uhura - Biennale (re)co
 nnecting.earth 2026 à la Comédie de Genève
DESCRIPTION:Une performance mêlant drag\, activisme et écologie pour inte
 rroger les liens entre colonialisme\, domestication et destruction des éc
 osystèmes.
LOCATION:Esplanade Alice-BAILLY 1\, 1207 Genève\, 1208 Genève\, Suisse
URL:https://www.geneve-communes.ch/agenda/spectacle-dedomestication-soya-co
 w-uhura-biennale-reconnectingearth-2026-la-comedie-de
DTSTART;TZID=Europe/Zurich:20260607T163000
DTEND;TZID=Europe/Zurich:20260607T173000
GEO:46.200954;6.165609
X-APPLE-STRUCTURED-LOCATION;VALUE=URI;X-ADDRESS=Esplanade Alice-BAILLY 1\, 
 1207 Genève\, 1208 Genève\, Suisse;X-APPLE-RADIUS=72;X-TITLE=La Comédie
  de Genève:geo:46.200954,6.165609
END:VEVENT
END:VCALENDAR